BEGIN:VCALENDAR
VERSION:2.0
PRODID:-//Pfarrverband Hernals - ECPv6.15.20//NONSGML v1.0//EN
CALSCALE:GREGORIAN
METHOD:PUBLISH
X-ORIGINAL-URL:https://katholisch-hernals.at
X-WR-CALDESC:Veranstaltungen für Pfarrverband Hernals
REFRESH-INTERVAL;VALUE=DURATION:PT1H
X-Robots-Tag:noindex
X-PUBLISHED-TTL:PT1H
BEGIN:VTIMEZONE
TZID:Europe/Vienna
BEGIN:DAYLIGHT
TZOFFSETFROM:+0100
TZOFFSETTO:+0200
TZNAME:CEST
DTSTART:20160327T010000
END:DAYLIGHT
BEGIN:STANDARD
TZOFFSETFROM:+0200
TZOFFSETTO:+0100
TZNAME:CET
DTSTART:20161030T010000
END:STANDARD
BEGIN:DAYLIGHT
TZOFFSETFROM:+0100
TZOFFSETTO:+0200
TZNAME:CEST
DTSTART:20170326T010000
END:DAYLIGHT
BEGIN:STANDARD
TZOFFSETFROM:+0200
TZOFFSETTO:+0100
TZNAME:CET
DTSTART:20171029T010000
END:STANDARD
BEGIN:DAYLIGHT
TZOFFSETFROM:+0100
TZOFFSETTO:+0200
TZNAME:CEST
DTSTART:20180325T010000
END:DAYLIGHT
BEGIN:STANDARD
TZOFFSETFROM:+0200
TZOFFSETTO:+0100
TZNAME:CET
DTSTART:20181028T010000
END:STANDARD
END:VTIMEZONE
BEGIN:VEVENT
DTSTART;TZID=Europe/Vienna:20171201T153000
DTEND;TZID=Europe/Vienna:20171201T180000
DTSTAMP:20260422T063343
CREATED:20171123T202118Z
LAST-MODIFIED:20171128T110138Z
UID:435-1512142200-1512151200@katholisch-hernals.at
SUMMARY:Adventkranzbinden
DESCRIPTION:Reisig\, Reifen\, Kerzen\, Bänder und anderes\nDekorationsmaterial ist erhältlich.\nWerkzeug (Schere\, Zange) bitte mitnehmen.
URL:https://katholisch-hernals.at/event/adventkranzbinden/
LOCATION:B.R.O.T. Haus\, Geblergasse 78\, Wien\, 1170\, Österreich
CATEGORIES:Erwachsene,Jugendliche 14+,Junge Erwachsene,Kinder 10-14,Kreativität,Paare mit Kindern,Paare ohne Kinder,Schulkinder 6-10,Senioren,Singles
END:VEVENT
BEGIN:VEVENT
DTSTART;TZID=Europe/Vienna:20171202T150000
DTEND;TZID=Europe/Vienna:20171202T190000
DTSTAMP:20260422T063343
CREATED:20171128T103004Z
LAST-MODIFIED:20171128T105854Z
UID:502-1512226800-1512241200@katholisch-hernals.at
SUMMARY:Weihnachtsmarkt
DESCRIPTION:
URL:https://katholisch-hernals.at/event/weihnachtsmarkt/
LOCATION:Sühnekirche – Pfarre\, Alszeile 7\, Wien\, 1170\, Österreich
CATEGORIES:Erwachsene,Flohmarkt,Jugendliche 14+,Junge Erwachsene,Kinder,Kinder 10-14,Kindergartenkinder 3-6,Kreativität,Paare mit Kindern,Paare ohne Kinder,Schulkinder 6-10,Senioren,Singles
ORGANIZER;CN="S%C3%BChnekirche":MAILTO:pfarramt-suehnekirche@chello.at
END:VEVENT
BEGIN:VEVENT
DTSTART;TZID=Europe/Vienna:20171202T173000
DTEND;TZID=Europe/Vienna:20171202T183000
DTSTAMP:20260422T063343
CREATED:20171128T103149Z
LAST-MODIFIED:20171128T110014Z
UID:504-1512235800-1512239400@katholisch-hernals.at
SUMMARY:Adventkranzsegnung
DESCRIPTION:
URL:https://katholisch-hernals.at/event/adventkranzsegnung/
LOCATION:Pfarre Hernals – Kirche\, Sankt-Bartholomäus-Platz 3\, Wien\, 1170\, Österreich
CATEGORIES:Erwachsene,Gebet,Gottesdienst,Jugendliche 14+,Junge Erwachsene,Kinder,Kinder 10-14,Kindergartenkinder 3-6,Kleinkinder 0-3,Paare mit Kindern,Paare ohne Kinder,Schulkinder 6-10,Senioren,Singles,Spiritualität
ORGANIZER;CN="Pfarre Hernals":MAILTO:kanzlei@kalvarienbergkirche.at
END:VEVENT
BEGIN:VEVENT
DTSTART;TZID=Europe/Vienna:20171202T183000
DTEND;TZID=Europe/Vienna:20171202T193000
DTSTAMP:20260422T063343
CREATED:20171128T103314Z
LAST-MODIFIED:20171128T110046Z
UID:506-1512239400-1512243000@katholisch-hernals.at
SUMMARY:Abendmesse mit Adventkranzweihe
DESCRIPTION:
URL:https://katholisch-hernals.at/event/abendmesse-mit-adventkranzweihe/
LOCATION:Marienpfarre – Kirche\, Clemens Hofbauerplatz\, Wien\, 1170\, Österreich
CATEGORIES:Erwachsene,Gebet,Gottesdienst,Jugendliche 14+,Junge Erwachsene,Kinder,Kinder 10-14,Kindergartenkinder 3-6,Kleinkinder 0-3,Paare mit Kindern,Paare ohne Kinder,Schulkinder 6-10,Senioren,Singles,Spiritualität
ORGANIZER;CN="Marienpfarre":MAILTO:kanzlei@marienpfarre.at
END:VEVENT
BEGIN:VEVENT
DTSTART;TZID=Europe/Vienna:20171202T184500
DTEND;TZID=Europe/Vienna:20171202T184500
DTSTAMP:20260422T063343
CREATED:20171128T103520Z
LAST-MODIFIED:20171128T110207Z
UID:508-1512240300-1512240300@katholisch-hernals.at
SUMMARY:Adventkonzert
DESCRIPTION:Das Vokalensemble 8 d’accord präsentiert Adventliches aus verschiedenen Ländern und Epochen.
URL:https://katholisch-hernals.at/event/adventkonzert/
LOCATION:Pfarre Hernals – Kirche\, Sankt-Bartholomäus-Platz 3\, Wien\, 1170\, Österreich
CATEGORIES:Erwachsene,Junge Erwachsene,Kultur,Musik (klassisch),Musik (modern),Paare ohne Kinder,Senioren,Singles
ORGANIZER;CN="Pfarre Hernals":MAILTO:kanzlei@kalvarienbergkirche.at
END:VEVENT
BEGIN:VEVENT
DTSTART;TZID=Europe/Vienna:20171203T090000
DTEND;TZID=Europe/Vienna:20171203T170000
DTSTAMP:20260422T063343
CREATED:20171128T104028Z
LAST-MODIFIED:20171128T105937Z
UID:510-1512291600-1512320400@katholisch-hernals.at
SUMMARY:Weihnachtsmarkt
DESCRIPTION:
URL:https://katholisch-hernals.at/event/weihnachtsmarkt-2/
LOCATION:Sühnekirche – Pfarre\, Alszeile 7\, Wien\, 1170\, Österreich
CATEGORIES:Erwachsene,Flohmarkt,Jugendliche 14+,Junge Erwachsene,Kinder,Kinder 10-14,Kindergartenkinder 3-6,Kreativität,Paare mit Kindern,Paare ohne Kinder,Schulkinder 6-10,Senioren,Singles
ORGANIZER;CN="S%C3%BChnekirche":MAILTO:pfarramt-suehnekirche@chello.at
END:VEVENT
BEGIN:VEVENT
DTSTART;TZID=Europe/Vienna:20171203T101500
DTEND;TZID=Europe/Vienna:20171203T111500
DTSTAMP:20260422T063343
CREATED:20171128T104215Z
LAST-MODIFIED:20171128T110236Z
UID:512-1512296100-1512299700@katholisch-hernals.at
SUMMARY:Messfeier und Kinderwortgottesdienst
DESCRIPTION:
URL:https://katholisch-hernals.at/event/messfeier-und-kinderwortgottesdienst/
LOCATION:Pfarre Hernals – Kirche\, Sankt-Bartholomäus-Platz 3\, Wien\, 1170\, Österreich
CATEGORIES:Gebet,Gottesdienst,Kinder,Kinder 10-14,Kindergartenkinder 3-6,Kleinkinder 0-3,Paare mit Kindern,Schulkinder 6-10
ORGANIZER;CN="Pfarre Hernals":MAILTO:kanzlei@kalvarienbergkirche.at
END:VEVENT
BEGIN:VEVENT
DTSTART;TZID=Europe/Vienna:20171204T163000
DTEND;TZID=Europe/Vienna:20171204T173000
DTSTAMP:20260422T063343
CREATED:20171128T104424Z
LAST-MODIFIED:20171128T105815Z
UID:514-1512405000-1512408600@katholisch-hernals.at
SUMMARY:Das jüdische Selbstverständnis
DESCRIPTION:Das jüdische Selbstverständnis – gelebtes Judentum: Alltag und Shabbat \nReferenten: Dr. Willy und Eva Weisz
URL:https://katholisch-hernals.at/event/das-juedische-selbstverstaendnis/
LOCATION:Pfarre Hernals\, Sankt-Bartholomäus-Platz 3\, Wien\, 1170\, Österreich
CATEGORIES:Austausch,Erwachsene,Junge Erwachsene,Paare ohne Kinder,Senioren,Singles,Weiterbildung
ORGANIZER;CN="Pfarre Hernals":MAILTO:kanzlei@kalvarienbergkirche.at
END:VEVENT
BEGIN:VEVENT
DTSTART;TZID=Europe/Vienna:20171207T190000
DTEND;TZID=Europe/Vienna:20171207T200000
DTSTAMP:20260422T063343
CREATED:20171128T104616Z
LAST-MODIFIED:20171128T105539Z
UID:516-1512673200-1512676800@katholisch-hernals.at
SUMMARY:Ich vor Gott
DESCRIPTION:Eine Stunde des Betens und des schlichten Daseins vor Gott
URL:https://katholisch-hernals.at/event/ich-vor-gott/
LOCATION:Pfarre Hernals – Kirche\, Sankt-Bartholomäus-Platz 3\, Wien\, 1170\, Österreich
CATEGORIES:Erwachsene,Gebet,Junge Erwachsene,Paare ohne Kinder,Senioren,Singles,Spiritualität
ORGANIZER;CN="Pfarre Hernals":MAILTO:kanzlei@kalvarienbergkirche.at
END:VEVENT
BEGIN:VEVENT
DTSTART;TZID=Europe/Vienna:20171208T083000
DTEND;TZID=Europe/Vienna:20171208T093000
DTSTAMP:20260422T063343
CREATED:20171128T110512Z
LAST-MODIFIED:20171128T110512Z
UID:519-1512721800-1512725400@katholisch-hernals.at
SUMMARY:Hl. Messe
DESCRIPTION:
URL:https://katholisch-hernals.at/event/hl-messe/
LOCATION:Sühnekirche\, Dr.-Josef-Resch-Platz 12\, Wien\, 1170\, Österreich
CATEGORIES:Erwachsene,Gebet,Gottesdienst,Junge Erwachsene,Paare ohne Kinder,Senioren,Singles
ORGANIZER;CN="S%C3%BChnekirche":MAILTO:pfarramt-suehnekirche@chello.at
END:VEVENT
BEGIN:VEVENT
DTSTART;TZID=Europe/Vienna:20171208T093000
DTEND;TZID=Europe/Vienna:20171208T103000
DTSTAMP:20260422T063343
CREATED:20171128T110630Z
LAST-MODIFIED:20171128T110630Z
UID:521-1512725400-1512729000@katholisch-hernals.at
SUMMARY:Hochamt
DESCRIPTION:Hans Leo Hassler\, Missa super Dixit Maria
URL:https://katholisch-hernals.at/event/hochamt/
LOCATION:Marienpfarre – Kirche\, Clemens Hofbauerplatz\, Wien\, 1170\, Österreich
CATEGORIES:Erwachsene,Gebet,Gottesdienst,Junge Erwachsene,Musik (klassisch),Paare ohne Kinder,Senioren,Singles
ORGANIZER;CN="Marienpfarre":MAILTO:kanzlei@marienpfarre.at
END:VEVENT
BEGIN:VEVENT
DTSTART;TZID=Europe/Vienna:20171208T100000
DTEND;TZID=Europe/Vienna:20171208T110000
DTSTAMP:20260422T063343
CREATED:20171128T110752Z
LAST-MODIFIED:20171128T110752Z
UID:523-1512727200-1512730800@katholisch-hernals.at
SUMMARY:Hl. Messe
DESCRIPTION:
URL:https://katholisch-hernals.at/event/hl-messe-2/
LOCATION:Sühnekirche\, Dr.-Josef-Resch-Platz 12\, Wien\, 1170\, Österreich
CATEGORIES:Erwachsene,Gebet,Gottesdienst,Junge Erwachsene,Paare ohne Kinder,Senioren,Singles
ORGANIZER;CN="S%C3%BChnekirche":MAILTO:pfarramt-suehnekirche@chello.at
END:VEVENT
BEGIN:VEVENT
DTSTART;TZID=Europe/Vienna:20171208T100000
DTEND;TZID=Europe/Vienna:20171208T110000
DTSTAMP:20260422T063343
CREATED:20171128T110916Z
LAST-MODIFIED:20171128T110916Z
UID:525-1512727200-1512730800@katholisch-hernals.at
SUMMARY:Hl. Messe
DESCRIPTION:gestaltet vom Chor Cantamus\, Leitung: Ruth Hiltz-Tiefenbach
URL:https://katholisch-hernals.at/event/hl-messe-3/
LOCATION:Pfarre Dornbach – Kirche\, Rupertusplatz\, Wien\, 1170\, Österreich
CATEGORIES:Erwachsene,Gottesdienst,Junge Erwachsene,Paare ohne Kinder,Senioren,Singles
ORGANIZER;CN="Pfarre Dornbach":MAILTO:kanzlei@pfarredornbach.at
END:VEVENT
BEGIN:VEVENT
DTSTART;TZID=Europe/Vienna:20171208T160000
DTEND;TZID=Europe/Vienna:20171208T170000
DTSTAMP:20260422T063343
CREATED:20171128T111120Z
LAST-MODIFIED:20171128T111120Z
UID:527-1512748800-1512752400@katholisch-hernals.at
SUMMARY:Weihnachtskonzert Chor Cantamus
DESCRIPTION:Leitung: Ruth Hiltz-Tiefenbach\, Eintritt frei
URL:https://katholisch-hernals.at/event/weihnachtskonzert-chor-cantamus/
LOCATION:Pfarre Dornbach – Kirche\, Rupertusplatz\, Wien\, 1170\, Österreich
CATEGORIES:Erwachsene,Junge Erwachsene,Kultur,Musik (klassisch),Musik (modern),Paare ohne Kinder,Senioren,Singles
ORGANIZER;CN="Pfarre Dornbach":MAILTO:kanzlei@pfarredornbach.at
END:VEVENT
BEGIN:VEVENT
DTSTART;TZID=Europe/Vienna:20171209T090000
DTEND;TZID=Europe/Vienna:20171209T120000
DTSTAMP:20260422T063343
CREATED:20171128T121134Z
LAST-MODIFIED:20171128T121134Z
UID:541-1512810000-1512820800@katholisch-hernals.at
SUMMARY:Weihnachtsmarkt der Jugend
DESCRIPTION:
URL:https://katholisch-hernals.at/event/weihnachtsmarkt-der-jugend/
LOCATION:Sühnekirche – Pfarre\, Alszeile 7\, Wien\, 1170\, Österreich
CATEGORIES:Erwachsene,Flohmarkt,Jugendliche 14+,Junge Erwachsene,Kinder,Kinder 10-14,Kindergartenkinder 3-6,Paare ohne Kinder,Schulkinder 6-10,Senioren,Singles
ORGANIZER;CN="S%C3%BChnekirche":MAILTO:pfarramt-suehnekirche@chello.at
END:VEVENT
BEGIN:VEVENT
DTSTART;TZID=Europe/Vienna:20171209T100000
DTEND;TZID=Europe/Vienna:20171209T110000
DTSTAMP:20260422T063343
CREATED:20171128T121316Z
LAST-MODIFIED:20171128T121316Z
UID:543-1512813600-1512817200@katholisch-hernals.at
SUMMARY:Hl. Messe
DESCRIPTION:gestaltet von „Else und die guten Saiten“
URL:https://katholisch-hernals.at/event/hl-messe-4/
LOCATION:Pfarre Dornbach – Kirche\, Rupertusplatz\, Wien\, 1170\, Österreich
CATEGORIES:Erwachsene,Gottesdienst,Jugendliche 14+,Junge Erwachsene,Kinder,Kinder 10-14,Musik (modern),Paare ohne Kinder,Schulkinder 6-10,Senioren,Singles
ORGANIZER;CN="Pfarre Dornbach":MAILTO:kanzlei@pfarredornbach.at
END:VEVENT
BEGIN:VEVENT
DTSTART;TZID=Europe/Vienna:20171209T101500
DTEND;TZID=Europe/Vienna:20171209T111500
DTSTAMP:20260422T063343
CREATED:20171128T121426Z
LAST-MODIFIED:20171128T121426Z
UID:545-1512814500-1512818100@katholisch-hernals.at
SUMMARY:Messfeier mit Kinderwortgottesdienst
DESCRIPTION:
URL:https://katholisch-hernals.at/event/messfeier-mit-kinderwortgottesdienst/
LOCATION:Pfarre Hernals – Kirche\, Sankt-Bartholomäus-Platz 3\, Wien\, 1170\, Österreich
CATEGORIES:Gottesdienst,Kinder,Kinder 10-14,Kindergartenkinder 3-6,Kleinkinder 0-3,Schulkinder 6-10
ORGANIZER;CN="Pfarre Hernals":MAILTO:kanzlei@kalvarienbergkirche.at
END:VEVENT
BEGIN:VEVENT
DTSTART;TZID=Europe/Vienna:20171209T120000
DTEND;TZID=Europe/Vienna:20171209T140000
DTSTAMP:20260422T063343
CREATED:20171128T121655Z
LAST-MODIFIED:20171128T121655Z
UID:547-1512820800-1512828000@katholisch-hernals.at
SUMMARY:Benefizmittagsmahl
DESCRIPTION:für die Aktion „Herberge-Marienpfarre“: Speisen aus Syrien und dem Irak.
URL:https://katholisch-hernals.at/event/benefizmittagsmahl/
LOCATION:Marienpfarre – Clemens Hofbauer Saal\, Kulmgasse 35\, Wien\, 1170\, Österreich
CATEGORIES:Caritas,Erwachsene,Fest,Jugendliche 14+,Junge Erwachsene,Kinder,Kinder 10-14,Kindergartenkinder 3-6,Kleinkinder 0-3,Paare mit Kindern,Paare ohne Kinder,Schulkinder 6-10,Senioren,Singles
ORGANIZER;CN="Marienpfarre":MAILTO:kanzlei@marienpfarre.at
END:VEVENT
BEGIN:VEVENT
DTSTART;TZID=Europe/Vienna:20171209T143000
DTEND;TZID=Europe/Vienna:20171209T163000
DTSTAMP:20260422T063343
CREATED:20171128T111317Z
LAST-MODIFIED:20171128T112447Z
UID:529-1512829800-1512837000@katholisch-hernals.at
SUMMARY:Einkehrnachmittag
DESCRIPTION:Einkehrnachmittag mit P. Engelbert Jestl C.Ss.R.: „Durch Maria zu Christus“ \nDie Marienpfarre und das St. Klemens Hofbauer-Komitee laden ein. Keine Anmeldung notwendig.
URL:https://katholisch-hernals.at/event/einkehrnachmittag/
LOCATION:Marienpfarre – kleiner Pfarrsaal\, Sautergasse 7A\, Wien\, 1170\, Österreich
CATEGORIES:Erwachsene,Gebet,Junge Erwachsene,Paare ohne Kinder,Senioren,Singles,Spiritualität
ORGANIZER;CN="Marienpfarre":MAILTO:kanzlei@marienpfarre.at
END:VEVENT
BEGIN:VEVENT
DTSTART;TZID=Europe/Vienna:20171209T183000
DTEND;TZID=Europe/Vienna:20171209T193000
DTSTAMP:20260422T063343
CREATED:20171128T111921Z
LAST-MODIFIED:20171128T111921Z
UID:531-1512844200-1512847800@katholisch-hernals.at
SUMMARY:Hl. Messe mit allgemeiner Krankensalbung
DESCRIPTION:
URL:https://katholisch-hernals.at/event/hl-messe-mit-allgemeiner-krankensalbung/
LOCATION:Marienpfarre – Kirche\, Clemens Hofbauerplatz\, Wien\, 1170\, Österreich
CATEGORIES:Erwachsene,Gottesdienst,Junge Erwachsene,Paare ohne Kinder,Senioren,Singles
ORGANIZER;CN="Marienpfarre":MAILTO:kanzlei@marienpfarre.at
END:VEVENT
BEGIN:VEVENT
DTSTART;TZID=Europe/Vienna:20171210T093000
DTEND;TZID=Europe/Vienna:20171210T103000
DTSTAMP:20260422T063343
CREATED:20171121T225948Z
LAST-MODIFIED:20171128T105422Z
UID:378-1512898200-1512901800@katholisch-hernals.at
SUMMARY:Hl. Messe mit Ministranten-Aufnahme
DESCRIPTION:
URL:https://katholisch-hernals.at/event/1-adventsonntag-hl-messe-mit-mini-aufnahme/
LOCATION:Marienpfarre – Clemens Hofbauer Saal\, Kulmgasse 35\, Wien\, 1170\, Österreich
CATEGORIES:Erwachsene,Fest,Gottesdienst,Jugendliche 14+,Junge Erwachsene,Kinder,Kinder 10-14,Kindergartenkinder 3-6,Paare mit Kindern,Paare ohne Kinder,Schulkinder 6-10,Senioren,Singles
ORGANIZER;CN="Marienpfarre":MAILTO:kanzlei@marienpfarre.at
END:VEVENT
BEGIN:VEVENT
DTSTART;TZID=Europe/Vienna:20171212T190000
DTEND;TZID=Europe/Vienna:20171212T213000
DTSTAMP:20260422T063343
CREATED:20171128T121859Z
LAST-MODIFIED:20171128T121859Z
UID:549-1513105200-1513114200@katholisch-hernals.at
SUMMARY:Ökumenerunde
DESCRIPTION:Ökumenisches Totengedenken für verstorbene Mitglieder
URL:https://katholisch-hernals.at/event/oekumenerunde/
LOCATION:Pfarre Dornbach – Kanzlei\, Rupertusplatz 3\, Wien\, 1170\, Österreich
CATEGORIES:Erwachsene,Gebet,Gruppentreffen,Junge Erwachsene,Ökumene,Paare ohne Kinder,Senioren,Singles,Spiritualität
ORGANIZER;CN="Pfarre Dornbach":MAILTO:kanzlei@pfarredornbach.at
END:VEVENT
BEGIN:VEVENT
DTSTART;TZID=Europe/Vienna:20171214T193000
DTEND;TZID=Europe/Vienna:20171214T203000
DTSTAMP:20260422T063343
CREATED:20171128T123703Z
LAST-MODIFIED:20171128T123703Z
UID:551-1513279800-1513283400@katholisch-hernals.at
SUMMARY:Orgelkonzert
DESCRIPTION:Werke von J. J. Froberger\, J. S. Bach\, M. Reger\nAn der Orgel: Caroline Atschreiter\, Thomas Heinrich\, Mario Weber.\nEintritt frei.
URL:https://katholisch-hernals.at/event/orgelkonzert/
LOCATION:Pfarre Hernals – Kirche\, Sankt-Bartholomäus-Platz 3\, Wien\, 1170\, Österreich
CATEGORIES:Erwachsene,Junge Erwachsene,Kultur,Musik (klassisch),Paare ohne Kinder,Senioren,Singles
ORGANIZER;CN="Pfarre Hernals":MAILTO:kanzlei@kalvarienbergkirche.at
END:VEVENT
BEGIN:VEVENT
DTSTART;TZID=Europe/Vienna:20171214T193000
DTEND;TZID=Europe/Vienna:20171214T203000
DTSTAMP:20260422T063343
CREATED:20180530T102906Z
LAST-MODIFIED:20180530T102906Z
UID:1422-1513279800-1513283400@katholisch-hernals.at
SUMMARY:Orgelgedächtniskonzert +Peter Kundela
DESCRIPTION:Werke von Lous Vierne\, Charles-Marie Widor\, Peter Planyavsky u.a. \nAusführende: Wolfgang Capek (Orgel)\, Peter Planyavsky (Dirigent)\, Monika Müksch (Sprecherin). \nEintritt frei\, freiwillige Spenden dienen der Erhaltung der Orgel (Eisenbarth) und der Wiener Selbsthilfegruppe für Schädel-Hirn-Trauma.
URL:https://katholisch-hernals.at/event/orgelkonzert-2/
LOCATION:Sühnekirche\, Dr.-Josef-Resch-Platz 12\, Wien\, 1170\, Österreich
CATEGORIES:Erwachsene,Junge Erwachsene,Kultur,Musik (klassisch),Paare ohne Kinder,Senioren,Singles
ORGANIZER;CN="S%C3%BChnekirche":MAILTO:pfarramt-suehnekirche@chello.at
END:VEVENT
BEGIN:VEVENT
DTSTART;TZID=Europe/Vienna:20171216T150000
DTEND;TZID=Europe/Vienna:20171216T180000
DTSTAMP:20260422T063343
CREATED:20171128T112937Z
LAST-MODIFIED:20171212T131327Z
UID:537-1513436400-1513447200@katholisch-hernals.at
SUMMARY:Kindersegensfeier und Adventjause
DESCRIPTION:Liebe Eltern\, Großeltern\, Paten\, Verwandte\, … mit ihren Kindern! \n \nAm Samstag\, den 16. Dezember (15:00 Uhr) findet – wie schon im letzten Jahr – eine kleine Kindersegensfeier in unserer Marienkirche (Clemens-Hofbauer-Platz) statt. Eingeladen sind alle Kleinkinder (Neugetauften)\, Kindergartenkinder\, sowie auch Kinder im Volksschulbereich – mit ihren Begleitern und Begleiterinnen! \nNach der Segensfeier findet eine Adventjause im Klemens Hofbauer-Saal (Eingang Kulmgasse 35) statt. Die Familienrunde 4 der Marienpfarre ist für die Gestaltung (Programm für die Kinder\,…) verantwortlich. \nSeinen Sie herzlich willkommen (Kinder\, Eltern\, Großeltern\, Paten\,…)!
URL:https://katholisch-hernals.at/event/kindersegensfeier-und-adventjause/
LOCATION:Marienpfarre – Kirche\, Clemens Hofbauerplatz\, Wien\, 1170\, Österreich
CATEGORIES:Gebet,Kinder,Kindergartenkinder 3-6,Kleinkinder 0-3,Paare mit Kindern,Schulkinder 6-10,Spiritualität
ORGANIZER;CN="Marienpfarre":MAILTO:kanzlei@marienpfarre.at
END:VEVENT
BEGIN:VEVENT
DTSTART;TZID=Europe/Vienna:20171216T150000
DTEND;TZID=Europe/Vienna:20171216T200000
DTSTAMP:20260422T063343
CREATED:20171124T115314Z
LAST-MODIFIED:20171212T220239Z
UID:468-1513436400-1513454400@katholisch-hernals.at
SUMMARY:2. Modul der Firmvorbereitung
DESCRIPTION:Der zweite Nachmittag in der gemeinsame Firmvorbereitung im Entwicklungsraum. Bitte Firmtagebuch und Wallfahrtsheft nicht vergessen!
URL:https://katholisch-hernals.at/event/2-firmtag/
LOCATION:Pfarre Dornbach – Pfarrsaal\, Rupertusplatz 4\, Wien\, 1170\, Österreich
CATEGORIES:Firmung
END:VEVENT
BEGIN:VEVENT
DTSTART;TZID=Europe/Vienna:20171217T090000
DTEND;TZID=Europe/Vienna:20171217T100000
DTSTAMP:20260422T063343
CREATED:20171128T123821Z
LAST-MODIFIED:20171128T123821Z
UID:553-1513501200-1513504800@katholisch-hernals.at
SUMMARY:Fischerlmesse
DESCRIPTION:
URL:https://katholisch-hernals.at/event/fischerlmesse/
LOCATION:Pfarre Hernals – Kirche\, Sankt-Bartholomäus-Platz 3\, Wien\, 1170\, Österreich
CATEGORIES:Gottesdienst,Kinder,Schulkinder 6-10
ORGANIZER;CN="Pfarre Hernals":MAILTO:kanzlei@kalvarienbergkirche.at
END:VEVENT
BEGIN:VEVENT
DTSTART;TZID=Europe/Vienna:20171217T100000
DTEND;TZID=Europe/Vienna:20171217T110000
DTSTAMP:20260422T063343
CREATED:20171128T123931Z
LAST-MODIFIED:20171128T123931Z
UID:555-1513504800-1513508400@katholisch-hernals.at
SUMMARY:Kinderkirche
DESCRIPTION:
URL:https://katholisch-hernals.at/event/kinderkirche/
LOCATION:Pfarre Dornbach – Kirche\, Rupertusplatz\, Wien\, 1170\, Österreich
CATEGORIES:Gottesdienst,Kinder,Kinder 10-14,Kindergartenkinder 3-6,Kleinkinder 0-3,Schulkinder 6-10
ORGANIZER;CN="Pfarre Dornbach":MAILTO:kanzlei@pfarredornbach.at
END:VEVENT
BEGIN:VEVENT
DTSTART;TZID=Europe/Vienna:20171217T100000
DTEND;TZID=Europe/Vienna:20171217T110000
DTSTAMP:20260422T063343
CREATED:20171128T124045Z
LAST-MODIFIED:20171128T124045Z
UID:557-1513504800-1513508400@katholisch-hernals.at
SUMMARY:Kindermesse
DESCRIPTION:
URL:https://katholisch-hernals.at/event/kindermesse/
LOCATION:Sühnekirche\, Dr.-Josef-Resch-Platz 12\, Wien\, 1170\, Österreich
CATEGORIES:Kinder,Kinder 10-14,Kindergartenkinder 3-6,Kleinkinder 0-3,Schulkinder 6-10
ORGANIZER;CN="S%C3%BChnekirche":MAILTO:pfarramt-suehnekirche@chello.at
END:VEVENT
BEGIN:VEVENT
DTSTART;TZID=Europe/Vienna:20171217T150000
DTEND;TZID=Europe/Vienna:20171217T170000
DTSTAMP:20260422T063343
CREATED:20171128T124218Z
LAST-MODIFIED:20171128T124218Z
UID:559-1513522800-1513530000@katholisch-hernals.at
SUMMARY:Konzert „Advent in Hernals“\, Krippenspiel
DESCRIPTION:
URL:https://katholisch-hernals.at/event/konzert-advent-in-hernals-krippenspiel/
LOCATION:Sühnekirche\, Dr.-Josef-Resch-Platz 12\, Wien\, 1170\, Österreich
CATEGORIES:Erwachsene,Jugendliche 14+,Junge Erwachsene,Kinder,Kinder 10-14,Kindergartenkinder 3-6,Kleinkinder 0-3,Musik (klassisch),Musik (modern),Paare ohne Kinder,Schulkinder 6-10,Senioren,Singles
ORGANIZER;CN="S%C3%BChnekirche":MAILTO:pfarramt-suehnekirche@chello.at
END:VEVENT
END:VCALENDAR