BEGIN:VCALENDAR
VERSION:2.0
PRODID:-//Pfarrverband Hernals - ECPv6.15.20//NONSGML v1.0//EN
CALSCALE:GREGORIAN
METHOD:PUBLISH
X-WR-CALNAME:Pfarrverband Hernals
X-ORIGINAL-URL:https://katholisch-hernals.at
X-WR-CALDESC:Veranstaltungen für Pfarrverband Hernals
REFRESH-INTERVAL;VALUE=DURATION:PT1H
X-Robots-Tag:noindex
X-PUBLISHED-TTL:PT1H
BEGIN:VTIMEZONE
TZID:Europe/Vienna
BEGIN:DAYLIGHT
TZOFFSETFROM:+0100
TZOFFSETTO:+0200
TZNAME:CEST
DTSTART:20170326T010000
END:DAYLIGHT
BEGIN:STANDARD
TZOFFSETFROM:+0200
TZOFFSETTO:+0100
TZNAME:CET
DTSTART:20171029T010000
END:STANDARD
BEGIN:DAYLIGHT
TZOFFSETFROM:+0100
TZOFFSETTO:+0200
TZNAME:CEST
DTSTART:20180325T010000
END:DAYLIGHT
BEGIN:STANDARD
TZOFFSETFROM:+0200
TZOFFSETTO:+0100
TZNAME:CET
DTSTART:20181028T010000
END:STANDARD
BEGIN:DAYLIGHT
TZOFFSETFROM:+0100
TZOFFSETTO:+0200
TZNAME:CEST
DTSTART:20190331T010000
END:DAYLIGHT
BEGIN:STANDARD
TZOFFSETFROM:+0200
TZOFFSETTO:+0100
TZNAME:CET
DTSTART:20191027T010000
END:STANDARD
END:VTIMEZONE
BEGIN:VEVENT
DTSTART;TZID=Europe/Vienna:20180106T080000
DTEND;TZID=Europe/Vienna:20180106T090000
DTSTAMP:20260422T051310
CREATED:20171129T223401Z
LAST-MODIFIED:20171129T223401Z
UID:649-1515225600-1515229200@katholisch-hernals.at
SUMMARY:Hl. Messe mit Sternsingern
DESCRIPTION:
URL:https://katholisch-hernals.at/event/hl-messe-mit-sternsingern/
LOCATION:Marienpfarre – Kirche\, Clemens Hofbauerplatz\, Wien\, 1170\, Österreich
CATEGORIES:Caritas,Erwachsene,Gottesdienst,Jugendliche 14+,Junge Erwachsene,Kinder,Kinder 10-14,Paare ohne Kinder,Schulkinder 6-10,Senioren,Singles
ORGANIZER;CN="Marienpfarre":MAILTO:kanzlei@marienpfarre.at
END:VEVENT
BEGIN:VEVENT
DTSTART;TZID=Europe/Vienna:20180106T083000
DTEND;TZID=Europe/Vienna:20180106T093000
DTSTAMP:20260422T051310
CREATED:20171129T223431Z
LAST-MODIFIED:20171129T223500Z
UID:651-1515227400-1515231000@katholisch-hernals.at
SUMMARY:Hl. Messe mit Sternsingern
DESCRIPTION:
URL:https://katholisch-hernals.at/event/hl-messe-mit-sternsingern-2/
LOCATION:Sühnekirche\, Dr.-Josef-Resch-Platz 12\, Wien\, 1170\, Österreich
CATEGORIES:Caritas,Erwachsene,Gottesdienst,Jugendliche 14+,Junge Erwachsene,Kinder,Kinder 10-14,Paare ohne Kinder,Schulkinder 6-10,Senioren,Singles
ORGANIZER;CN="S%C3%BChnekirche":MAILTO:pfarramt-suehnekirche@chello.at
END:VEVENT
BEGIN:VEVENT
DTSTART;TZID=Europe/Vienna:20180106T090000
DTEND;TZID=Europe/Vienna:20180106T100000
DTSTAMP:20260422T051310
CREATED:20171129T223609Z
LAST-MODIFIED:20171129T223609Z
UID:657-1515229200-1515232800@katholisch-hernals.at
SUMMARY:Hl. Messe mit Sternsingern
DESCRIPTION:
URL:https://katholisch-hernals.at/event/hl-messe-mit-sternsingern-2-2-2-2/
LOCATION:Pfarre Hernals – Kirche\, Sankt-Bartholomäus-Platz 3\, Wien\, 1170\, Österreich
CATEGORIES:Caritas,Erwachsene,Gottesdienst,Jugendliche 14+,Junge Erwachsene,Kinder,Kinder 10-14,Paare ohne Kinder,Schulkinder 6-10,Senioren,Singles
ORGANIZER;CN="Pfarre Hernals":MAILTO:kanzlei@kalvarienbergkirche.at
END:VEVENT
BEGIN:VEVENT
DTSTART;TZID=Europe/Vienna:20180106T100000
DTEND;TZID=Europe/Vienna:20180106T110000
DTSTAMP:20260422T051310
CREATED:20171129T223517Z
LAST-MODIFIED:20171129T223517Z
UID:653-1515232800-1515236400@katholisch-hernals.at
SUMMARY:Hl. Messe mit Sternsingern
DESCRIPTION:
URL:https://katholisch-hernals.at/event/hl-messe-mit-sternsingern-2-2/
LOCATION:Sühnekirche\, Dr.-Josef-Resch-Platz 12\, Wien\, 1170\, Österreich
CATEGORIES:Caritas,Erwachsene,Gottesdienst,Jugendliche 14+,Junge Erwachsene,Kinder,Kinder 10-14,Paare ohne Kinder,Schulkinder 6-10,Senioren,Singles
ORGANIZER;CN="S%C3%BChnekirche":MAILTO:pfarramt-suehnekirche@chello.at
END:VEVENT
BEGIN:VEVENT
DTSTART;TZID=Europe/Vienna:20180106T100000
DTEND;TZID=Europe/Vienna:20180106T110000
DTSTAMP:20260422T051310
CREATED:20171129T223543Z
LAST-MODIFIED:20171129T223543Z
UID:655-1515232800-1515236400@katholisch-hernals.at
SUMMARY:Hl. Messe mit Sternsingern
DESCRIPTION:
URL:https://katholisch-hernals.at/event/hl-messe-mit-sternsingern-2-2-2/
LOCATION:Pfarre Dornbach – Kirche\, Rupertusplatz\, Wien\, 1170\, Österreich
CATEGORIES:Caritas,Erwachsene,Gottesdienst,Jugendliche 14+,Junge Erwachsene,Kinder,Kinder 10-14,Paare ohne Kinder,Schulkinder 6-10,Senioren,Singles
ORGANIZER;CN="Pfarre Dornbach":MAILTO:kanzlei@pfarredornbach.at
END:VEVENT
BEGIN:VEVENT
DTSTART;TZID=Europe/Vienna:20180113T200000
DTEND;TZID=Europe/Vienna:20180113T233000
DTSTAMP:20260422T051310
CREATED:20171129T223733Z
LAST-MODIFIED:20171129T223733Z
UID:659-1515873600-1515886200@katholisch-hernals.at
SUMMARY:Pfarrball
DESCRIPTION:
URL:https://katholisch-hernals.at/event/pfarrball/
LOCATION:Sühnekirche – Pfarre\, Alszeile 7\, Wien\, 1170\, Österreich
CATEGORIES:Erwachsene,Fest,Junge Erwachsene,Kultur,Musik (modern),Paare ohne Kinder,Senioren,Singles,Spiel, Sport, Spaß
ORGANIZER;CN="S%C3%BChnekirche":MAILTO:pfarramt-suehnekirche@chello.at
END:VEVENT
BEGIN:VEVENT
DTSTART;TZID=Europe/Vienna:20180116T190000
DTEND;TZID=Europe/Vienna:20180116T200000
DTSTAMP:20260422T051310
CREATED:20171129T224042Z
LAST-MODIFIED:20171129T224042Z
UID:663-1516129200-1516132800@katholisch-hernals.at
SUMMARY:Einstimmung in den Tag des Judentums 2018
DESCRIPTION:Erinnerung an das jüdische Gemeindehaus in der Wiener Vorstadt Hernals
URL:https://katholisch-hernals.at/event/einstimmung-in-den-tag-des-judentums-2018/
LOCATION:Amtshaus 17. Bezirk\, Elterleinplatz 14\, Wien\, 1170\, Österreich
CATEGORIES:Austausch,Erwachsene,Junge Erwachsene,Kultur,Paare ohne Kinder,Senioren,Singles
ORGANIZER;CN="Pfarre Hernals":MAILTO:kanzlei@kalvarienbergkirche.at
END:VEVENT
BEGIN:VEVENT
DTSTART;TZID=Europe/Vienna:20180120T190000
DTEND;TZID=Europe/Vienna:20180120T230000
DTSTAMP:20260422T051310
CREATED:20171129T224225Z
LAST-MODIFIED:20171129T224225Z
UID:666-1516474800-1516489200@katholisch-hernals.at
SUMMARY:"Pflichttermin im Fasching"
DESCRIPTION:Essen\, trinken\, tanzen\, „Schnitzel vom Pfarrer“
URL:https://katholisch-hernals.at/event/pflichttermin-im-fasching/
LOCATION:Pfarre Hernals\, Sankt-Bartholomäus-Platz 3\, Wien\, 1170\, Österreich
CATEGORIES:Erwachsene,Fest,Junge Erwachsene,Paare ohne Kinder,Senioren,Singles
ORGANIZER;CN="Pfarre Hernals":MAILTO:kanzlei@kalvarienbergkirche.at
END:VEVENT
BEGIN:VEVENT
DTSTART;TZID=Europe/Vienna:20180121T093000
DTEND;TZID=Europe/Vienna:20180121T103000
DTSTAMP:20260422T051310
CREATED:20171124T115707Z
LAST-MODIFIED:20171129T204220Z
UID:471-1516527000-1516530600@katholisch-hernals.at
SUMMARY:Kinderwortgottesdienst
DESCRIPTION:Wir laden wieder zu unserem Kinderwortgottesdienst in der Kapelle der Marienpfarre ein. Wir holen die Kinder zu Beginn aus der Kirche ab und bringen sie rechtzeitig zu den Fürbitten wieder zurück. Selbstverständlich sind Eltern willkommen\, falls die Kinder diese Unterstützung möchten.
URL:https://katholisch-hernals.at/event/kinderwortgottesdienst/
LOCATION:Marienpfarre – Kirche\, Clemens Hofbauerplatz\, Wien\, 1170\, Österreich
CATEGORIES:Gottesdienst,Kinder,Kindergartenkinder 3-6,Kleinkinder 0-3,Paare mit Kindern,Schulkinder 6-10
ORGANIZER;CN="Marienpfarre":MAILTO:kanzlei@marienpfarre.at
END:VEVENT
BEGIN:VEVENT
DTSTART;TZID=Europe/Vienna:20180127T183000
DTEND;TZID=Europe/Vienna:20180127T193000
DTSTAMP:20260422T051310
CREATED:20171209T163922Z
LAST-MODIFIED:20171209T164157Z
UID:681-1517077800-1517081400@katholisch-hernals.at
SUMMARY:Stadtwallfahrt
DESCRIPTION:Stadtwallfahrt in die Marienkirche zur „Mutter von der Immerwährenden Hilfe“: \nHl. Messe mit Predigt\, Lichterprozession und Einzelsegen\nMusik: Orgel und Trompete \nmit Pater Michael Messner SJ\, Spiritual im Priesterseminar in Wien
URL:https://katholisch-hernals.at/event/stadtwallfahrt-2/
LOCATION:Marienpfarre – Kirche\, Clemens Hofbauerplatz\, Wien\, 1170\, Österreich
CATEGORIES:Erwachsene,Gottesdienst,Junge Erwachsene,Paare ohne Kinder,Senioren,Singles,Wallfahrt
ORGANIZER;CN="Marienpfarre":MAILTO:kanzlei@marienpfarre.at
END:VEVENT
BEGIN:VEVENT
DTSTART;TZID=Europe/Vienna:20180127T200000
DTEND;TZID=Europe/Vienna:20180127T233000
DTSTAMP:20260422T051310
CREATED:20171129T223816Z
LAST-MODIFIED:20171129T223816Z
UID:661-1517083200-1517095800@katholisch-hernals.at
SUMMARY:Pfarrball
DESCRIPTION:
URL:https://katholisch-hernals.at/event/pfarrball-2/
LOCATION:Marienpfarre – Clemens Hofbauer Saal\, Kulmgasse 35\, Wien\, 1170\, Österreich
CATEGORIES:Erwachsene,Fest,Junge Erwachsene,Kultur,Musik (modern),Paare ohne Kinder,Senioren,Singles,Spiel, Sport, Spaß
ORGANIZER;CN="Marienpfarre":MAILTO:kanzlei@marienpfarre.at
END:VEVENT
END:VCALENDAR