BEGIN:VCALENDAR
VERSION:2.0
PRODID:-//Pfarrverband Hernals - ECPv6.15.20//NONSGML v1.0//EN
CALSCALE:GREGORIAN
METHOD:PUBLISH
X-WR-CALNAME:Pfarrverband Hernals
X-ORIGINAL-URL:https://katholisch-hernals.at
X-WR-CALDESC:Veranstaltungen für Pfarrverband Hernals
REFRESH-INTERVAL;VALUE=DURATION:PT1H
X-Robots-Tag:noindex
X-PUBLISHED-TTL:PT1H
BEGIN:VTIMEZONE
TZID:Europe/Vienna
BEGIN:DAYLIGHT
TZOFFSETFROM:+0100
TZOFFSETTO:+0200
TZNAME:CEST
DTSTART:20170326T010000
END:DAYLIGHT
BEGIN:STANDARD
TZOFFSETFROM:+0200
TZOFFSETTO:+0100
TZNAME:CET
DTSTART:20171029T010000
END:STANDARD
BEGIN:DAYLIGHT
TZOFFSETFROM:+0100
TZOFFSETTO:+0200
TZNAME:CEST
DTSTART:20180325T010000
END:DAYLIGHT
BEGIN:STANDARD
TZOFFSETFROM:+0200
TZOFFSETTO:+0100
TZNAME:CET
DTSTART:20181028T010000
END:STANDARD
BEGIN:DAYLIGHT
TZOFFSETFROM:+0100
TZOFFSETTO:+0200
TZNAME:CEST
DTSTART:20190331T010000
END:DAYLIGHT
BEGIN:STANDARD
TZOFFSETFROM:+0200
TZOFFSETTO:+0100
TZNAME:CET
DTSTART:20191027T010000
END:STANDARD
END:VTIMEZONE
BEGIN:VEVENT
DTSTART;TZID=Europe/Vienna:20180201T190000
DTEND;TZID=Europe/Vienna:20180201T200000
DTSTAMP:20260422T033514
CREATED:20180128T143028Z
LAST-MODIFIED:20180128T153802Z
UID:801-1517511600-1517515200@katholisch-hernals.at
SUMMARY:Ich vor Gott (Gebet und Stille)
DESCRIPTION:Eine Stunde des Betens und des schlichten Daseins vor Gott
URL:https://katholisch-hernals.at/event/ich-vor-gott-gebet-und-stille/
LOCATION:Pfarre Hernals – Kirche\, Sankt-Bartholomäus-Platz 3\, Wien\, 1170\, Österreich
CATEGORIES:Erwachsene,Gebet,Jugendliche 14+,Junge Erwachsene,Paare ohne Kinder,Senioren,Singles,Spiritualität
ORGANIZER;CN="Pfarre Hernals":MAILTO:kanzlei@kalvarienbergkirche.at
END:VEVENT
BEGIN:VEVENT
DTSTART;TZID=Europe/Vienna:20180202T080000
DTEND;TZID=Europe/Vienna:20180202T193000
DTSTAMP:20260422T033514
CREATED:20191115T123247Z
LAST-MODIFIED:20191115T123247Z
UID:4200-1517558400-1517599800@katholisch-hernals.at
SUMMARY:Hl. Messe mit Blasiussegen
DESCRIPTION:Nach allen Gottesdiensten wird der Blasius-Segen ausgeteilt.
URL:https://katholisch-hernals.at/event/hl-messe-mit-blasiussegen-3/
LOCATION:Marienpfarre – Kirche\, Clemens Hofbauerplatz\, Wien\, 1170\, Österreich
CATEGORIES:Erwachsene,Gottesdienst,Jugendliche 14+,Junge Erwachsene,Kinder,Kinder 10-14,Kindergartenkinder 3-6,Kleinkinder 0-3,Paare mit Kindern,Paare ohne Kinder,Schulkinder 6-10,Senioren,Singles
ORGANIZER;CN="Marienpfarre":MAILTO:kanzlei@marienpfarre.at
END:VEVENT
BEGIN:VEVENT
DTSTART;TZID=Europe/Vienna:20180202T183000
DTEND;TZID=Europe/Vienna:20180202T193000
DTSTAMP:20260422T033514
CREATED:20180128T150006Z
LAST-MODIFIED:20180128T150006Z
UID:835-1517596200-1517599800@katholisch-hernals.at
SUMMARY:Kerzenweihe und Blasiussegen
DESCRIPTION:
URL:https://katholisch-hernals.at/event/kerzenweihe-und-blasiussegen/
LOCATION:Pfarre Dornbach – Kirche\, Rupertusplatz\, Wien\, 1170\, Österreich
CATEGORIES:Erwachsene,Gottesdienst,Jugendliche 14+,Junge Erwachsene,Kinder,Kinder 10-14,Kindergartenkinder 3-6,Kleinkinder 0-3,Paare mit Kindern,Paare ohne Kinder,Schulkinder 6-10,Senioren,Singles
ORGANIZER;CN="Pfarre Dornbach":MAILTO:kanzlei@pfarredornbach.at
END:VEVENT
BEGIN:VEVENT
DTSTART;TZID=Europe/Vienna:20180202T183000
DTEND;TZID=Europe/Vienna:20180202T193000
DTSTAMP:20260422T033514
CREATED:20180128T151900Z
LAST-MODIFIED:20180128T151900Z
UID:856-1517596200-1517599800@katholisch-hernals.at
SUMMARY:Hl. Messe mit Blasiussegen
DESCRIPTION:
URL:https://katholisch-hernals.at/event/hl-messe-mit-blasiussegen/
LOCATION:Sühnekirche\, Dr.-Josef-Resch-Platz 12\, Wien\, 1170\, Österreich
CATEGORIES:Erwachsene,Gottesdienst,Jugendliche 14+,Junge Erwachsene,Kinder,Kinder 10-14,Kindergartenkinder 3-6,Kleinkinder 0-3,Paare mit Kindern,Paare ohne Kinder,Schulkinder 6-10,Senioren,Singles
ORGANIZER;CN="S%C3%BChnekirche":MAILTO:pfarramt-suehnekirche@chello.at
END:VEVENT
BEGIN:VEVENT
DTSTART;TZID=Europe/Vienna:20180202T190000
DTEND;TZID=Europe/Vienna:20180202T200000
DTSTAMP:20260422T033514
CREATED:20180128T143144Z
LAST-MODIFIED:20180128T143144Z
UID:803-1517598000-1517601600@katholisch-hernals.at
SUMMARY:Lichtmesse
DESCRIPTION:
URL:https://katholisch-hernals.at/event/lichtmesse/
LOCATION:Pfarre Hernals – Kirche\, Sankt-Bartholomäus-Platz 3\, Wien\, 1170\, Österreich
CATEGORIES:Erwachsene,Gottesdienst,Junge Erwachsene,Paare ohne Kinder,Senioren,Singles,Spiritualität
ORGANIZER;CN="Pfarre Hernals":MAILTO:kanzlei@kalvarienbergkirche.at
END:VEVENT
BEGIN:VEVENT
DTSTART;TZID=Europe/Vienna:20180207T190000
DTEND;TZID=Europe/Vienna:20180207T200000
DTSTAMP:20260422T033514
CREATED:20180128T152006Z
LAST-MODIFIED:20180128T152705Z
UID:858-1518030000-1518033600@katholisch-hernals.at
SUMMARY:Bibelrunde
DESCRIPTION:DAS IST MEIN BLUT….. \nhören wir in jeder Messfeier – oder hören wir da lieber weg? \nBlut in den biblischen Schriften hat viele Bedeutungen:\nLeben – Sühne – Bund – Schutz – Reinigung.\nWir werden versuchen\, uns als Einstimmung in die Fastenzeit an diese Themen heranzutasten\, um Botschaften für uns Heutige zu entdecken. \n(im Pfarrheim\, 1. Stock) \n                                                                                              Reni Pachta und Traudl Braun
URL:https://katholisch-hernals.at/event/bibelrunde/
LOCATION:Sühnekirche – Pfarre\, Alszeile 7\, Wien\, 1170\, Österreich
CATEGORIES:Austausch,Erwachsene,Gruppentreffen,Junge Erwachsene,Paare ohne Kinder,Senioren,Singles,Spiritualität,Weiterbildung
ORGANIZER;CN="S%C3%BChnekirche":MAILTO:pfarramt-suehnekirche@chello.at
END:VEVENT
BEGIN:VEVENT
DTSTART;TZID=Europe/Vienna:20180208T193000
DTEND;TZID=Europe/Vienna:20180208T203000
DTSTAMP:20260422T033514
CREATED:20180128T143644Z
LAST-MODIFIED:20180128T143644Z
UID:807-1518118200-1518121800@katholisch-hernals.at
SUMMARY:Y-Treff
DESCRIPTION:Männer jeden Alters tauschen Erfahrungen über Generationen aus. \nUnterschiedliche Berufe\, Bildung\, Herkunft und Weltanschauung treffen sich zum offenen Meinungsaustausch in zwangloser Atmosphäre. \nWir geben anderen Meinungen Raum. \nPersönliche Themen können im vertraulichen Rahmen diskutiert werden \nRiskantes sagen dürfen. Über Gefühle reden. \nBist du am offenen Gedankenaustausch interessiert\, dann komm zu unserem nächsten Treffen!\n\nSchön wäre es\, in unserem Kreis Männer verschiedener Religionen zu haben. Erst dann würden wir die Gemeinsamkeit erkennen.
URL:https://katholisch-hernals.at/event/y-treff/
LOCATION:B.R.O.T. Haus\, Geblergasse 78\, Wien\, 1170\, Österreich
CATEGORIES:Austausch,Erwachsene,Gruppentreffen,Junge Erwachsene,Senioren,Singles,Spiritualität,Weiterbildung
ORGANIZER;CN="Pfarre Hernals":MAILTO:kanzlei@kalvarienbergkirche.at
END:VEVENT
BEGIN:VEVENT
DTSTART;TZID=Europe/Vienna:20180211T150000
DTEND;TZID=Europe/Vienna:20180211T200000
DTSTAMP:20260422T033514
CREATED:20180209T120204Z
LAST-MODIFIED:20180209T120219Z
UID:893-1518361200-1518379200@katholisch-hernals.at
SUMMARY:Seniorenfasching
DESCRIPTION:Jonny & Werner Schlager zelebrieren deutsche Schlager aus unserer aller Jugend „Vom Alexander bis Zarah Leander“. 2 Stimmen und 100 Erinnerungen zum Mitsingen.\n\n\nAuf einen unterhaltsamen Nachmittag mit Ihnen freut sich die\nMARIENPFARRE und der HERNALSER KULTURKREIS. \n\n\nEinlass ab 14:30 Uhr – Eintritt frei!\n 
URL:https://katholisch-hernals.at/event/seniorenfaschinh/
LOCATION:Marienpfarre – Clemens Hofbauer Saal\, Kulmgasse 35\, Wien\, 1170\, Österreich
CATEGORIES:Senioren
ORGANIZER;CN="Marienpfarre":MAILTO:kanzlei@marienpfarre.at
END:VEVENT
BEGIN:VEVENT
DTSTART;TZID=Europe/Vienna:20180213T190000
DTEND;TZID=Europe/Vienna:20180213T200000
DTSTAMP:20260422T033514
CREATED:20180128T150344Z
LAST-MODIFIED:20180128T150344Z
UID:837-1518548400-1518552000@katholisch-hernals.at
SUMMARY:Vesper
DESCRIPTION:Diakon Gerhard Scholz
URL:https://katholisch-hernals.at/event/vesper/
LOCATION:Pfarre Dornbach – Hauskapelle\, Rupertusplatz 3\, Wien\, 1170\, Österreich
CATEGORIES:Erwachsene,Gebet,Jugendliche 14+,Junge Erwachsene,Paare ohne Kinder,Senioren,Singles
ORGANIZER;CN="Pfarre Dornbach":MAILTO:kanzlei@pfarredornbach.at
END:VEVENT
BEGIN:VEVENT
DTSTART;TZID=Europe/Vienna:20180214T080000
DTEND;TZID=Europe/Vienna:20180214T090000
DTSTAMP:20260422T033514
CREATED:20180128T144119Z
LAST-MODIFIED:20180128T144119Z
UID:815-1518595200-1518598800@katholisch-hernals.at
SUMMARY:Messfeier - Aschermittwoch
DESCRIPTION:
URL:https://katholisch-hernals.at/event/messfeier-aschermittwoch/
LOCATION:Pfarre Hernals – Kirche\, Sankt-Bartholomäus-Platz 3\, Wien\, 1170\, Österreich
CATEGORIES:Erwachsene,Gottesdienst,Jugendliche 14+,Junge Erwachsene,Paare ohne Kinder,Senioren,Singles
ORGANIZER;CN="Pfarre Hernals":MAILTO:kanzlei@kalvarienbergkirche.at
END:VEVENT
BEGIN:VEVENT
DTSTART;TZID=Europe/Vienna:20180214T160000
DTEND;TZID=Europe/Vienna:20180214T170000
DTSTAMP:20260422T033514
CREATED:20180128T144231Z
LAST-MODIFIED:20180128T144231Z
UID:817-1518624000-1518627600@katholisch-hernals.at
SUMMARY:Kreuzwegandacht - Aschermittwoch
DESCRIPTION:
URL:https://katholisch-hernals.at/event/kreuzwegandacht-aschermittwoch/
LOCATION:Pfarre Hernals – Kirche\, Sankt-Bartholomäus-Platz 3\, Wien\, 1170\, Österreich
CATEGORIES:Erwachsene,Gebet,Jugendliche 14+,Junge Erwachsene,Kinder 10-14,Paare mit Kindern,Paare ohne Kinder,Senioren,Singles
ORGANIZER;CN="Pfarre Hernals":MAILTO:kanzlei@kalvarienbergkirche.at
END:VEVENT
BEGIN:VEVENT
DTSTART;TZID=Europe/Vienna:20180214T170000
DTEND;TZID=Europe/Vienna:20180214T180000
DTSTAMP:20260422T033514
CREATED:20180128T144337Z
LAST-MODIFIED:20180128T144337Z
UID:819-1518627600-1518631200@katholisch-hernals.at
SUMMARY:Aschenkreuzfeier für Kinder
DESCRIPTION:
URL:https://katholisch-hernals.at/event/aschenkreuzfeier-fuer-kinder/
LOCATION:Pfarre Hernals – Kirche\, Sankt-Bartholomäus-Platz 3\, Wien\, 1170\, Österreich
CATEGORIES:Gebet,Jugendliche 14+,Kinder,Kinder 10-14,Kindergartenkinder 3-6,Kleinkinder 0-3,Paare mit Kindern,Schulkinder 6-10
ORGANIZER;CN="Pfarre Hernals":MAILTO:kanzlei@kalvarienbergkirche.at
END:VEVENT
BEGIN:VEVENT
DTSTART;TZID=Europe/Vienna:20180214T183000
DTEND;TZID=Europe/Vienna:20180214T193000
DTSTAMP:20260422T033514
CREATED:20180128T150517Z
LAST-MODIFIED:20180128T150517Z
UID:840-1518633000-1518636600@katholisch-hernals.at
SUMMARY:Segnung und Auflegung der Asche - Aschermittwoch
DESCRIPTION:strenger Fasten- und Abstinenztag
URL:https://katholisch-hernals.at/event/segnung-und-auflegung-der-asche-aschermittwoch/
LOCATION:Pfarre Dornbach – Kirche\, Rupertusplatz\, Wien\, 1170\, Österreich
CATEGORIES:Erwachsene,Gebet,Jugendliche 14+,Junge Erwachsene,Kinder,Kinder 10-14,Kindergartenkinder 3-6,Kleinkinder 0-3,Paare mit Kindern,Paare ohne Kinder,Schulkinder 6-10,Senioren,Singles
ORGANIZER;CN="Pfarre Dornbach":MAILTO:kanzlei@pfarredornbach.at
END:VEVENT
BEGIN:VEVENT
DTSTART;TZID=Europe/Vienna:20180214T183000
DTEND;TZID=Europe/Vienna:20180214T193000
DTSTAMP:20260422T033514
CREATED:20180128T152104Z
LAST-MODIFIED:20180128T152104Z
UID:860-1518633000-1518636600@katholisch-hernals.at
SUMMARY:Hl. Messe mit Aschenkreuz
DESCRIPTION:
URL:https://katholisch-hernals.at/event/hl-messe-mit-aschenkreuz/
LOCATION:Sühnekirche\, Dr.-Josef-Resch-Platz 12\, Wien\, 1170\, Österreich
CATEGORIES:Erwachsene,Gottesdienst,Jugendliche 14+,Junge Erwachsene,Kinder,Kinder 10-14,Kindergartenkinder 3-6,Kleinkinder 0-3,Paare mit Kindern,Paare ohne Kinder,Schulkinder 6-10,Senioren,Singles
ORGANIZER;CN="S%C3%BChnekirche":MAILTO:pfarramt-suehnekirche@chello.at
END:VEVENT
BEGIN:VEVENT
DTSTART;TZID=Europe/Vienna:20180214T183000
DTEND;TZID=Europe/Vienna:20180214T193000
DTSTAMP:20260422T033514
CREATED:20180211T065414Z
LAST-MODIFIED:20180211T065414Z
UID:910-1518633000-1518636600@katholisch-hernals.at
SUMMARY:Messfeier - Aschermittwoch
DESCRIPTION:
URL:https://katholisch-hernals.at/event/messfeier-aschermittwoch-2/
LOCATION:Marienpfarre – Kirche\, Clemens Hofbauerplatz\, Wien\, 1170\, Österreich
CATEGORIES:Erwachsene,Gottesdienst,Jugendliche 14+,Junge Erwachsene,Paare ohne Kinder,Senioren,Singles
ORGANIZER;CN="Marienpfarre":MAILTO:kanzlei@marienpfarre.at
END:VEVENT
BEGIN:VEVENT
DTSTART;TZID=Europe/Vienna:20180214T190000
DTEND;TZID=Europe/Vienna:20180214T200000
DTSTAMP:20260422T033514
CREATED:20180128T144448Z
LAST-MODIFIED:20180128T144448Z
UID:821-1518634800-1518638400@katholisch-hernals.at
SUMMARY:Aschermittwochmesse der Pfarrgemeinde
DESCRIPTION:
URL:https://katholisch-hernals.at/event/aschermittwochmesse-der-pfarrgemeinde/
LOCATION:Pfarre Hernals – Kirche\, Sankt-Bartholomäus-Platz 3\, Wien\, 1170\, Österreich
CATEGORIES:Erwachsene,Gottesdienst,Jugendliche 14+,Junge Erwachsene,Kinder,Kinder 10-14,Kindergartenkinder 3-6,Kleinkinder 0-3,Paare mit Kindern,Paare ohne Kinder,Schulkinder 6-10,Senioren,Singles
ORGANIZER;CN="Pfarre Hernals":MAILTO:kanzlei@kalvarienbergkirche.at
END:VEVENT
BEGIN:VEVENT
DTSTART;TZID=Europe/Vienna:20180215T153000
DTEND;TZID=Europe/Vienna:20180215T163000
DTSTAMP:20260422T033514
CREATED:20180128T150648Z
LAST-MODIFIED:20180128T150648Z
UID:842-1518708600-1518712200@katholisch-hernals.at
SUMMARY:Senioren-Nachmittag mit Geburtstagsfeier
DESCRIPTION:
URL:https://katholisch-hernals.at/event/senioren-nachmittag-mit-geburtstagsfeier/
LOCATION:Pfarre Dornbach – Pfarrsaal\, Rupertusplatz 4\, Wien\, 1170\, Österreich
CATEGORIES:Erwachsene,Fest,Senioren
ORGANIZER;CN="Pfarre Dornbach":MAILTO:kanzlei@pfarredornbach.at
END:VEVENT
BEGIN:VEVENT
DTSTART;TZID=Europe/Vienna:20180215T193000
DTEND;TZID=Europe/Vienna:20180215T210000
DTSTAMP:20260422T033514
CREATED:20180126T135558Z
LAST-MODIFIED:20180126T140245Z
UID:781-1518723000-1518728400@katholisch-hernals.at
SUMMARY:Vergebung und Versöhnung im biblischen Kontext - Fastenzeit 2018
DESCRIPTION:Die Frage von Schuld und Vergebung ist dem Menschen heute genauso gegenwärtig wie früher. Mit der Bewältigung vergangener Ereignisse professionell beschäftigt sind heute vor allem die Psychologen. Was aber tut ein Mensch ohne Glauben an eine bedingungslose Vergebung? – Das Sakrament der Versöhnung ist ein Akt\, in dem Gott über den Weg des Priesters bedingungslose Vergebung zuspricht. \nLeiter: Dechant Dr. Karl Engelmann \nAnmeldung\n \n\nPersönlich: in den vier Pfarren\nPost: Pfarre Hernals\, Sankt-Bartholomäus-Platz 3\, 1170 Wien\nWeb: www.kalvarienbergkirche.at\nFax: +43 1 406 89 45 22
URL:https://katholisch-hernals.at/event/vergebung-und-versoehnung-im-biblischen-kontext-fastenzeit-2018/
LOCATION:Pfarre Dornbach – Pfarrsaal\, Rupertusplatz 4\, Wien\, 1170\, Österreich
CATEGORIES:Austausch,Beichte,Erwachsene,Junge Erwachsene,Paare ohne Kinder,Sakrament,Senioren,Singles,Spiritualität,Weiterbildung
END:VEVENT
BEGIN:VEVENT
DTSTART;TZID=Europe/Vienna:20180216T153000
DTEND;TZID=Europe/Vienna:20180216T160000
DTSTAMP:20260422T033514
CREATED:20180128T150754Z
LAST-MODIFIED:20180128T150754Z
UID:844-1518795000-1518796800@katholisch-hernals.at
SUMMARY:Kinderkreuzweg
DESCRIPTION:
URL:https://katholisch-hernals.at/event/kinderkreuzweg/
LOCATION:Pfarre Dornbach – Kirche\, Rupertusplatz\, Wien\, 1170\, Österreich
CATEGORIES:Kinder,Kinder 10-14,Kindergartenkinder 3-6,Kleinkinder 0-3,Schulkinder 6-10
ORGANIZER;CN="Pfarre Dornbach":MAILTO:kanzlei@pfarredornbach.at
END:VEVENT
BEGIN:VEVENT
DTSTART;TZID=Europe/Vienna:20180216T174000
DTEND;TZID=Europe/Vienna:20180216T183000
DTSTAMP:20260422T033514
CREATED:20180128T152206Z
LAST-MODIFIED:20180128T152206Z
UID:862-1518802800-1518805800@katholisch-hernals.at
SUMMARY:Kreuzweg
DESCRIPTION:
URL:https://katholisch-hernals.at/event/kreuzweg/
LOCATION:Sühnekirche\, Dr.-Josef-Resch-Platz 12\, Wien\, 1170\, Österreich
CATEGORIES:Erwachsene,Gebet,Jugendliche 14+,Junge Erwachsene,Paare ohne Kinder,Senioren,Singles
ORGANIZER;CN="S%C3%BChnekirche":MAILTO:pfarramt-suehnekirche@chello.at
END:VEVENT
BEGIN:VEVENT
DTSTART;TZID=Europe/Vienna:20180216T190000
DTEND;TZID=Europe/Vienna:20180216T200000
DTSTAMP:20260422T033514
CREATED:20180128T151027Z
LAST-MODIFIED:20180128T151027Z
UID:846-1518807600-1518811200@katholisch-hernals.at
SUMMARY:Ökumenerunde
DESCRIPTION:Diakon Mag. Gerhard Scholz (Dekanat Hernals): Ökumenische Vesper mit Vorstellung von CSI – Christian Solidarity International
URL:https://katholisch-hernals.at/event/oekumenerunde-2/
LOCATION:Pfarre Dornbach – Kirche\, Rupertusplatz\, Wien\, 1170\, Österreich
CATEGORIES:Austausch,Erwachsene,Gebet,Jugendliche 14+,Junge Erwachsene,Ökumene,Paare ohne Kinder,Senioren,Singles
ORGANIZER;CN="Pfarre Dornbach":MAILTO:kanzlei@pfarredornbach.at
END:VEVENT
BEGIN:VEVENT
DTSTART;TZID=Europe/Vienna:20180216T194500
DTEND;TZID=Europe/Vienna:20180216T203000
DTSTAMP:20260422T033514
CREATED:20180128T144729Z
LAST-MODIFIED:20180128T144729Z
UID:823-1518810300-1518813000@katholisch-hernals.at
SUMMARY:Freitagsgebet
DESCRIPTION:In der Kapelle im Pfarrzentrum
URL:https://katholisch-hernals.at/event/freitagsgebet/
LOCATION:Pfarre Hernals\, Sankt-Bartholomäus-Platz 3\, Wien\, 1170\, Österreich
CATEGORIES:Erwachsene,Gebet,Junge Erwachsene,Paare ohne Kinder,Senioren,Singles,Spiritualität
ORGANIZER;CN="Pfarre Hernals":MAILTO:kanzlei@kalvarienbergkirche.at
END:VEVENT
BEGIN:VEVENT
DTSTART;TZID=Europe/Vienna:20180218T093000
DTEND;TZID=Europe/Vienna:20180218T103000
DTSTAMP:20260422T033514
CREATED:20171129T204155Z
LAST-MODIFIED:20171201T200619Z
UID:607-1518946200-1518949800@katholisch-hernals.at
SUMMARY:Kinderwortgottesdienst
DESCRIPTION:Wir laden wieder zu unserem Kinderwortgottesdienst in der Kapelle der Marienpfarre ein. Wir holen die Kinder zu Beginn aus der Kirche ab und bringen sie rechtzeitig zu den Fürbitten wieder zurück. Selbstverständlich sind Eltern willkommen\, falls die Kinder diese Unterstützung möchten.
URL:https://katholisch-hernals.at/event/kinderwortgottesdienst-2/
LOCATION:Marienpfarre – Kirche\, Clemens Hofbauerplatz\, Wien\, 1170\, Österreich
CATEGORIES:Gottesdienst,Kinder,Kindergartenkinder 3-6,Kleinkinder 0-3,Paare mit Kindern,Schulkinder 6-10
ORGANIZER;CN="Marienpfarre":MAILTO:kanzlei@marienpfarre.at
END:VEVENT
BEGIN:VEVENT
DTSTART;TZID=Europe/Vienna:20180218T100000
DTEND;TZID=Europe/Vienna:20180218T110000
DTSTAMP:20260422T033514
CREATED:20180128T144947Z
LAST-MODIFIED:20180128T144947Z
UID:825-1518948000-1518951600@katholisch-hernals.at
SUMMARY:Messfeier mit Übertragung im ORF-Regionalradio
DESCRIPTION:
URL:https://katholisch-hernals.at/event/messfeier-mit-uebertragung-im-orf-regionalradio/
LOCATION:Pfarre Hernals – Kirche\, Sankt-Bartholomäus-Platz 3\, Wien\, 1170\, Österreich
CATEGORIES:Erwachsene,Gottesdienst,Jugendliche 14+,Junge Erwachsene,Kinder,Kinder 10-14,Kindergartenkinder 3-6,Kleinkinder 0-3,Paare mit Kindern,Paare ohne Kinder,Schulkinder 6-10,Senioren,Singles
ORGANIZER;CN="Pfarre Hernals":MAILTO:kanzlei@kalvarienbergkirche.at
END:VEVENT
BEGIN:VEVENT
DTSTART;TZID=Europe/Vienna:20180218T100000
DTEND;TZID=Europe/Vienna:20180218T110000
DTSTAMP:20260422T033514
CREATED:20180128T151134Z
LAST-MODIFIED:20180128T151134Z
UID:848-1518948000-1518951600@katholisch-hernals.at
SUMMARY:Kinderkirche
DESCRIPTION:
URL:https://katholisch-hernals.at/event/kinderkirche-2/
LOCATION:Pfarre Dornbach – Kirche\, Rupertusplatz\, Wien\, 1170\, Österreich
CATEGORIES:Kinder,Kinder 10-14,Kindergartenkinder 3-6,Schulkinder 6-10
ORGANIZER;CN="Pfarre Dornbach":MAILTO:kanzlei@pfarredornbach.at
END:VEVENT
BEGIN:VEVENT
DTSTART;TZID=Europe/Vienna:20180218T100000
DTEND;TZID=Europe/Vienna:20180218T110000
DTSTAMP:20260422T033514
CREATED:20180128T152259Z
LAST-MODIFIED:20180128T152259Z
UID:864-1518948000-1518951600@katholisch-hernals.at
SUMMARY:Kindermesse
DESCRIPTION:
URL:https://katholisch-hernals.at/event/kindermesse-2/
LOCATION:Sühnekirche\, Dr.-Josef-Resch-Platz 12\, Wien\, 1170\, Österreich
CATEGORIES:Gottesdienst,Kinder,Kinder 10-14,Kindergartenkinder 3-6,Kleinkinder 0-3,Paare mit Kindern,Schulkinder 6-10
ORGANIZER;CN="S%C3%BChnekirche":MAILTO:pfarramt-suehnekirche@chello.at
END:VEVENT
BEGIN:VEVENT
DTSTART;TZID=Europe/Vienna:20180219T163000
DTEND;TZID=Europe/Vienna:20180219T173000
DTSTAMP:20260422T033514
CREATED:20180128T145212Z
LAST-MODIFIED:20180128T145212Z
UID:827-1519057800-1519061400@katholisch-hernals.at
SUMMARY:Montagsforum - Singen zum Lob des Ewigen
DESCRIPTION:Den ersten Teil des Nachmittags bildet ein Referat; im zweiten Teil ist Gelegenheit\, Fragen zu stellen und miteinander zu diskutieren. \nReferentin: Dr. Friederike Ruth Winkler
URL:https://katholisch-hernals.at/event/montagsforum-singen-zum-lob-des-ewigen/
LOCATION:Pfarre Hernals\, Sankt-Bartholomäus-Platz 3\, Wien\, 1170\, Österreich
CATEGORIES:Austausch,Erwachsene,Gruppentreffen,Junge Erwachsene,Kultur,Paare ohne Kinder,Senioren,Singles,Weiterbildung
ORGANIZER;CN="Pfarre Hernals":MAILTO:kanzlei@kalvarienbergkirche.at
END:VEVENT
BEGIN:VEVENT
DTSTART;TZID=Europe/Vienna:20180220T081500
DTEND;TZID=Europe/Vienna:20180220T090000
DTSTAMP:20260422T033514
CREATED:20180128T151248Z
LAST-MODIFIED:20180128T151248Z
UID:850-1519114500-1519117200@katholisch-hernals.at
SUMMARY:Frauenmesse
DESCRIPTION:
URL:https://katholisch-hernals.at/event/frauenmesse/
LOCATION:Pfarre Dornbach – Pfarrsaal\, Rupertusplatz 4\, Wien\, 1170\, Österreich
CATEGORIES:Erwachsene,Gottesdienst,Junge Erwachsene,Senioren,Singles
ORGANIZER;CN="Pfarre Dornbach":MAILTO:kanzlei@pfarredornbach.at
END:VEVENT
BEGIN:VEVENT
DTSTART;TZID=Europe/Vienna:20180220T150000
DTEND;TZID=Europe/Vienna:20180220T160000
DTSTAMP:20260422T033514
CREATED:20180128T152601Z
LAST-MODIFIED:20180128T152601Z
UID:866-1519138800-1519142400@katholisch-hernals.at
SUMMARY:Schule des Herzens
DESCRIPTION:Leitung: P. Piotr Wojciechowski\, Pfarrer \nGlaube soll nicht oberflächlich bleiben! \nDurch die Beschäftigung mit verschiedenen Themen wollen wir unseren Glauben vertiefen und stärken. Gemeinsam ermutigen wir einander von Christus Zeugnis zu geben.
URL:https://katholisch-hernals.at/event/schule-des-herzens/
LOCATION:Sühnekirche – Pfarre\, Alszeile 7\, Wien\, 1170\, Österreich
CATEGORIES:Erwachsene,Junge Erwachsene,Paare ohne Kinder,Senioren,Singles,Spiritualität,Weiterbildung
ORGANIZER;CN="S%C3%BChnekirche":MAILTO:pfarramt-suehnekirche@chello.at
END:VEVENT
BEGIN:VEVENT
DTSTART;TZID=Europe/Vienna:20180220T180000
DTEND;TZID=Europe/Vienna:20180220T183000
DTSTAMP:20260422T033514
CREATED:20180128T152800Z
LAST-MODIFIED:20180128T152800Z
UID:869-1519149600-1519151400@katholisch-hernals.at
SUMMARY:Kreuzweg
DESCRIPTION:
URL:https://katholisch-hernals.at/event/kreuzweg-2/
LOCATION:Sühnekirche\, Dr.-Josef-Resch-Platz 12\, Wien\, 1170\, Österreich
CATEGORIES:Erwachsene,Gebet,Jugendliche 14+,Junge Erwachsene,Paare ohne Kinder,Senioren,Singles
ORGANIZER;CN="S%C3%BChnekirche":MAILTO:pfarramt-suehnekirche@chello.at
END:VEVENT
END:VCALENDAR