BEGIN:VCALENDAR
VERSION:2.0
PRODID:-//Pfarrverband Hernals - ECPv6.15.20//NONSGML v1.0//EN
CALSCALE:GREGORIAN
METHOD:PUBLISH
X-ORIGINAL-URL:https://katholisch-hernals.at
X-WR-CALDESC:Veranstaltungen für Pfarrverband Hernals
REFRESH-INTERVAL;VALUE=DURATION:PT1H
X-Robots-Tag:noindex
X-PUBLISHED-TTL:PT1H
BEGIN:VTIMEZONE
TZID:Europe/Vienna
BEGIN:DAYLIGHT
TZOFFSETFROM:+0100
TZOFFSETTO:+0200
TZNAME:CEST
DTSTART:20170326T010000
END:DAYLIGHT
BEGIN:STANDARD
TZOFFSETFROM:+0200
TZOFFSETTO:+0100
TZNAME:CET
DTSTART:20171029T010000
END:STANDARD
BEGIN:DAYLIGHT
TZOFFSETFROM:+0100
TZOFFSETTO:+0200
TZNAME:CEST
DTSTART:20180325T010000
END:DAYLIGHT
BEGIN:STANDARD
TZOFFSETFROM:+0200
TZOFFSETTO:+0100
TZNAME:CET
DTSTART:20181028T010000
END:STANDARD
BEGIN:DAYLIGHT
TZOFFSETFROM:+0100
TZOFFSETTO:+0200
TZNAME:CEST
DTSTART:20190331T010000
END:DAYLIGHT
BEGIN:STANDARD
TZOFFSETFROM:+0200
TZOFFSETTO:+0100
TZNAME:CET
DTSTART:20191027T010000
END:STANDARD
END:VTIMEZONE
BEGIN:VEVENT
DTSTART;TZID=Europe/Vienna:20180301T193000
DTEND;TZID=Europe/Vienna:20180301T210000
DTSTAMP:20260422T020505
CREATED:20180126T140013Z
LAST-MODIFIED:20180126T140410Z
UID:786-1519932600-1519938000@katholisch-hernals.at
SUMMARY:Vergib uns unserer Schuld\, wie auch wir vergeben unseren Schuldigern - Fastenzeit 2018
DESCRIPTION:P. Mag. Piotr Wojciechowski sscc\nDie Frage von Schuld und Vergebung ist dem Menschen heute genauso gegenwärtig wie früher. Mit der Bewältigung vergangener Ereignisse professionell beschäftigt sind heute vor allem die Psychologen. Was aber tut ein Mensch ohne Glauben an eine bedingungslose Vergebung? – Das Sakrament der Versöhnung ist ein Akt\, in dem Gott über den Weg des Priesters bedingungslose Vergebung zuspricht. \nLeiter: Pfarrer P. Piotr Wojciechwoski SSCC \nAnmeldung\n \n\nPersönlich: in den vier Pfarren\nPost: Pfarre Hernals\, Sankt-Bartholomäus-Platz 3\, 1170 Wien\nWeb: www.kalvarienbergkirche.at\nFax: +43 1 406 89 45 22
URL:https://katholisch-hernals.at/event/vergebung-und-versoehnung-im-biblischen-kontext-fastenzeit-2018-2-2/
LOCATION:Marienpfarre – Clemens Hofbauer Saal\, Kulmgasse 35\, Wien\, 1170\, Österreich
CATEGORIES:Austausch,Beichte,Erwachsene,Junge Erwachsene,Paare ohne Kinder,Sakrament,Senioren,Singles,Spiritualität,Weiterbildung
END:VEVENT
BEGIN:VEVENT
DTSTART;TZID=Europe/Vienna:20180302T150000
DTEND;TZID=Europe/Vienna:20180302T160000
DTSTAMP:20260422T020505
CREATED:20180215T102311Z
LAST-MODIFIED:20180215T102311Z
UID:927-1520002800-1520006400@katholisch-hernals.at
SUMMARY:Herz-Jesu-Freitag - Anbetung
DESCRIPTION:
URL:https://katholisch-hernals.at/event/herz-jesu-freitag-anbetung/
LOCATION:Sühnekirche\, Dr.-Josef-Resch-Platz 12\, Wien\, 1170\, Österreich
CATEGORIES:Erwachsene,Gebet,Jugendliche 14+,Junge Erwachsene,Paare mit Kindern,Paare ohne Kinder,Senioren,Singles
ORGANIZER;CN="S%C3%BChnekirche":MAILTO:pfarramt-suehnekirche@chello.at
END:VEVENT
BEGIN:VEVENT
DTSTART;TZID=Europe/Vienna:20180302T170000
DTEND;TZID=Europe/Vienna:20180302T180000
DTSTAMP:20260422T020505
CREATED:20180215T102403Z
LAST-MODIFIED:20180215T102403Z
UID:929-1520010000-1520013600@katholisch-hernals.at
SUMMARY:Herz-Jesu-Freitag - Messe
DESCRIPTION:
URL:https://katholisch-hernals.at/event/herz-jesu-freitag-messe/
LOCATION:Sühnekirche\, Dr.-Josef-Resch-Platz 12\, Wien\, 1170\, Österreich
CATEGORIES:Erwachsene,Gottesdienst,Jugendliche 14+,Junge Erwachsene,Paare mit Kindern,Paare ohne Kinder,Senioren,Singles
ORGANIZER;CN="S%C3%BChnekirche":MAILTO:pfarramt-suehnekirche@chello.at
END:VEVENT
BEGIN:VEVENT
DTSTART;TZID=Europe/Vienna:20180304T090000
DTEND;TZID=Europe/Vienna:20180304T120000
DTSTAMP:20260422T020505
CREATED:20180215T102522Z
LAST-MODIFIED:20180215T102523Z
UID:931-1520154000-1520164800@katholisch-hernals.at
SUMMARY:Suppensonntag
DESCRIPTION:Suppensonntag zu Gunsten der Projekte der Katholischen Frauenbewegung
URL:https://katholisch-hernals.at/event/suppensonntag/
LOCATION:Sühnekirche – Pfarre\, Alszeile 7\, Wien\, 1170\, Österreich
CATEGORIES:Erwachsene,Fest,Jugendliche 14+,Junge Erwachsene,Kinder,Kinder 10-14,Kindergartenkinder 3-6,Kleinkinder 0-3,Paare mit Kindern,Paare ohne Kinder,Schulkinder 6-10,Senioren,Singles
ORGANIZER;CN="S%C3%BChnekirche":MAILTO:pfarramt-suehnekirche@chello.at
END:VEVENT
BEGIN:VEVENT
DTSTART;TZID=Europe/Vienna:20180304T093000
DTEND;TZID=Europe/Vienna:20180304T103000
DTSTAMP:20260422T020505
CREATED:20180126T104415Z
LAST-MODIFIED:20180126T104415Z
UID:746-1520155800-1520159400@katholisch-hernals.at
SUMMARY:Kanzeltausch - Hl. Messe mit Pfarrer Karl Engelmann
DESCRIPTION:  \n \nAb Frühjahr 2018 tauschen die Pfarrer im Entwicklungsraum Hernals die Kanzeln: Jeder der vier Pfarrer wird an drei Sonntagen in den jeweils anderen drei Gemeinden die Pfarrmesse feiern. So lernen die Messbesucher die Hernalser Pfarrer besser kennen.
URL:https://katholisch-hernals.at/event/kanzeltausch-hl-messe-mit-pfarrer-karl-engelmann-2-2/
LOCATION:Marienpfarre – Kirche\, Clemens Hofbauerplatz\, Wien\, 1170\, Österreich
CATEGORIES:Erwachsene,Gottesdienst,Jugendliche 14+,Junge Erwachsene,Paare mit Kindern,Paare ohne Kinder,Senioren,Singles
END:VEVENT
BEGIN:VEVENT
DTSTART;TZID=Europe/Vienna:20180304T100000
DTEND;TZID=Europe/Vienna:20180304T110000
DTSTAMP:20260422T020505
CREATED:20180126T103817Z
LAST-MODIFIED:20180126T103817Z
UID:730-1520157600-1520161200@katholisch-hernals.at
SUMMARY:Kanzeltausch - Hl. Messe mit Pfarrer Wolfgang Kimmel
DESCRIPTION:  \n \nAb Frühjahr 2018 tauschen die Pfarrer im Entwicklungsraum Hernals die Kanzeln: Jeder der vier Pfarrer wird an drei Sonntagen in den jeweils anderen drei Gemeinden die Pfarrmesse feiern. So lernen die Messbesucher die Hernalser Pfarrer besser kennen.
URL:https://katholisch-hernals.at/event/kanzeltausch-hl-messe-mit-pfarrer-wolfgang-kimmel/
LOCATION:Sühnekirche\, Dr.-Josef-Resch-Platz 12\, Wien\, 1170\, Österreich
CATEGORIES:Erwachsene,Gottesdienst,Jugendliche 14+,Junge Erwachsene,Paare mit Kindern,Paare ohne Kinder,Senioren,Singles
END:VEVENT
BEGIN:VEVENT
DTSTART;TZID=Europe/Vienna:20180304T100000
DTEND;TZID=Europe/Vienna:20180304T110000
DTSTAMP:20260422T020505
CREATED:20180126T104202Z
LAST-MODIFIED:20180126T104202Z
UID:740-1520157600-1520161200@katholisch-hernals.at
SUMMARY:Kanzeltausch - Hl. Messe mit Pfarrer P. Piotr Wojciechowski SSCC
DESCRIPTION:  \n \nAb Frühjahr 2018 tauschen die Pfarrer im Entwicklungsraum Hernals die Kanzeln: Jeder der vier Pfarrer wird an drei Sonntagen in den jeweils anderen drei Gemeinden die Pfarrmesse feiern. So lernen die Messbesucher die Hernalser Pfarrer besser kennen.
URL:https://katholisch-hernals.at/event/kanzeltausch-hl-messe-mit-pfarrer-piotr-wojciechowski-2-2/
LOCATION:Pfarre Dornbach – Kirche\, Rupertusplatz\, Wien\, 1170\, Österreich
CATEGORIES:Erwachsene,Gottesdienst,Jugendliche 14+,Junge Erwachsene,Paare mit Kindern,Paare ohne Kinder,Senioren,Singles
END:VEVENT
BEGIN:VEVENT
DTSTART;TZID=Europe/Vienna:20180304T101500
DTEND;TZID=Europe/Vienna:20180304T111500
DTSTAMP:20260422T020505
CREATED:20180126T104754Z
LAST-MODIFIED:20180126T104754Z
UID:752-1520158500-1520162100@katholisch-hernals.at
SUMMARY:Kanzeltausch - Hl. Messe mit Pfarrer P. Lorenz Voith CSsR
DESCRIPTION:  \n \nAb Frühjahr 2018 tauschen die Pfarrer im Entwicklungsraum Hernals die Kanzeln: Jeder der vier Pfarrer wird an drei Sonntagen in den jeweils anderen drei Gemeinden die Pfarrmesse feiern. So lernen die Messbesucher die Hernalser Pfarrer besser kennen.
URL:https://katholisch-hernals.at/event/kanzeltausch-hl-messe-mit-pfarrer-lorenz-voith-2-2/
LOCATION:Pfarre Hernals – Kirche\, Sankt-Bartholomäus-Platz 3\, Wien\, 1170\, Österreich
CATEGORIES:Erwachsene,Gottesdienst,Jugendliche 14+,Junge Erwachsene,Paare mit Kindern,Paare ohne Kinder,Senioren,Singles
END:VEVENT
BEGIN:VEVENT
DTSTART;TZID=Europe/Vienna:20180304T120000
DTEND;TZID=Europe/Vienna:20180304T140000
DTSTAMP:20260422T020505
CREATED:20180222T133104Z
LAST-MODIFIED:20180222T161019Z
UID:1091-1520164800-1520172000@katholisch-hernals.at
SUMMARY:Fastensuppen-Essen
DESCRIPTION:Suppenbuffet für einen caritativen Zweck
URL:https://katholisch-hernals.at/event/fastensuppen-essen/
LOCATION:Marienpfarre – Clemens Hofbauer Saal\, Kulmgasse 35\, Wien\, 1170\, Österreich
CATEGORIES:Caritas,Erwachsene,Fest,Jugendliche 14+,Junge Erwachsene,Kinder,Kinder 10-14,Kindergartenkinder 3-6,Kleinkinder 0-3,Paare mit Kindern,Paare ohne Kinder,Schulkinder 6-10,Senioren,Singles
ORGANIZER;CN="Marienpfarre":MAILTO:kanzlei@marienpfarre.at
END:VEVENT
BEGIN:VEVENT
DTSTART;TZID=Europe/Vienna:20180306T063000
DTEND;TZID=Europe/Vienna:20180306T070000
DTSTAMP:20260422T020505
CREATED:20180128T151608Z
LAST-MODIFIED:20180128T151608Z
UID:854-1520317800-1520319600@katholisch-hernals.at
SUMMARY:Schule des Hörens
DESCRIPTION:
URL:https://katholisch-hernals.at/event/schule-des-hoerens/
LOCATION:Pfarre Dornbach – Hauskapelle\, Rupertusplatz 3\, Wien\, 1170\, Österreich
CATEGORIES:Erwachsene,Gebet,Jugendliche 14+,Junge Erwachsene,Paare ohne Kinder,Senioren,Singles,Spiritualität
ORGANIZER;CN="Pfarre Dornbach":MAILTO:kanzlei@pfarredornbach.at
END:VEVENT
BEGIN:VEVENT
DTSTART;TZID=Europe/Vienna:20180306T160000
DTEND;TZID=Europe/Vienna:20180306T173000
DTSTAMP:20260422T020505
CREATED:20180211T185733Z
LAST-MODIFIED:20180214T134934Z
UID:912-1520352000-1520357400@katholisch-hernals.at
SUMMARY:Kinderkreuzweg des Dekanats auf den Schafberg
DESCRIPTION:Den Kreuzweg Jesu erinnern auf einer kleinen Wanderung am Himmelmutterweg hinauf zur Schafbergkirche: die Stationen sind für Kinder gestaltet und von den vier Pfarren des  Entwicklungsraums vorbereitet. Herzliche Einladung an alle Kinder und ihre Familien! \nTreffpunkt ist um 16 Uhr bei der 43er Station Himmelmutterweg – Ende um ca. 17.30 Uhr bei der Kirche am Schafberg.
URL:https://katholisch-hernals.at/event/kinderkreuzweg-des-dekanats-auf-den-schafberg/
CATEGORIES:Ausflug,Gebet,Kinder,Kinder 10-14,Kindergartenkinder 3-6,Paare mit Kindern,Schulkinder 6-10
END:VEVENT
BEGIN:VEVENT
DTSTART;TZID=Europe/Vienna:20180308T193000
DTEND;TZID=Europe/Vienna:20180308T210000
DTSTAMP:20260422T020505
CREATED:20180126T140108Z
LAST-MODIFIED:20180126T140440Z
UID:788-1520537400-1520542800@katholisch-hernals.at
SUMMARY:Das Sakrament der Versöhnung - Kern der christlichen Botschaft - Fastenzeit 2018
DESCRIPTION:Die Frage von Schuld und Vergebung ist dem Menschen heute genauso gegenwärtig wie früher. Mit der Bewältigung vergangener Ereignisse professionell beschäftigt sind heute vor allem die Psychologen. Was aber tut ein Mensch ohne Glauben an eine bedingungslose Vergebung? – Das Sakrament der Versöhnung ist ein Akt\, in dem Gott über den Weg des Priesters bedingungslose Vergebung zuspricht. \nLeiter: Pfarrer P. Lorenz Voith CSsR \nAnmeldung\n \n\nPersönlich: in den vier Pfarren\nPost: Pfarre Hernals\, Sankt-Bartholomäus-Platz 3\, 1170 Wien\nWeb: www.kalvarienbergkirche.at\nFax: +43 1 406 89 45 22
URL:https://katholisch-hernals.at/event/vergebung-und-versoehnung-im-biblischen-kontext-fastenzeit-2018-2-2-2/
LOCATION:Pfarre Hernals\, Sankt-Bartholomäus-Platz 3\, Wien\, 1170\, Österreich
CATEGORIES:Austausch,Beichte,Erwachsene,Junge Erwachsene,Paare ohne Kinder,Sakrament,Senioren,Singles,Spiritualität,Weiterbildung
END:VEVENT
BEGIN:VEVENT
DTSTART;TZID=Europe/Vienna:20180309T183000
DTEND;TZID=Europe/Vienna:20180309T220000
DTSTAMP:20260422T020505
CREATED:20180215T103733Z
LAST-MODIFIED:20180219T104307Z
UID:949-1520620200-1520632800@katholisch-hernals.at
SUMMARY:Lange Nacht der Barmherzigkeit
DESCRIPTION:
URL:https://katholisch-hernals.at/event/lange-nacht-der-barmherzigkeit/
LOCATION:Pfarre Dornbach – Kirche\, Rupertusplatz\, Wien\, 1170\, Österreich
ORGANIZER;CN="Pfarre Dornbach":MAILTO:kanzlei@pfarredornbach.at
END:VEVENT
BEGIN:VEVENT
DTSTART;TZID=Europe/Vienna:20180311T100000
DTEND;TZID=Europe/Vienna:20180311T130000
DTSTAMP:20260422T020505
CREATED:20180215T103951Z
LAST-MODIFIED:20180215T103951Z
UID:951-1520762400-1520773200@katholisch-hernals.at
SUMMARY:Suppensonntag
DESCRIPTION:Suppe essen für einen guten Zweck\, nach der Messe um 10:00
URL:https://katholisch-hernals.at/event/suppensonntag-2/
LOCATION:Pfarre Dornbach – Pfarrsaal\, Rupertusplatz 4\, Wien\, 1170\, Österreich
CATEGORIES:Caritas,Erwachsene,Fest,Jugendliche 14+,Junge Erwachsene,Kinder,Kinder 10-14,Kindergartenkinder 3-6,Kleinkinder 0-3,Paare mit Kindern,Paare ohne Kinder,Schulkinder 6-10,Senioren,Singles
ORGANIZER;CN="Pfarre Dornbach":MAILTO:kanzlei@pfarredornbach.at
END:VEVENT
BEGIN:VEVENT
DTSTART;TZID=Europe/Vienna:20180311T130000
DTEND;TZID=Europe/Vienna:20180311T170000
DTSTAMP:20260422T020505
CREATED:20180215T102647Z
LAST-MODIFIED:20180215T102647Z
UID:933-1520773200-1520787600@katholisch-hernals.at
SUMMARY:Wärmestube im Pfarrsaal
DESCRIPTION:
URL:https://katholisch-hernals.at/event/waermestube-im-pfarrsaal-2/
LOCATION:Sühnekirche – Pfarre\, Alszeile 7\, Wien\, 1170\, Österreich
CATEGORIES:Caritas,Erwachsene
ORGANIZER;CN="S%C3%BChnekirche":MAILTO:pfarramt-suehnekirche@chello.at
END:VEVENT
BEGIN:VEVENT
DTSTART;TZID=Europe/Vienna:20180313T190000
DTEND;TZID=Europe/Vienna:20180313T200000
DTSTAMP:20260422T020505
CREATED:20180215T104036Z
LAST-MODIFIED:20180215T104036Z
UID:953-1520967600-1520971200@katholisch-hernals.at
SUMMARY:Vesper
DESCRIPTION:Diakon Gerhard Scholz
URL:https://katholisch-hernals.at/event/vesper-2/
LOCATION:Pfarre Dornbach – Hauskapelle\, Rupertusplatz 3\, Wien\, 1170\, Österreich
CATEGORIES:Erwachsene,Gebet,Jugendliche 14+,Junge Erwachsene,Paare ohne Kinder,Senioren,Singles
ORGANIZER;CN="Pfarre Dornbach":MAILTO:kanzlei@pfarredornbach.at
END:VEVENT
BEGIN:VEVENT
DTSTART;TZID=Europe/Vienna:20180314T183000
DTEND;TZID=Europe/Vienna:20180314T200000
DTSTAMP:20260422T020505
CREATED:20180126T130802Z
LAST-MODIFIED:20180126T130802Z
UID:765-1521052200-1521057600@katholisch-hernals.at
SUMMARY:Klemensfest
DESCRIPTION:Festlicher Gottesdienst im syro-malabraische Ritus (mit Provinzial P. Joy aus Kerala/Indien und anderen Priestern und Schwestern dieses Ritus). \nAnschließend: Große indische Agape im Klemens Hofbauer-Saal.
URL:https://katholisch-hernals.at/event/klemensfest/
LOCATION:Marienpfarre – Kirche\, Clemens Hofbauerplatz\, Wien\, 1170\, Österreich
CATEGORIES:Erwachsene,Fest,Gottesdienst,Junge Erwachsene,Paare ohne Kinder,Senioren,Singles
ORGANIZER;CN="Marienpfarre":MAILTO:kanzlei@marienpfarre.at
END:VEVENT
BEGIN:VEVENT
DTSTART;TZID=Europe/Vienna:20180315T153000
DTEND;TZID=Europe/Vienna:20180315T163000
DTSTAMP:20260422T020505
CREATED:20180215T104113Z
LAST-MODIFIED:20180215T104113Z
UID:955-1521127800-1521131400@katholisch-hernals.at
SUMMARY:Senioren-Nachmittag mit Geburtstagsfeier
DESCRIPTION:
URL:https://katholisch-hernals.at/event/senioren-nachmittag-mit-geburtstagsfeier-2/
LOCATION:Pfarre Dornbach – Pfarrsaal\, Rupertusplatz 4\, Wien\, 1170\, Österreich
CATEGORIES:Erwachsene,Fest,Senioren
ORGANIZER;CN="Pfarre Dornbach":MAILTO:kanzlei@pfarredornbach.at
END:VEVENT
BEGIN:VEVENT
DTSTART;TZID=Europe/Vienna:20180315T183000
DTEND;TZID=Europe/Vienna:20180315T200000
DTSTAMP:20260422T020505
CREATED:20180126T131009Z
LAST-MODIFIED:20180228T163539Z
UID:767-1521138600-1521144000@katholisch-hernals.at
SUMMARY:Festgottesdienst Klemensfest
DESCRIPTION:Feierlicher Gottesdienst mit Domkapitular Dr. Richard Tatzreiter\, Regens des Wiener Priesterseminars. \nMusik: Joseph Haydn\, Theresienmesse;\nChor und Orchester der Marienpfarre;\nLeitung: Prof. Wolfgang Capek. \nAnschließend: Agape im Klemens Hofbauer-Saal.
URL:https://katholisch-hernals.at/event/festgottesdienst-klemensfest/
LOCATION:Marienpfarre – Kirche\, Clemens Hofbauerplatz\, Wien\, 1170\, Österreich
CATEGORIES:Erwachsene,Fest,Gottesdienst,Jugendliche 14+,Junge Erwachsene,Musik (klassisch),Paare mit Kindern,Paare ohne Kinder,Senioren,Singles
ORGANIZER;CN="Marienpfarre":MAILTO:kanzlei@marienpfarre.at
END:VEVENT
BEGIN:VEVENT
DTSTART;TZID=Europe/Vienna:20180315T193000
DTEND;TZID=Europe/Vienna:20180315T203000
DTSTAMP:20260422T020505
CREATED:20180128T143723Z
LAST-MODIFIED:20180128T143723Z
UID:805-1521142200-1521145800@katholisch-hernals.at
SUMMARY:Y-Treff
DESCRIPTION:Männer jeden Alters tauschen Erfahrungen über Generationen aus. \nUnterschiedliche Berufe\, Bildung\, Herkunft und Weltanschauung treffen sich zum offenen Meinungsaustausch in zwangloser Atmosphäre. \nWir geben anderen Meinungen Raum. \nPersönliche Themen können im vertraulichen Rahmen diskutiert werden \nRiskantes sagen dürfen. Über Gefühle reden. \nBist du am offenen Gedankenaustausch interessiert\, dann komm zu unserem nächsten Treffen!\n\nSchön wäre es\, in unserem Kreis Männer verschiedener Religionen zu haben. Erst dann würden wir die Gemeinsamkeit erkennen.
URL:https://katholisch-hernals.at/event/y-treff-2/
LOCATION:B.R.O.T. Haus\, Geblergasse 78\, Wien\, 1170\, Österreich
CATEGORIES:Austausch,Erwachsene,Gruppentreffen,Junge Erwachsene,Senioren,Singles,Spiritualität,Weiterbildung
ORGANIZER;CN="Pfarre Hernals":MAILTO:kanzlei@kalvarienbergkirche.at
END:VEVENT
BEGIN:VEVENT
DTSTART;TZID=Europe/Vienna:20180316T190000
DTEND;TZID=Europe/Vienna:20180316T210000
DTSTAMP:20260422T020505
CREATED:20180126T131234Z
LAST-MODIFIED:20180228T163512Z
UID:769-1521226800-1521234000@katholisch-hernals.at
SUMMARY:Konzert zu Ehren des Stadtpatrons
DESCRIPTION:Konzert zu Ehren des Wiener Stadtpatrons Klemens Maria Hofbauer: Speech/Sound. \nEine Expedition mit Musik von John Taverner\, Georgij Sviridov\, Claudio Monteverdi\, Hildegard von Bingen\, Heinrich Schütz u.a. Capella Vocale Wien unter der Leitung von Simon Erasimus.
URL:https://katholisch-hernals.at/event/konzert-zu-ehren-des-stadtpatrons/
LOCATION:Marienpfarre – Kirche\, Clemens Hofbauerplatz\, Wien\, 1170\, Österreich
CATEGORIES:Erwachsene,Fest,Junge Erwachsene,Musik (klassisch),Musik (modern),Paare ohne Kinder,Senioren,Singles
ORGANIZER;CN="Marienpfarre":MAILTO:kanzlei@marienpfarre.at
END:VEVENT
BEGIN:VEVENT
DTSTART;TZID=Europe/Vienna:20180318T093000
DTEND;TZID=Europe/Vienna:20180318T103000
DTSTAMP:20260422T020505
CREATED:20180126T103855Z
LAST-MODIFIED:20180126T103855Z
UID:732-1521365400-1521369000@katholisch-hernals.at
SUMMARY:Kanzeltausch - Hl. Messe mit Pfarrer Wolfgang Kimmel
DESCRIPTION:  \n \nAb Frühjahr 2018 tauschen die Pfarrer im Entwicklungsraum Hernals die Kanzeln: Jeder der vier Pfarrer wird an drei Sonntagen in den jeweils anderen drei Gemeinden die Pfarrmesse feiern. So lernen die Messbesucher die Hernalser Pfarrer besser kennen.
URL:https://katholisch-hernals.at/event/kanzeltausch-hl-messe-mit-pfarrer-wolfgang-kimmel-2/
LOCATION:Marienpfarre – Kirche\, Clemens Hofbauerplatz\, Wien\, 1170\, Österreich
CATEGORIES:Erwachsene,Gottesdienst,Jugendliche 14+,Junge Erwachsene,Paare mit Kindern,Paare ohne Kinder,Senioren,Singles
END:VEVENT
BEGIN:VEVENT
DTSTART;TZID=Europe/Vienna:20180318T100000
DTEND;TZID=Europe/Vienna:20180318T110000
DTSTAMP:20260422T020505
CREATED:20180126T104354Z
LAST-MODIFIED:20180126T104354Z
UID:744-1521367200-1521370800@katholisch-hernals.at
SUMMARY:Kanzeltausch - Hl. Messe mit Pfarrer Karl Engelmann
DESCRIPTION:  \n \nAb Frühjahr 2018 tauschen die Pfarrer im Entwicklungsraum Hernals die Kanzeln: Jeder der vier Pfarrer wird an drei Sonntagen in den jeweils anderen drei Gemeinden die Pfarrmesse feiern. So lernen die Messbesucher die Hernalser Pfarrer besser kennen.
URL:https://katholisch-hernals.at/event/kanzeltausch-hl-messe-mit-pfarrer-karl-engelmann-2/
LOCATION:Pfarre Dornbach – Kirche\, Rupertusplatz\, Wien\, 1170\, Österreich
CATEGORIES:Erwachsene,Gottesdienst,Jugendliche 14+,Junge Erwachsene,Paare mit Kindern,Paare ohne Kinder,Senioren,Singles
END:VEVENT
BEGIN:VEVENT
DTSTART;TZID=Europe/Vienna:20180318T100000
DTEND;TZID=Europe/Vienna:20180318T110000
DTSTAMP:20260422T020505
CREATED:20180126T104726Z
LAST-MODIFIED:20180126T104726Z
UID:750-1521367200-1521370800@katholisch-hernals.at
SUMMARY:Kanzeltausch - Hl. Messe mit Pfarrer P. Lorenz Voith CSsR
DESCRIPTION:  \n \nAb Frühjahr 2018 tauschen die Pfarrer im Entwicklungsraum Hernals die Kanzeln: Jeder der vier Pfarrer wird an drei Sonntagen in den jeweils anderen drei Gemeinden die Pfarrmesse feiern. So lernen die Messbesucher die Hernalser Pfarrer besser kennen.
URL:https://katholisch-hernals.at/event/kanzeltausch-hl-messe-mit-pfarrer-lorenz-voith-2/
LOCATION:Sühnekirche\, Dr.-Josef-Resch-Platz 12\, Wien\, 1170\, Österreich
CATEGORIES:Erwachsene,Gottesdienst,Jugendliche 14+,Junge Erwachsene,Paare mit Kindern,Paare ohne Kinder,Senioren,Singles
END:VEVENT
BEGIN:VEVENT
DTSTART;TZID=Europe/Vienna:20180318T101500
DTEND;TZID=Europe/Vienna:20180318T111500
DTSTAMP:20260422T020505
CREATED:20180126T104132Z
LAST-MODIFIED:20180126T104132Z
UID:738-1521368100-1521371700@katholisch-hernals.at
SUMMARY:Kanzeltausch - Hl. Messe mit Pfarrer P. Piotr Wojciechowski SSCC
DESCRIPTION:  \n \nAb Frühjahr 2018 tauschen die Pfarrer im Entwicklungsraum Hernals die Kanzeln: Jeder der vier Pfarrer wird an drei Sonntagen in den jeweils anderen drei Gemeinden die Pfarrmesse feiern. So lernen die Messbesucher die Hernalser Pfarrer besser kennen.
URL:https://katholisch-hernals.at/event/kanzeltausch-hl-messe-mit-pfarrer-piotr-wojciechowski-2/
LOCATION:Pfarre Hernals – Kirche\, Sankt-Bartholomäus-Platz 3\, Wien\, 1170\, Österreich
CATEGORIES:Erwachsene,Gottesdienst,Jugendliche 14+,Junge Erwachsene,Paare mit Kindern,Paare ohne Kinder,Senioren,Singles
END:VEVENT
BEGIN:VEVENT
DTSTART;TZID=Europe/Vienna:20180318T160000
DTEND;TZID=Europe/Vienna:20180318T170000
DTSTAMP:20260422T020505
CREATED:20180215T104319Z
LAST-MODIFIED:20180215T104319Z
UID:959-1521388800-1521392400@katholisch-hernals.at
SUMMARY:Dekanatskreuzweg
DESCRIPTION:
URL:https://katholisch-hernals.at/event/dekanatskreuzweg/
LOCATION:Pfarre Hernals – Kirche\, Sankt-Bartholomäus-Platz 3\, Wien\, 1170\, Österreich
CATEGORIES:Erwachsene,Gebet,Jugendliche 14+,Junge Erwachsene,Kinder,Kinder 10-14,Kindergartenkinder 3-6,Kleinkinder 0-3,Paare mit Kindern,Paare ohne Kinder,Schulkinder 6-10,Senioren,Singles
END:VEVENT
BEGIN:VEVENT
DTSTART;TZID=Europe/Vienna:20180319T193000
DTEND;TZID=Europe/Vienna:20180319T203000
DTSTAMP:20260422T020505
CREATED:20180215T105230Z
LAST-MODIFIED:20180215T105230Z
UID:964-1521487800-1521491400@katholisch-hernals.at
SUMMARY:Ökumenerunde
DESCRIPTION:Dr. Wolfgang Kimmel „Dietrich Bonhoefer“ – Mit guten Mächten gegen Hitler
URL:https://katholisch-hernals.at/event/oekumenerunde-2-2/
LOCATION:Pfarre Dornbach – Kirche\, Rupertusplatz\, Wien\, 1170\, Österreich
CATEGORIES:Austausch,Erwachsene,Gebet,Jugendliche 14+,Junge Erwachsene,Ökumene,Paare ohne Kinder,Senioren,Singles
ORGANIZER;CN="Pfarre Dornbach":MAILTO:kanzlei@pfarredornbach.at
END:VEVENT
BEGIN:VEVENT
DTSTART;TZID=Europe/Vienna:20180320T150000
DTEND;TZID=Europe/Vienna:20180320T160000
DTSTAMP:20260422T020505
CREATED:20180215T102850Z
LAST-MODIFIED:20180215T102850Z
UID:935-1521558000-1521561600@katholisch-hernals.at
SUMMARY:Schule des Herzens
DESCRIPTION:Leitung: P. Piotr Wojciechowski\, Pfarrer \nGlaube soll nicht oberflächlich bleiben! \nDurch die Beschäftigung mit verschiedenen Themen wollen wir unseren Glauben vertiefen und stärken. Gemeinsam ermutigen wir einander von Christus Zeugnis zu geben.
URL:https://katholisch-hernals.at/event/schule-des-herzens-2/
LOCATION:Sühnekirche – Pfarre\, Alszeile 7\, Wien\, 1170\, Österreich
CATEGORIES:Erwachsene,Junge Erwachsene,Paare ohne Kinder,Senioren,Singles,Spiritualität,Weiterbildung
ORGANIZER;CN="S%C3%BChnekirche":MAILTO:pfarramt-suehnekirche@chello.at
END:VEVENT
BEGIN:VEVENT
DTSTART;TZID=Europe/Vienna:20180321T084500
DTEND;TZID=Europe/Vienna:20180321T093000
DTSTAMP:20260422T020505
CREATED:20180215T102944Z
LAST-MODIFIED:20180215T102944Z
UID:937-1521621900-1521624600@katholisch-hernals.at
SUMMARY:Glaubensgespräch
DESCRIPTION:
URL:https://katholisch-hernals.at/event/glaubensgespraech-2/
LOCATION:Sühnekirche – Pfarre\, Alszeile 7\, Wien\, 1170\, Österreich
CATEGORIES:Austausch,Erwachsene,Junge Erwachsene,Paare ohne Kinder,Senioren,Singles,Spiritualität
ORGANIZER;CN="S%C3%BChnekirche":MAILTO:pfarramt-suehnekirche@chello.at
END:VEVENT
BEGIN:VEVENT
DTSTART;TZID=Europe/Vienna:20180321T193000
DTEND;TZID=Europe/Vienna:20180321T203000
DTSTAMP:20260422T020505
CREATED:20180215T103029Z
LAST-MODIFIED:20180215T103029Z
UID:939-1521660600-1521664200@katholisch-hernals.at
SUMMARY:Männerrunde
DESCRIPTION:
URL:https://katholisch-hernals.at/event/maennerrunde-2/
LOCATION:Sühnekirche – Pfarre\, Alszeile 7\, Wien\, 1170\, Österreich
CATEGORIES:Austausch,Erwachsene,Gruppentreffen,Junge Erwachsene,Senioren,Singles
ORGANIZER;CN="S%C3%BChnekirche":MAILTO:pfarramt-suehnekirche@chello.at
END:VEVENT
END:VCALENDAR