BEGIN:VCALENDAR
VERSION:2.0
PRODID:-//Pfarrverband Hernals - ECPv6.15.20//NONSGML v1.0//EN
CALSCALE:GREGORIAN
METHOD:PUBLISH
X-WR-CALNAME:Pfarrverband Hernals
X-ORIGINAL-URL:https://katholisch-hernals.at
X-WR-CALDESC:Veranstaltungen für Pfarrverband Hernals
REFRESH-INTERVAL;VALUE=DURATION:PT1H
X-Robots-Tag:noindex
X-PUBLISHED-TTL:PT1H
BEGIN:VTIMEZONE
TZID:Europe/Vienna
BEGIN:DAYLIGHT
TZOFFSETFROM:+0100
TZOFFSETTO:+0200
TZNAME:CEST
DTSTART:20170326T010000
END:DAYLIGHT
BEGIN:STANDARD
TZOFFSETFROM:+0200
TZOFFSETTO:+0100
TZNAME:CET
DTSTART:20171029T010000
END:STANDARD
BEGIN:DAYLIGHT
TZOFFSETFROM:+0100
TZOFFSETTO:+0200
TZNAME:CEST
DTSTART:20180325T010000
END:DAYLIGHT
BEGIN:STANDARD
TZOFFSETFROM:+0200
TZOFFSETTO:+0100
TZNAME:CET
DTSTART:20181028T010000
END:STANDARD
BEGIN:DAYLIGHT
TZOFFSETFROM:+0100
TZOFFSETTO:+0200
TZNAME:CEST
DTSTART:20190331T010000
END:DAYLIGHT
BEGIN:STANDARD
TZOFFSETFROM:+0200
TZOFFSETTO:+0100
TZNAME:CET
DTSTART:20191027T010000
END:STANDARD
END:VTIMEZONE
BEGIN:VEVENT
DTSTART;TZID=Europe/Vienna:20180401T093000
DTEND;TZID=Europe/Vienna:20180401T103000
DTSTAMP:20260422T003930
CREATED:20180321T103703Z
LAST-MODIFIED:20180321T103703Z
UID:1186-1522575000-1522578600@katholisch-hernals.at
SUMMARY:Ostersonntag - Feierliches Hochamt
DESCRIPTION:Franz Schubert\, Messe in B-Dur \nChor und Orchester der Marienpfarre unter der Leitung von Wolfgang Capek
URL:https://katholisch-hernals.at/event/ostersonntag-feierliches-hochamt/
LOCATION:Marienpfarre – Kirche\, Clemens Hofbauerplatz\, Wien\, 1170\, Österreich
CATEGORIES:Erwachsene,Gottesdienst,Junge Erwachsene,Musik (klassisch),Paare ohne Kinder,Senioren,Singles
ORGANIZER;CN="Marienpfarre":MAILTO:kanzlei@marienpfarre.at
END:VEVENT
BEGIN:VEVENT
DTSTART;TZID=Europe/Vienna:20180402T080000
DTEND;TZID=Europe/Vienna:20180402T090000
DTSTAMP:20260422T003930
CREATED:20180321T104040Z
LAST-MODIFIED:20180321T104040Z
UID:1188-1522656000-1522659600@katholisch-hernals.at
SUMMARY:Ostergottesdienst
DESCRIPTION:
URL:https://katholisch-hernals.at/event/ostergottesdienst/
LOCATION:Marienpfarre – Kirche\, Clemens Hofbauerplatz\, Wien\, 1170\, Österreich
CATEGORIES:Erwachsene,Gottesdienst,Junge Erwachsene,Paare ohne Kinder,Senioren,Singles
ORGANIZER;CN="Marienpfarre":MAILTO:kanzlei@marienpfarre.at
END:VEVENT
BEGIN:VEVENT
DTSTART;TZID=Europe/Vienna:20180402T093000
DTEND;TZID=Europe/Vienna:20180402T103000
DTSTAMP:20260422T003930
CREATED:20180321T104104Z
LAST-MODIFIED:20180321T104104Z
UID:1190-1522661400-1522665000@katholisch-hernals.at
SUMMARY:Ostergottesdienst
DESCRIPTION:
URL:https://katholisch-hernals.at/event/ostergottesdienst-2/
LOCATION:Marienpfarre – Kirche\, Clemens Hofbauerplatz\, Wien\, 1170\, Österreich
CATEGORIES:Erwachsene,Gottesdienst,Junge Erwachsene,Paare ohne Kinder,Senioren,Singles
ORGANIZER;CN="Marienpfarre":MAILTO:kanzlei@marienpfarre.at
END:VEVENT
BEGIN:VEVENT
DTSTART;TZID=Europe/Vienna:20180408T093000
DTEND;TZID=Europe/Vienna:20180408T103000
DTSTAMP:20260422T003930
CREATED:20180126T131455Z
LAST-MODIFIED:20180126T131455Z
UID:773-1523179800-1523183400@katholisch-hernals.at
SUMMARY:Erstkommunion
DESCRIPTION:
URL:https://katholisch-hernals.at/event/erstkommunion/
LOCATION:Marienpfarre – Kirche\, Clemens Hofbauerplatz\, Wien\, 1170\, Österreich
CATEGORIES:Erstkommunion,Erwachsene,Fest,Gottesdienst,Jugendliche 14+,Junge Erwachsene,Kinder,Kinder 10-14,Kindergartenkinder 3-6,Kleinkinder 0-3,Paare mit Kindern,Paare ohne Kinder,Sakrament,Schulkinder 6-10,Senioren,Singles
ORGANIZER;CN="Marienpfarre":MAILTO:kanzlei@marienpfarre.at
END:VEVENT
BEGIN:VEVENT
DTSTART;TZID=Europe/Vienna:20180412T193000
DTEND;TZID=Europe/Vienna:20180412T203000
DTSTAMP:20260422T003930
CREATED:20180128T143753Z
LAST-MODIFIED:20180128T143753Z
UID:809-1523561400-1523565000@katholisch-hernals.at
SUMMARY:Y-Treff
DESCRIPTION:Männer jeden Alters tauschen Erfahrungen über Generationen aus. \nUnterschiedliche Berufe\, Bildung\, Herkunft und Weltanschauung treffen sich zum offenen Meinungsaustausch in zwangloser Atmosphäre. \nWir geben anderen Meinungen Raum. \nPersönliche Themen können im vertraulichen Rahmen diskutiert werden \nRiskantes sagen dürfen. Über Gefühle reden. \nBist du am offenen Gedankenaustausch interessiert\, dann komm zu unserem nächsten Treffen!\n\nSchön wäre es\, in unserem Kreis Männer verschiedener Religionen zu haben. Erst dann würden wir die Gemeinsamkeit erkennen.
URL:https://katholisch-hernals.at/event/y-treff-2-2/
LOCATION:B.R.O.T. Haus\, Geblergasse 78\, Wien\, 1170\, Österreich
CATEGORIES:Austausch,Erwachsene,Gruppentreffen,Junge Erwachsene,Senioren,Singles,Spiritualität,Weiterbildung
ORGANIZER;CN="Pfarre Hernals":MAILTO:kanzlei@kalvarienbergkirche.at
END:VEVENT
BEGIN:VEVENT
DTSTART;TZID=Europe/Vienna:20180415T090000
DTEND;TZID=Europe/Vienna:20180415T170000
DTSTAMP:20260422T003930
CREATED:20180126T131604Z
LAST-MODIFIED:20180126T131604Z
UID:775-1523782800-1523811600@katholisch-hernals.at
SUMMARY:Flohmarkt
DESCRIPTION:
URL:https://katholisch-hernals.at/event/flohmarkt/
LOCATION:Marienpfarre – Clemens Hofbauer Saal\, Kulmgasse 35\, Wien\, 1170\, Österreich
CATEGORIES:Caritas,Erwachsene,Flohmarkt,Jugendliche 14+,Junge Erwachsene,Kinder,Kinder 10-14,Paare mit Kindern,Paare ohne Kinder,Schulkinder 6-10,Senioren,Singles
ORGANIZER;CN="Marienpfarre":MAILTO:kanzlei@marienpfarre.at
END:VEVENT
BEGIN:VEVENT
DTSTART;TZID=Europe/Vienna:20180415T100000
DTEND;TZID=Europe/Vienna:20180415T110000
DTSTAMP:20260422T003930
CREATED:20180320T153413Z
LAST-MODIFIED:20180320T154717Z
UID:1180-1523786400-1523790000@katholisch-hernals.at
SUMMARY:Erstkommunionsfeier
DESCRIPTION:in der Sühnekirche
URL:https://katholisch-hernals.at/event/erstkommunionsfeier/
LOCATION:Sühnekirche\, Dr.-Josef-Resch-Platz 12\, Wien\, 1170\, Österreich
CATEGORIES:Erstkommunion,Erwachsene,Fest,Gottesdienst,Jugendliche 14+,Junge Erwachsene,Kinder,Kinder 10-14,Kindergartenkinder 3-6,Kleinkinder 0-3,Paare mit Kindern,Paare ohne Kinder,Schulkinder 6-10,Senioren,Singles
ORGANIZER;CN="S%C3%BChnekirche":MAILTO:pfarramt-suehnekirche@chello.at
END:VEVENT
BEGIN:VEVENT
DTSTART;TZID=Europe/Vienna:20180427T183000
DTEND;TZID=Europe/Vienna:20180427T193000
DTSTAMP:20260422T003930
CREATED:20180126T130001Z
LAST-MODIFIED:20180126T130001Z
UID:761-1524853800-1524857400@katholisch-hernals.at
SUMMARY:Stadtwallfahrt
DESCRIPTION:Stadtwallfahrt in die Marienkirche zur „Mutter von der Immerwährenden Hilfe“: \nHl. Messe mit Predigt\, Lichterprozession und Einzelsegen\nMusik: Orgel und Trompete \nAnsprache: Prof. Stanislaw Bafia CSsR\, Krakau \nThema: „Maria\, Patronin Europas“ \n  \n 
URL:https://katholisch-hernals.at/event/stadtwallfahrt-2-2-2/
LOCATION:Marienpfarre – Kirche\, Clemens Hofbauerplatz\, Wien\, 1170\, Österreich
CATEGORIES:Erwachsene,Gottesdienst,Junge Erwachsene,Paare ohne Kinder,Senioren,Singles,Wallfahrt
ORGANIZER;CN="Marienpfarre":MAILTO:kanzlei@marienpfarre.at
END:VEVENT
BEGIN:VEVENT
DTSTART;TZID=Europe/Vienna:20180429T093000
DTEND;TZID=Europe/Vienna:20180429T103000
DTSTAMP:20260422T003930
CREATED:20180126T104054Z
LAST-MODIFIED:20180126T104237Z
UID:736-1524994200-1524997800@katholisch-hernals.at
SUMMARY:Kanzeltausch - Hl. Messe mit Pfarrer P. Piotr Wojciechowski SSCC
DESCRIPTION:  \n \nAb Frühjahr 2018 tauschen die Pfarrer im Entwicklungsraum Hernals die Kanzeln: Jeder der vier Pfarrer wird an drei Sonntagen in den jeweils anderen drei Gemeinden die Pfarrmesse feiern. So lernen die Messbesucher die Hernalser Pfarrer besser kennen.
URL:https://katholisch-hernals.at/event/kanzeltausch-hl-messe-mit-pfarrer-piotr-wojciechowski/
LOCATION:Marienpfarre – Kirche\, Clemens Hofbauerplatz\, Wien\, 1170\, Österreich
CATEGORIES:Erwachsene,Gottesdienst,Jugendliche 14+,Junge Erwachsene,Paare mit Kindern,Paare ohne Kinder,Senioren,Singles
END:VEVENT
BEGIN:VEVENT
DTSTART;TZID=Europe/Vienna:20180429T100000
DTEND;TZID=Europe/Vienna:20180429T110000
DTSTAMP:20260422T003930
CREATED:20180126T104330Z
LAST-MODIFIED:20180126T104330Z
UID:742-1524996000-1524999600@katholisch-hernals.at
SUMMARY:Kanzeltausch - Hl. Messe mit Pfarrer Karl Engelmann
DESCRIPTION:  \n \nAb Frühjahr 2018 tauschen die Pfarrer im Entwicklungsraum Hernals die Kanzeln: Jeder der vier Pfarrer wird an drei Sonntagen in den jeweils anderen drei Gemeinden die Pfarrmesse feiern. So lernen die Messbesucher die Hernalser Pfarrer besser kennen.
URL:https://katholisch-hernals.at/event/kanzeltausch-hl-messe-mit-pfarrer-karl-engelmann/
LOCATION:Sühnekirche\, Dr.-Josef-Resch-Platz 12\, Wien\, 1170\, Österreich
CATEGORIES:Erwachsene,Gottesdienst,Jugendliche 14+,Junge Erwachsene,Paare mit Kindern,Paare ohne Kinder,Senioren,Singles
END:VEVENT
BEGIN:VEVENT
DTSTART;TZID=Europe/Vienna:20180429T100000
DTEND;TZID=Europe/Vienna:20180429T110000
DTSTAMP:20260422T003930
CREATED:20180126T104509Z
LAST-MODIFIED:20180126T104539Z
UID:748-1524996000-1524999600@katholisch-hernals.at
SUMMARY:Kanzeltausch - Hl. Messe mit Pfarrer P. Lorenz Voith CSsR
DESCRIPTION:  \n \nAb Frühjahr 2018 tauschen die Pfarrer im Entwicklungsraum Hernals die Kanzeln: Jeder der vier Pfarrer wird an drei Sonntagen in den jeweils anderen drei Gemeinden die Pfarrmesse feiern. So lernen die Messbesucher die Hernalser Pfarrer besser kennen.
URL:https://katholisch-hernals.at/event/kanzeltausch-hl-messe-mit-pfarrer-lorenz-voith/
LOCATION:Pfarre Dornbach – Kirche\, Rupertusplatz\, Wien\, 1170\, Österreich
CATEGORIES:Erwachsene,Gottesdienst,Jugendliche 14+,Junge Erwachsene,Paare mit Kindern,Paare ohne Kinder,Senioren,Singles
END:VEVENT
BEGIN:VEVENT
DTSTART;TZID=Europe/Vienna:20180429T101500
DTEND;TZID=Europe/Vienna:20180429T111500
DTSTAMP:20260422T003930
CREATED:20180126T103934Z
LAST-MODIFIED:20180126T103934Z
UID:734-1524996900-1525000500@katholisch-hernals.at
SUMMARY:Kanzeltausch - Hl. Messe mit Pfarrer Wolfgang Kimmel
DESCRIPTION:  \n \nAb Frühjahr 2018 tauschen die Pfarrer im Entwicklungsraum Hernals die Kanzeln: Jeder der vier Pfarrer wird an drei Sonntagen in den jeweils anderen drei Gemeinden die Pfarrmesse feiern. So lernen die Messbesucher die Hernalser Pfarrer besser kennen.
URL:https://katholisch-hernals.at/event/kanzeltausch-hl-messe-mit-pfarrer-wolfgang-kimmel-2-2/
LOCATION:Pfarre Hernals – Kirche\, Sankt-Bartholomäus-Platz 3\, Wien\, 1170\, Österreich
CATEGORIES:Erwachsene,Gottesdienst,Jugendliche 14+,Junge Erwachsene,Paare mit Kindern,Paare ohne Kinder,Senioren,Singles
END:VEVENT
END:VCALENDAR