BEGIN:VCALENDAR
VERSION:2.0
PRODID:-//Pfarrverband Hernals - ECPv6.15.20//NONSGML v1.0//EN
CALSCALE:GREGORIAN
METHOD:PUBLISH
X-WR-CALNAME:Pfarrverband Hernals
X-ORIGINAL-URL:https://katholisch-hernals.at
X-WR-CALDESC:Veranstaltungen für Pfarrverband Hernals
REFRESH-INTERVAL;VALUE=DURATION:PT1H
X-Robots-Tag:noindex
X-PUBLISHED-TTL:PT1H
BEGIN:VTIMEZONE
TZID:Europe/Vienna
BEGIN:DAYLIGHT
TZOFFSETFROM:+0100
TZOFFSETTO:+0200
TZNAME:CEST
DTSTART:20170326T010000
END:DAYLIGHT
BEGIN:STANDARD
TZOFFSETFROM:+0200
TZOFFSETTO:+0100
TZNAME:CET
DTSTART:20171029T010000
END:STANDARD
BEGIN:DAYLIGHT
TZOFFSETFROM:+0100
TZOFFSETTO:+0200
TZNAME:CEST
DTSTART:20180325T010000
END:DAYLIGHT
BEGIN:STANDARD
TZOFFSETFROM:+0200
TZOFFSETTO:+0100
TZNAME:CET
DTSTART:20181028T010000
END:STANDARD
BEGIN:DAYLIGHT
TZOFFSETFROM:+0100
TZOFFSETTO:+0200
TZNAME:CEST
DTSTART:20190331T010000
END:DAYLIGHT
BEGIN:STANDARD
TZOFFSETFROM:+0200
TZOFFSETTO:+0100
TZNAME:CET
DTSTART:20191027T010000
END:STANDARD
END:VTIMEZONE
BEGIN:VEVENT
DTSTART;TZID=Europe/Vienna:20180801T183000
DTEND;TZID=Europe/Vienna:20180801T193000
DTSTAMP:20260421T183653
CREATED:20180615T091334Z
LAST-MODIFIED:20180615T091334Z
UID:1471-1533148200-1533151800@katholisch-hernals.at
SUMMARY:Fest des Hl. Alfons
DESCRIPTION:18:30 Uhr Feierlicher Gottesdienst\, der Gottesdienst um 8:00 entfällt.
URL:https://katholisch-hernals.at/event/fest-des-hl-alfons/
LOCATION:Marienpfarre – Kirche\, Clemens Hofbauerplatz\, Wien\, 1170\, Österreich
CATEGORIES:Erwachsene,Gottesdienst,Junge Erwachsene,Paare ohne Kinder,Senioren,Singles
ORGANIZER;CN="Marienpfarre":MAILTO:kanzlei@marienpfarre.at
END:VEVENT
BEGIN:VEVENT
DTSTART;TZID=Europe/Vienna:20180815T093000
DTEND;TZID=Europe/Vienna:20180815T103000
DTSTAMP:20260421T183653
CREATED:20180615T091440Z
LAST-MODIFIED:20180615T091440Z
UID:1473-1534325400-1534329000@katholisch-hernals.at
SUMMARY:Mariä Himmelfahrt
DESCRIPTION:9:30 Festgottesdienst
URL:https://katholisch-hernals.at/event/mariae-himmelfahrt/
LOCATION:Marienpfarre – Kirche\, Clemens Hofbauerplatz\, Wien\, 1170\, Österreich
CATEGORIES:Erwachsene,Gottesdienst,Junge Erwachsene,Paare ohne Kinder,Senioren,Singles
ORGANIZER;CN="Marienpfarre":MAILTO:kanzlei@marienpfarre.at
END:VEVENT
BEGIN:VEVENT
DTSTART;TZID=Europe/Vienna:20180827T183000
DTEND;TZID=Europe/Vienna:20180827T193000
DTSTAMP:20260421T183653
CREATED:20180615T091531Z
LAST-MODIFIED:20180615T091531Z
UID:1475-1535394600-1535398200@katholisch-hernals.at
SUMMARY:Stadtwallfahrt
DESCRIPTION:Stadtwallfahrt mit Pfarrmoderator P. Jakob CSsR\, Seelsorgeverband St. Klemens\, Burgenland. Musik. Begleitung: Orgel und Flöten\, Lichterprozession und Einzelsegen zum Abschluss.
URL:https://katholisch-hernals.at/event/stadtwallfahrt-3/
LOCATION:Marienpfarre – Kirche\, Clemens Hofbauerplatz\, Wien\, 1170\, Österreich
CATEGORIES:Erwachsene,Gottesdienst,Junge Erwachsene,Paare ohne Kinder,Senioren,Singles
ORGANIZER;CN="Marienpfarre":MAILTO:kanzlei@marienpfarre.at
END:VEVENT
END:VCALENDAR