BEGIN:VCALENDAR
VERSION:2.0
PRODID:-//Pfarrverband Hernals - ECPv6.15.20//NONSGML v1.0//EN
CALSCALE:GREGORIAN
METHOD:PUBLISH
X-ORIGINAL-URL:https://katholisch-hernals.at
X-WR-CALDESC:Veranstaltungen für Pfarrverband Hernals
REFRESH-INTERVAL;VALUE=DURATION:PT1H
X-Robots-Tag:noindex
X-PUBLISHED-TTL:PT1H
BEGIN:VTIMEZONE
TZID:Europe/Vienna
BEGIN:DAYLIGHT
TZOFFSETFROM:+0100
TZOFFSETTO:+0200
TZNAME:CEST
DTSTART:20170326T010000
END:DAYLIGHT
BEGIN:STANDARD
TZOFFSETFROM:+0200
TZOFFSETTO:+0100
TZNAME:CET
DTSTART:20171029T010000
END:STANDARD
BEGIN:DAYLIGHT
TZOFFSETFROM:+0100
TZOFFSETTO:+0200
TZNAME:CEST
DTSTART:20180325T010000
END:DAYLIGHT
BEGIN:STANDARD
TZOFFSETFROM:+0200
TZOFFSETTO:+0100
TZNAME:CET
DTSTART:20181028T010000
END:STANDARD
BEGIN:DAYLIGHT
TZOFFSETFROM:+0100
TZOFFSETTO:+0200
TZNAME:CEST
DTSTART:20190331T010000
END:DAYLIGHT
BEGIN:STANDARD
TZOFFSETFROM:+0200
TZOFFSETTO:+0100
TZNAME:CET
DTSTART:20191027T010000
END:STANDARD
END:VTIMEZONE
BEGIN:VEVENT
DTSTART;TZID=Europe/Vienna:20180923T183000
DTEND;TZID=Europe/Vienna:20180923T193000
DTSTAMP:20260422T200209
CREATED:20180712T064839Z
LAST-MODIFIED:20180712T064839Z
UID:1612-1537727400-1537731000@katholisch-hernals.at
SUMMARY:Ruperti in Dornbach: feierliche Rupertivesper und Hl. Messe
DESCRIPTION:
URL:https://katholisch-hernals.at/event/ruperti-in-dornbach-festmesse-mit-p-petrus-eder-osb-prior-stift-st-peter-2/
LOCATION:Pfarre Dornbach – Kirche\, Rupertusplatz\, Wien\, 1170\, Österreich
CATEGORIES:Erwachsene,Fest,Gottesdienst,Jugendliche 14+,Junge Erwachsene,Kinder,Kinder 10-14,Kindergartenkinder 3-6,Kleinkinder 0-3,Paare mit Kindern,Paare ohne Kinder,Schulkinder 6-10,Senioren,Singles
ORGANIZER;CN="Pfarre Dornbach":MAILTO:kanzlei@pfarredornbach.at
END:VEVENT
END:VCALENDAR