BEGIN:VCALENDAR
VERSION:2.0
PRODID:-//Pfarrverband Hernals - ECPv6.15.20//NONSGML v1.0//EN
CALSCALE:GREGORIAN
METHOD:PUBLISH
X-WR-CALNAME:Pfarrverband Hernals
X-ORIGINAL-URL:https://katholisch-hernals.at
X-WR-CALDESC:Veranstaltungen für Pfarrverband Hernals
REFRESH-INTERVAL;VALUE=DURATION:PT1H
X-Robots-Tag:noindex
X-PUBLISHED-TTL:PT1H
BEGIN:VTIMEZONE
TZID:Europe/Vienna
BEGIN:DAYLIGHT
TZOFFSETFROM:+0100
TZOFFSETTO:+0200
TZNAME:CEST
DTSTART:20170326T010000
END:DAYLIGHT
BEGIN:STANDARD
TZOFFSETFROM:+0200
TZOFFSETTO:+0100
TZNAME:CET
DTSTART:20171029T010000
END:STANDARD
BEGIN:DAYLIGHT
TZOFFSETFROM:+0100
TZOFFSETTO:+0200
TZNAME:CEST
DTSTART:20180325T010000
END:DAYLIGHT
BEGIN:STANDARD
TZOFFSETFROM:+0200
TZOFFSETTO:+0100
TZNAME:CET
DTSTART:20181028T010000
END:STANDARD
BEGIN:DAYLIGHT
TZOFFSETFROM:+0100
TZOFFSETTO:+0200
TZNAME:CEST
DTSTART:20190331T010000
END:DAYLIGHT
BEGIN:STANDARD
TZOFFSETFROM:+0200
TZOFFSETTO:+0100
TZNAME:CET
DTSTART:20191027T010000
END:STANDARD
END:VTIMEZONE
BEGIN:VEVENT
DTSTART;TZID=Europe/Vienna:20181201T183000
DTEND;TZID=Europe/Vienna:20181201T193000
DTSTAMP:20260421T130450
CREATED:20180919T095732Z
LAST-MODIFIED:20180919T095732Z
UID:1828-1543689000-1543692600@katholisch-hernals.at
SUMMARY:Abendmesse mit Adventkranzweihe
DESCRIPTION:
URL:https://katholisch-hernals.at/event/abendmesse-mit-adventkranzweihe-2/
LOCATION:Marienpfarre – Kirche\, Clemens Hofbauerplatz\, Wien\, 1170\, Österreich
CATEGORIES:Erwachsene,Gebet,Gottesdienst,Jugendliche 14+,Junge Erwachsene,Kinder,Kinder 10-14,Kindergartenkinder 3-6,Kleinkinder 0-3,Paare mit Kindern,Paare ohne Kinder,Schulkinder 6-10,Senioren,Singles,Spiritualität
ORGANIZER;CN="Marienpfarre":MAILTO:kanzlei@marienpfarre.at
END:VEVENT
BEGIN:VEVENT
DTSTART;TZID=Europe/Vienna:20181202T100000
DTEND;TZID=Europe/Vienna:20181202T110000
DTSTAMP:20260421T130450
CREATED:20181013T034853Z
LAST-MODIFIED:20181013T035538Z
UID:1951-1543744800-1543748400@katholisch-hernals.at
SUMMARY:Kindermesse
DESCRIPTION:
URL:https://katholisch-hernals.at/event/kindermesse-2-2-2-2/
LOCATION:Sühnekirche\, Dr.-Josef-Resch-Platz 12\, Wien\, 1170\, Österreich
CATEGORIES:Gottesdienst,Kinder,Kinder 10-14,Kindergartenkinder 3-6,Kleinkinder 0-3,Paare mit Kindern,Schulkinder 6-10
ORGANIZER;CN="S%C3%BChnekirche":MAILTO:pfarramt-suehnekirche@chello.at
END:VEVENT
BEGIN:VEVENT
DTSTART;TZID=Europe/Vienna:20181206T093000
DTEND;TZID=Europe/Vienna:20181206T110000
DTSTAMP:20260421T130450
CREATED:20180912T130437Z
LAST-MODIFIED:20180912T130437Z
UID:1737-1544088600-1544094000@katholisch-hernals.at
SUMMARY:LIMA-Trainingsgruppe
DESCRIPTION:Pfarrsaal\, Alszeile 7\, 1170 Wien \nGedächtnistraining\nBewegungsübungen\nLebens- und Alltagsthemen\nSinn- und Glaubensfragen
URL:https://katholisch-hernals.at/event/seniorengeburtstagsmesse-3-2-3-3-2-2-2-2-2-2/
LOCATION:Sühnekirche\, Dr.-Josef-Resch-Platz 12\, Wien\, 1170\, Österreich
CATEGORIES:Austausch,Erwachsene,Gruppentreffen,Kreativität,Senioren,Weiterbildung
ORGANIZER;CN="S%C3%BChnekirche":MAILTO:pfarramt-suehnekirche@chello.at
END:VEVENT
BEGIN:VEVENT
DTSTART;TZID=Europe/Vienna:20181212T190000
DTEND;TZID=Europe/Vienna:20181212T200000
DTSTAMP:20260421T130450
CREATED:20180911T164009Z
LAST-MODIFIED:20180911T164009Z
UID:1698-1544641200-1544644800@katholisch-hernals.at
SUMMARY:Bibelrunde
DESCRIPTION:im Pfarrheim\, 1. Stock \nReni Pachta und Traudl Braun
URL:https://katholisch-hernals.at/event/bibelrunde-2-2-2-2-2/
LOCATION:Sühnekirche – Pfarre\, Alszeile 7\, Wien\, 1170\, Österreich
CATEGORIES:Austausch,Erwachsene,Gruppentreffen,Junge Erwachsene,Paare ohne Kinder,Senioren,Singles,Spiritualität,Weiterbildung
ORGANIZER;CN="S%C3%BChnekirche":MAILTO:pfarramt-suehnekirche@chello.at
END:VEVENT
BEGIN:VEVENT
DTSTART;TZID=Europe/Vienna:20181215T150000
DTEND;TZID=Europe/Vienna:20181215T180000
DTSTAMP:20260421T130450
CREATED:20180919T094758Z
LAST-MODIFIED:20180919T094758Z
UID:1798-1544886000-1544896800@katholisch-hernals.at
SUMMARY:Familienrunde IV
DESCRIPTION:Die Erwachsenen plaudern\, die Kinder spielen miteinander\, jede Familie nimmt eine Kleinigkeit für die gemeinsame Jause mit – alles in allem also ein gemütlicher Nachmittag.
URL:https://katholisch-hernals.at/event/familienrunde-iv-2-2-2/
LOCATION:Marienpfarre – Clemens Hofbauer Saal\, Kulmgasse 35\, Wien\, 1170\, Österreich
CATEGORIES:Austausch,Erwachsene,Gruppentreffen,Kinder,Kinder 10-14,Kindergartenkinder 3-6,Kleinkinder 0-3,Paare mit Kindern,Schulkinder 6-10,Spiel, Sport, Spaß
ORGANIZER;CN="Marienpfarre":MAILTO:kanzlei@marienpfarre.at
END:VEVENT
BEGIN:VEVENT
DTSTART;TZID=Europe/Vienna:20181215T183000
DTEND;TZID=Europe/Vienna:20181215T193000
DTSTAMP:20260421T130450
CREATED:20181213T093210Z
LAST-MODIFIED:20181213T094146Z
UID:2106-1544898600-1544902200@katholisch-hernals.at
SUMMARY:Adventgottesdienst mit allgemeiner Krankensalbung
DESCRIPTION:Anschließend Glühwein und Punsch beim Kircheneingang.
URL:https://katholisch-hernals.at/event/adventgottesdienst-mit-allgemeiner-krankensalbung/
LOCATION:Marienpfarre – Kirche\, Clemens Hofbauerplatz\, Wien\, 1170\, Österreich
CATEGORIES:Erwachsene,Gottesdienst,Junge Erwachsene,Paare ohne Kinder,Senioren,Singles
ORGANIZER;CN="Marienpfarre":MAILTO:kanzlei@marienpfarre.at
END:VEVENT
BEGIN:VEVENT
DTSTART;TZID=Europe/Vienna:20181216T150000
DTEND;TZID=Europe/Vienna:20181216T170000
DTSTAMP:20260421T130450
CREATED:20181215T073403Z
LAST-MODIFIED:20181215T073403Z
UID:2129-1544972400-1544979600@katholisch-hernals.at
SUMMARY:Advent in Hernals
DESCRIPTION:Mit: \nAyane Takahashi\, Sopran\nRobert Fontane\, Bariton\nAlexander Krebs\, Organist \nKrippenspiel und Kinderchor der Sühnekirche\nEinstudierung: Andrea Klein \nChor des Prayner Konservatoriums\nDirigent: Ruben Doran \nInstrumentalensemble des Joseph Haydn Konzertvereins \nFreier Eintritt\, Spenden erbeten \nAnschließend Agape im Pfarrsaal
URL:https://katholisch-hernals.at/event/advent-in-hernals/
LOCATION:Sühnekirche\, Dr.-Josef-Resch-Platz 12\, Wien\, 1170\, Österreich
CATEGORIES:Erwachsene,Jugendliche 14+,Junge Erwachsene,Kinder,Kinder 10-14,Kindergartenkinder 3-6,Kleinkinder 0-3,Kultur,Musik (klassisch),Paare ohne Kinder,Schulkinder 6-10,Senioren
ORGANIZER;CN="S%C3%BChnekirche":MAILTO:pfarramt-suehnekirche@chello.at
END:VEVENT
BEGIN:VEVENT
DTSTART;TZID=Europe/Vienna:20181218T063000
DTEND;TZID=Europe/Vienna:20181218T073000
DTSTAMP:20260421T130450
CREATED:20181129T132404Z
LAST-MODIFIED:20181129T132404Z
UID:2071-1545114600-1545118200@katholisch-hernals.at
SUMMARY:O Adonai - Messe in Dornbach
DESCRIPTION:Die O-Antiphonen beginnen jeweils mit einer dem Alten Testament entnommenen bildhaften Anrede des erwarteten Messias\, preisen sein ersehntes Wirken und münden in den Ruf „Veni!“\, „Komm!“. Die Bezeichnung der Antiphonen leitet sich von der Anrufung „O“ her\, mit der jede der Antiphonen beginnt. \nIn den heiligen Messen vom 17. bis 23. Dezember wird seit der letzten Liturgiereform eine verkürzte Fassung der O-Antiphon des jeweiligen Tages als Vers im Ruf vor dem Evangelium gesungen. Quelle: Wikipedia\n \nbeim Mariazeller Altar\, danach Frühstück im Pfarrzentrum
URL:https://katholisch-hernals.at/event/rorate-in-dornbach-2-2/
LOCATION:Pfarre Dornbach – Kirche\, Rupertusplatz\, Wien\, 1170\, Österreich
CATEGORIES:Erwachsene,Gebet,Gottesdienst,Jugendliche 14+,Junge Erwachsene,Kinder 10-14,Paare ohne Kinder,Senioren,Singles,Spiritualität
ATTACH;FMTTYPE=image/jpeg:https://katholisch-hernals.at/wp-content/uploads/2017/11/Gobelin_Maria_Ausschnitt_Engel.jpg
ORGANIZER;CN="Pfarre Dornbach":MAILTO:kanzlei@pfarredornbach.at
END:VEVENT
BEGIN:VEVENT
DTSTART;TZID=Europe/Vienna:20181218T190000
DTEND;TZID=Europe/Vienna:20181218T233000
DTSTAMP:20260421T130450
CREATED:20181213T093431Z
LAST-MODIFIED:20181213T093431Z
UID:2110-1545159600-1545175800@katholisch-hernals.at
SUMMARY:Punschabend in der "Kuhstallbar"
DESCRIPTION:
URL:https://katholisch-hernals.at/event/punschabend-in-der-kuhstallbar/
LOCATION:Marienpfarre – Clemens Hofbauer Saal\, Kulmgasse 35\, Wien\, 1170\, Österreich
CATEGORIES:Erwachsene,Fest,Jugendliche 14+,Junge Erwachsene,Paare ohne Kinder,Senioren,Singles
ORGANIZER;CN="Marienpfarre":MAILTO:kanzlei@marienpfarre.at
END:VEVENT
BEGIN:VEVENT
DTSTART;TZID=Europe/Vienna:20181221T150000
DTEND;TZID=Europe/Vienna:20181221T173000
DTSTAMP:20260421T130450
CREATED:20181215T074424Z
LAST-MODIFIED:20181215T074424Z
UID:2132-1545404400-1545413400@katholisch-hernals.at
SUMMARY:Seniorengeburtstagsmesse mit Krankensegnung
DESCRIPTION:15:00 Uhr Hl. Messe für alle Senioren\, die im Dezember Geburtstag haben \nKommen Sie doch nach der Messe in den Pfarrsaal und feiern wir gemeinsam Ihren Geburtstag. Gäste sind herzlich willkommen.
URL:https://katholisch-hernals.at/event/seniorengeburtstagsmesse-3-2-3-2-3/
LOCATION:Sühnekirche\, Dr.-Josef-Resch-Platz 12\, Wien\, 1170\, Österreich
CATEGORIES:Austausch,Erwachsene,Gruppentreffen,Kultur,Senioren
ORGANIZER;CN="S%C3%BChnekirche":MAILTO:pfarramt-suehnekirche@chello.at
END:VEVENT
BEGIN:VEVENT
DTSTART;TZID=Europe/Vienna:20181222T183000
DTEND;TZID=Europe/Vienna:20181222T193000
DTSTAMP:20260421T130450
CREATED:20181213T093248Z
LAST-MODIFIED:20181213T094206Z
UID:2108-1545503400-1545507000@katholisch-hernals.at
SUMMARY:Adventgottesdienst mit Stubenmusik
DESCRIPTION:anschließend Konzert und Punsch beim Kircheneingang
URL:https://katholisch-hernals.at/event/adventgottesdienst-mit-allgemeiner-krankensalbung-2/
LOCATION:Marienpfarre – Kirche\, Clemens Hofbauerplatz\, Wien\, 1170\, Österreich
CATEGORIES:Erwachsene,Gottesdienst,Junge Erwachsene,Paare ohne Kinder,Senioren,Singles
ORGANIZER;CN="Marienpfarre":MAILTO:kanzlei@marienpfarre.at
END:VEVENT
BEGIN:VEVENT
DTSTART;TZID=Europe/Vienna:20181224T130000
DTEND;TZID=Europe/Vienna:20181224T170000
DTSTAMP:20260421T130450
CREATED:20181215T074920Z
LAST-MODIFIED:20181215T075028Z
UID:2135-1545656400-1545670800@katholisch-hernals.at
SUMMARY:Wärmestube
DESCRIPTION:Seit einigen Jahren betreibt die Pfarre Herz-Jesu-Sühnekirche in den Wintermonaten eine Wärmestube. Dazu wird alljährlich der Pfarrsaal in eine gemütliche\, gut geheizte Wohlfühloase\, die zum Verweilen und Plaudern einlädt\, verwandelt. Bei einer warmen Mahlzeit\, Kaffee und Kuchen heißen wir unsere Gäste willkommen und freuen uns\, miteinander ins Gespräch zu kommen. Jede\nund jeder unabhängig von der Herkunft und der individuellen Lebenssituation ist herzlich  willkommen. \nUnsere Wärmestube steht allen Mitmenschen offen\, die \n\nplaudern möchten\nsich regelmäßig treffen und untereinander\naustauschen möchten\nneue soziale Kontakte suchen\nein offenes Ohr für ihr Anliegen suchen\nRat oder Unterstützung brauchen.\n\nMit dieser Aktion wollen wir mit Menschen aus unserer Nachbarschaft in Kontakt treten sowie die persönliche Begegnung und das gegenseitige Kennenlernen in fried- und vertrauensvoller Atmosphäre fördern. \nMitfeiern: Auch heuer ist unsere Wärmestube im Pfarrheim\, Alszeile 7\, 1170 Wien\, wieder am Heiligen Abend in der Zeit von 13 Uhr bis 17 Uhr geöffnet. Wir feiern gemeinsam Weihnachten\n– alle sind herzlich eingeladen\, dieses Fest mit uns zu erleben!
URL:https://katholisch-hernals.at/event/aktion-waermestube-2/
LOCATION:Sühnekirche\, Dr.-Josef-Resch-Platz 12\, Wien\, 1170\, Österreich
CATEGORIES:Caritas,Erwachsene,Junge Erwachsene,Paare ohne Kinder,Senioren,Singles
ORGANIZER;CN="S%C3%BChnekirche":MAILTO:pfarramt-suehnekirche@chello.at
END:VEVENT
BEGIN:VEVENT
DTSTART;TZID=Europe/Vienna:20181224T160000
DTEND;TZID=Europe/Vienna:20181224T170000
DTSTAMP:20260421T130450
CREATED:20181129T133044Z
LAST-MODIFIED:20181129T133044Z
UID:2075-1545667200-1545670800@katholisch-hernals.at
SUMMARY:Kinderandacht in Dornbach
DESCRIPTION:Die Pfadfinder verteilen das Licht von Bethlehem
URL:https://katholisch-hernals.at/event/kinderandacht-in-dornbach/
LOCATION:Pfarre Dornbach – Kirche\, Rupertusplatz\, Wien\, 1170\, Österreich
CATEGORIES:Gebet,Gruppentreffen,Kinder,Kinder 10-14,Kindergartenkinder 3-6,Kleinkinder 0-3,Paare mit Kindern,Schulkinder 6-10
ATTACH;FMTTYPE=image/jpeg:https://katholisch-hernals.at/wp-content/uploads/2018/11/Krippe_Dornbach.jpg
ORGANIZER;CN="Pfarre Dornbach":MAILTO:kanzlei@pfarredornbach.at
END:VEVENT
BEGIN:VEVENT
DTSTART;TZID=Europe/Vienna:20181224T160000
DTEND;TZID=Europe/Vienna:20181224T170000
DTSTAMP:20260421T130450
CREATED:20181213T092801Z
LAST-MODIFIED:20181213T092801Z
UID:2100-1545667200-1545670800@katholisch-hernals.at
SUMMARY:Weihnachtsgottesdienst zu frühen Stunde - für Kinder gestaltet
DESCRIPTION:
URL:https://katholisch-hernals.at/event/weihnachtsgottesdienst-zu-fruehen-stunde-fuer-kinder-gestaltet/
LOCATION:Marienpfarre – Kirche\, Clemens Hofbauerplatz\, Wien\, 1170\, Österreich
CATEGORIES:Gottesdienst,Jugendliche 14+,Junge Erwachsene,Kinder,Kinder 10-14,Kindergartenkinder 3-6,Kleinkinder 0-3,Paare mit Kindern,Schulkinder 6-10
ORGANIZER;CN="Marienpfarre":MAILTO:kanzlei@marienpfarre.at
END:VEVENT
BEGIN:VEVENT
DTSTART;TZID=Europe/Vienna:20181224T163000
DTEND;TZID=Europe/Vienna:20181224T173000
DTSTAMP:20260421T130450
CREATED:20181013T034938Z
LAST-MODIFIED:20181224T072806Z
UID:1953-1545669000-1545672600@katholisch-hernals.at
SUMMARY:Kindermette Sühnekirche
DESCRIPTION:mit Krippenspiel \nDie Kollekte ist bestimmt für die Bekämpfung der versteckten Armut in unserem Dekanat.
URL:https://katholisch-hernals.at/event/kindermesse-2-2-2-2-2/
LOCATION:Sühnekirche\, Dr.-Josef-Resch-Platz 12\, Wien\, 1170\, Österreich
CATEGORIES:Gottesdienst,Kinder,Kinder 10-14,Kindergartenkinder 3-6,Kleinkinder 0-3,Paare mit Kindern,Schulkinder 6-10
ORGANIZER;CN="S%C3%BChnekirche":MAILTO:pfarramt-suehnekirche@chello.at
END:VEVENT
BEGIN:VEVENT
DTSTART;TZID=Europe/Vienna:20181224T223000
DTEND;TZID=Europe/Vienna:20181224T230000
DTSTAMP:20260421T130450
CREATED:20181213T092915Z
LAST-MODIFIED:20181213T092915Z
UID:2102-1545690600-1545692400@katholisch-hernals.at
SUMMARY:Singen zur Weihnacht
DESCRIPTION:
URL:https://katholisch-hernals.at/event/singen-zur-weihnacht/
LOCATION:Marienpfarre – Kirche\, Clemens Hofbauerplatz\, Wien\, 1170\, Österreich
CATEGORIES:Erwachsene,Jugendliche 14+,Junge Erwachsene,Kinder,Kinder 10-14,Kindergartenkinder 3-6,Kleinkinder 0-3,Musik (klassisch),Musik (modern),Paare mit Kindern,Paare ohne Kinder,Schulkinder 6-10,Senioren,Singles
ORGANIZER;CN="Marienpfarre":MAILTO:kanzlei@marienpfarre.at
END:VEVENT
BEGIN:VEVENT
DTSTART;TZID=Europe/Vienna:20181224T223000
DTEND;TZID=Europe/Vienna:20181224T233000
DTSTAMP:20260421T130450
CREATED:20181224T070504Z
LAST-MODIFIED:20181224T072909Z
UID:2144-1545690600-1545694200@katholisch-hernals.at
SUMMARY:Christmette Sühnekirche
DESCRIPTION:Die Kollekte ist bestimmt für die Bekämpfung der versteckten Armut in unserem Dekanat.
URL:https://katholisch-hernals.at/event/christmette-suehnekirche/
LOCATION:Sühnekirche\, Dr.-Josef-Resch-Platz 12\, Wien\, 1170\, Österreich
CATEGORIES:Erwachsene,Gottesdienst,Jugendliche 14+
ATTACH;FMTTYPE=image/jpeg:https://katholisch-hernals.at/wp-content/uploads/2018/12/Krippe_Suehnekirche.jpg
ORGANIZER;CN="S%C3%BChnekirche":MAILTO:pfarramt-suehnekirche@chello.at
END:VEVENT
BEGIN:VEVENT
DTSTART;TZID=Europe/Vienna:20181224T230000
DTEND;TZID=Europe/Vienna:20181225T003000
DTSTAMP:20260421T130450
CREATED:20181213T093018Z
LAST-MODIFIED:20181213T093018Z
UID:2104-1545692400-1545697800@katholisch-hernals.at
SUMMARY:Feierliche Christmette
DESCRIPTION:
URL:https://katholisch-hernals.at/event/feierliche-christmette/
LOCATION:Marienpfarre – Kirche\, Clemens Hofbauerplatz\, Wien\, 1170\, Österreich
CATEGORIES:Erwachsene,Gottesdienst,Jugendliche 14+,Junge Erwachsene,Kinder,Kinder 10-14,Paare mit Kindern,Paare ohne Kinder,Senioren,Singles
ORGANIZER;CN="Marienpfarre":MAILTO:kanzlei@marienpfarre.at
END:VEVENT
BEGIN:VEVENT
DTSTART;TZID=Europe/Vienna:20181225T080000
DTEND;TZID=Europe/Vienna:20181225T090000
DTSTAMP:20260421T130450
CREATED:20181213T093615Z
LAST-MODIFIED:20181213T093615Z
UID:2112-1545724800-1545728400@katholisch-hernals.at
SUMMARY:Gottesdienst
DESCRIPTION:
URL:https://katholisch-hernals.at/event/gottesdienst/
LOCATION:Marienpfarre – Kirche\, Clemens Hofbauerplatz\, Wien\, 1170\, Österreich
CATEGORIES:Erwachsene,Gottesdienst,Jugendliche 14+,Junge Erwachsene,Kinder,Kinder 10-14,Kindergartenkinder 3-6,Kleinkinder 0-3,Paare ohne Kinder,Schulkinder 6-10,Senioren,Singles
ORGANIZER;CN="Marienpfarre":MAILTO:kanzlei@marienpfarre.at
END:VEVENT
BEGIN:VEVENT
DTSTART;TZID=Europe/Vienna:20181225T083000
DTEND;TZID=Europe/Vienna:20181225T093000
DTSTAMP:20260421T130450
CREATED:20181224T071729Z
LAST-MODIFIED:20181224T072654Z
UID:2151-1545726600-1545730200@katholisch-hernals.at
SUMMARY:Christtag Sühnekirche
DESCRIPTION:Hl. Messe
URL:https://katholisch-hernals.at/event/christtag-suehnekirche/
LOCATION:Sühnekirche\, Dr.-Josef-Resch-Platz 12\, Wien\, 1170\, Österreich
CATEGORIES:Erwachsene,Gottesdienst,Jugendliche 14+,Junge Erwachsene,Kinder,Kinder 10-14,Kindergartenkinder 3-6,Kleinkinder 0-3,Paare ohne Kinder,Schulkinder 6-10,Senioren,Singles,Spiritualität
ORGANIZER;CN="S%C3%BChnekirche":MAILTO:pfarramt-suehnekirche@chello.at
END:VEVENT
BEGIN:VEVENT
DTSTART;TZID=Europe/Vienna:20181225T093000
DTEND;TZID=Europe/Vienna:20181225T103000
DTSTAMP:20260421T130450
CREATED:20181213T093641Z
LAST-MODIFIED:20181213T093641Z
UID:2114-1545730200-1545733800@katholisch-hernals.at
SUMMARY:Hochamt
DESCRIPTION:
URL:https://katholisch-hernals.at/event/gottesdienst-2/
LOCATION:Marienpfarre – Kirche\, Clemens Hofbauerplatz\, Wien\, 1170\, Österreich
CATEGORIES:Erwachsene,Gottesdienst,Jugendliche 14+,Junge Erwachsene,Kinder,Kinder 10-14,Kindergartenkinder 3-6,Kleinkinder 0-3,Paare ohne Kinder,Schulkinder 6-10,Senioren,Singles
ORGANIZER;CN="Marienpfarre":MAILTO:kanzlei@marienpfarre.at
END:VEVENT
BEGIN:VEVENT
DTSTART;TZID=Europe/Vienna:20181225T100000
DTEND;TZID=Europe/Vienna:20181225T110000
DTSTAMP:20260421T130450
CREATED:20181129T134001Z
LAST-MODIFIED:20181129T134001Z
UID:2083-1545732000-1545735600@katholisch-hernals.at
SUMMARY:Christtag 10.00 Dornbach
DESCRIPTION:Hl. Messe\, Gestaltung Dornbach Schola\, Leitung: Florian Reithner
URL:https://katholisch-hernals.at/event/christtag-10-00-dornbach/
LOCATION:Pfarre Dornbach – Kirche\, Rupertusplatz\, Wien\, 1170\, Österreich
CATEGORIES:Erwachsene,Fest,Gebet,Gottesdienst,Jugendliche 14+,Junge Erwachsene,Kinder,Kinder 10-14,Kindergartenkinder 3-6,Kleinkinder 0-3,Musik (klassisch),Paare mit Kindern,Paare ohne Kinder,Sakrament,Schulkinder 6-10,Senioren,Singles
ATTACH;FMTTYPE=image/jpeg:https://katholisch-hernals.at/wp-content/uploads/2018/11/Krippe_Dornbach.jpg
ORGANIZER;CN="Pfarre Dornbach":MAILTO:kanzlei@pfarredornbach.at
END:VEVENT
BEGIN:VEVENT
DTSTART;TZID=Europe/Vienna:20181225T100000
DTEND;TZID=Europe/Vienna:20181225T110000
DTSTAMP:20260421T130450
CREATED:20181224T071813Z
LAST-MODIFIED:20181224T072259Z
UID:2154-1545732000-1545735600@katholisch-hernals.at
SUMMARY:Christtag Sühnekirche
DESCRIPTION:Hl. Messe
URL:https://katholisch-hernals.at/event/christtag-suehnekirche-2/
LOCATION:Sühnekirche\, Dr.-Josef-Resch-Platz 12\, Wien\, 1170\, Österreich
CATEGORIES:Erwachsene,Gottesdienst,Jugendliche 14+,Junge Erwachsene,Kinder,Kinder 10-14,Kindergartenkinder 3-6,Kleinkinder 0-3,Paare ohne Kinder,Schulkinder 6-10,Senioren,Singles,Spiritualität
ORGANIZER;CN="S%C3%BChnekirche":MAILTO:pfarramt-suehnekirche@chello.at
END:VEVENT
BEGIN:VEVENT
DTSTART;TZID=Europe/Vienna:20181225T183000
DTEND;TZID=Europe/Vienna:20181225T193000
DTSTAMP:20260421T130450
CREATED:20181129T134100Z
LAST-MODIFIED:20181129T134100Z
UID:2085-1545762600-1545766200@katholisch-hernals.at
SUMMARY:Christtag 18.30 Dornbach
DESCRIPTION:feierliche Vesper und Hl. Messe
URL:https://katholisch-hernals.at/event/christtag-18-30-dornbach/
LOCATION:Pfarre Dornbach – Kirche\, Rupertusplatz\, Wien\, 1170\, Österreich
CATEGORIES:Erwachsene,Fest,Gebet,Gottesdienst,Jugendliche 14+,Junge Erwachsene,Kinder,Kinder 10-14,Kindergartenkinder 3-6,Kleinkinder 0-3,Musik (klassisch),Paare mit Kindern,Paare ohne Kinder,Sakrament,Schulkinder 6-10,Senioren,Singles
ATTACH;FMTTYPE=image/jpeg:https://katholisch-hernals.at/wp-content/uploads/2018/11/Krippe_Dornbach.jpg
ORGANIZER;CN="Pfarre Dornbach":MAILTO:kanzlei@pfarredornbach.at
END:VEVENT
BEGIN:VEVENT
DTSTART;TZID=Europe/Vienna:20181226T080000
DTEND;TZID=Europe/Vienna:20181226T090000
DTSTAMP:20260421T130450
CREATED:20181213T093731Z
LAST-MODIFIED:20181213T093731Z
UID:2118-1545811200-1545814800@katholisch-hernals.at
SUMMARY:Gottesdienst
DESCRIPTION:
URL:https://katholisch-hernals.at/event/gottesdienst-2-2-2/
LOCATION:Marienpfarre – Kirche\, Clemens Hofbauerplatz\, Wien\, 1170\, Österreich
CATEGORIES:Erwachsene,Gottesdienst,Jugendliche 14+,Junge Erwachsene,Kinder,Kinder 10-14,Kindergartenkinder 3-6,Kleinkinder 0-3,Paare ohne Kinder,Schulkinder 6-10,Senioren,Singles
ORGANIZER;CN="Marienpfarre":MAILTO:kanzlei@marienpfarre.at
END:VEVENT
BEGIN:VEVENT
DTSTART;TZID=Europe/Vienna:20181226T093000
DTEND;TZID=Europe/Vienna:20181226T103000
DTSTAMP:20260421T130450
CREATED:20181213T093710Z
LAST-MODIFIED:20181213T093710Z
UID:2116-1545816600-1545820200@katholisch-hernals.at
SUMMARY:Gottesdienst
DESCRIPTION:
URL:https://katholisch-hernals.at/event/gottesdienst-2-2/
LOCATION:Marienpfarre – Kirche\, Clemens Hofbauerplatz\, Wien\, 1170\, Österreich
CATEGORIES:Erwachsene,Gottesdienst,Jugendliche 14+,Junge Erwachsene,Kinder,Kinder 10-14,Kindergartenkinder 3-6,Kleinkinder 0-3,Paare ohne Kinder,Schulkinder 6-10,Senioren,Singles
ORGANIZER;CN="Marienpfarre":MAILTO:kanzlei@marienpfarre.at
END:VEVENT
BEGIN:VEVENT
DTSTART;TZID=Europe/Vienna:20181226T100000
DTEND;TZID=Europe/Vienna:20181226T110000
DTSTAMP:20260421T130450
CREATED:20181129T134237Z
LAST-MODIFIED:20181129T134237Z
UID:2087-1545818400-1545822000@katholisch-hernals.at
SUMMARY:Stephanitag in Dornbach
DESCRIPTION:Hl. Messe
URL:https://katholisch-hernals.at/event/stephanitag-dornbach/
LOCATION:Pfarre Dornbach – Kirche\, Rupertusplatz\, Wien\, 1170\, Österreich
CATEGORIES:Erwachsene,Fest,Gebet,Gottesdienst,Jugendliche 14+,Junge Erwachsene,Kinder,Kinder 10-14,Kindergartenkinder 3-6,Kleinkinder 0-3,Musik (klassisch),Paare mit Kindern,Paare ohne Kinder,Sakrament,Schulkinder 6-10,Senioren,Singles
ATTACH;FMTTYPE=image/jpeg:https://katholisch-hernals.at/wp-content/uploads/2018/11/Krippe_Dornbach.jpg
ORGANIZER;CN="Pfarre Dornbach":MAILTO:kanzlei@pfarredornbach.at
END:VEVENT
BEGIN:VEVENT
DTSTART;TZID=Europe/Vienna:20181226T100000
DTEND;TZID=Europe/Vienna:20181226T110000
DTSTAMP:20260421T130450
CREATED:20181224T072149Z
LAST-MODIFIED:20181224T072149Z
UID:2156-1545818400-1545822000@katholisch-hernals.at
SUMMARY:Stephanitag Sühnekirche
DESCRIPTION:Hl. Messe
URL:https://katholisch-hernals.at/event/stephanitag-suehnekirche/
LOCATION:Sühnekirche\, Dr.-Josef-Resch-Platz 12\, Wien\, 1170\, Österreich
CATEGORIES:Erwachsene,Gottesdienst,Jugendliche 14+,Junge Erwachsene,Kinder,Kinder 10-14,Kindergartenkinder 3-6,Kleinkinder 0-3,Paare ohne Kinder,Schulkinder 6-10,Senioren,Singles,Spiritualität
ORGANIZER;CN="S%C3%BChnekirche":MAILTO:pfarramt-suehnekirche@chello.at
END:VEVENT
BEGIN:VEVENT
DTSTART;TZID=Europe/Vienna:20181227T183000
DTEND;TZID=Europe/Vienna:20181227T193000
DTSTAMP:20260421T130450
CREATED:20181213T093855Z
LAST-MODIFIED:20181213T093855Z
UID:2120-1545935400-1545939000@katholisch-hernals.at
SUMMARY:Stadtwallfahrt
DESCRIPTION:Stadtwallfahrt mit Lichterprozession und Einzelsegen zum Abschluss.
URL:https://katholisch-hernals.at/event/stadtwallfahrt-4-2-3-2/
LOCATION:Marienpfarre – Kirche\, Clemens Hofbauerplatz\, Wien\, 1170\, Österreich
CATEGORIES:Erwachsene,Gottesdienst,Junge Erwachsene,Paare ohne Kinder,Senioren,Singles
ORGANIZER;CN="Marienpfarre":MAILTO:kanzlei@marienpfarre.at
END:VEVENT
BEGIN:VEVENT
DTSTART;TZID=Europe/Vienna:20181231T170000
DTEND;TZID=Europe/Vienna:20181231T180000
DTSTAMP:20260421T130450
CREATED:20181213T094010Z
LAST-MODIFIED:20181213T094010Z
UID:2122-1546275600-1546279200@katholisch-hernals.at
SUMMARY:Jahresschluss - Dankgottesdienst
DESCRIPTION:
URL:https://katholisch-hernals.at/event/jahresabschluss-2-2-2-2/
LOCATION:Marienpfarre – Kirche\, Clemens Hofbauerplatz\, Wien\, 1170\, Österreich
CATEGORIES:Erwachsene,Gottesdienst,Junge Erwachsene,Paare ohne Kinder,Senioren,Singles
ORGANIZER;CN="Marienpfarre":MAILTO:kanzlei@marienpfarre.at
END:VEVENT
END:VCALENDAR