BEGIN:VCALENDAR
VERSION:2.0
PRODID:-//Pfarrverband Hernals - ECPv6.15.20//NONSGML v1.0//EN
CALSCALE:GREGORIAN
METHOD:PUBLISH
X-ORIGINAL-URL:https://katholisch-hernals.at
X-WR-CALDESC:Veranstaltungen für Pfarrverband Hernals
REFRESH-INTERVAL;VALUE=DURATION:PT1H
X-Robots-Tag:noindex
X-PUBLISHED-TTL:PT1H
BEGIN:VTIMEZONE
TZID:Europe/Vienna
BEGIN:DAYLIGHT
TZOFFSETFROM:+0100
TZOFFSETTO:+0200
TZNAME:CEST
DTSTART:20180325T010000
END:DAYLIGHT
BEGIN:STANDARD
TZOFFSETFROM:+0200
TZOFFSETTO:+0100
TZNAME:CET
DTSTART:20181028T010000
END:STANDARD
BEGIN:DAYLIGHT
TZOFFSETFROM:+0100
TZOFFSETTO:+0200
TZNAME:CEST
DTSTART:20190331T010000
END:DAYLIGHT
BEGIN:STANDARD
TZOFFSETFROM:+0200
TZOFFSETTO:+0100
TZNAME:CET
DTSTART:20191027T010000
END:STANDARD
BEGIN:DAYLIGHT
TZOFFSETFROM:+0100
TZOFFSETTO:+0200
TZNAME:CEST
DTSTART:20200329T010000
END:DAYLIGHT
BEGIN:STANDARD
TZOFFSETFROM:+0200
TZOFFSETTO:+0100
TZNAME:CET
DTSTART:20201025T010000
END:STANDARD
END:VTIMEZONE
BEGIN:VEVENT
DTSTART;TZID=Europe/Vienna:20190202T083000
DTEND;TZID=Europe/Vienna:20190202T093000
DTSTAMP:20260421T103911
CREATED:20190110T133239Z
LAST-MODIFIED:20190110T133239Z
UID:2193-1549096200-1549099800@katholisch-hernals.at
SUMMARY:Lichtmess in Dornbach
DESCRIPTION:Kerzensegnung und Eucharistiefeier zu Mariä Lichtmess – Darstellung des Herrn
URL:https://katholisch-hernals.at/event/lichtmess-in-dornbach/
LOCATION:Pfarre Dornbach – Kirche\, Rupertusplatz\, Wien\, 1170\, Österreich
CATEGORIES:Erwachsene,Eucharistie,Gebet,Gottesdienst,Jugendliche 14+,Junge Erwachsene,Kinder,Kinder 10-14,Kindergartenkinder 3-6,Kleinkinder 0-3,Paare mit Kindern,Paare ohne Kinder,Sakrament,Schulkinder 6-10,Senioren,Singles,Spiritualität
ORGANIZER;CN="Pfarre Dornbach":MAILTO:kanzlei@pfarredornbach.at
END:VEVENT
BEGIN:VEVENT
DTSTART;TZID=Europe/Vienna:20190202T183000
DTEND;TZID=Europe/Vienna:20190202T193000
DTSTAMP:20260421T103911
CREATED:20190202T064237Z
LAST-MODIFIED:20190202T065652Z
UID:2476-1549132200-1549135800@katholisch-hernals.at
SUMMARY:Hl. Messe mit Blasiussegen Sühnekirche
DESCRIPTION:Blasius: Heiliger gegen Halskrankheiten \nNach den Messen an Lichtmess (2. Februar) und am darauf folgenden Festtag des Heiligen erbitten viele Gläubige den nach dem Heiligen benannten Segen.
URL:https://katholisch-hernals.at/event/hl-messe-mit-blasiussegen-2/
LOCATION:Sühnekirche\, Dr.-Josef-Resch-Platz 12\, Wien\, 1170\, Österreich
CATEGORIES:Erwachsene,Gottesdienst,Jugendliche 14+,Kinder,Spiritualität
ORGANIZER;CN="S%C3%BChnekirche":MAILTO:pfarramt-suehnekirche@chello.at
END:VEVENT
BEGIN:VEVENT
DTSTART;TZID=Europe/Vienna:20190203T083000
DTEND;TZID=Europe/Vienna:20190203T093000
DTSTAMP:20260421T103911
CREATED:20190202T064321Z
LAST-MODIFIED:20190202T065715Z
UID:2479-1549182600-1549186200@katholisch-hernals.at
SUMMARY:Hl. Messe mit Blasiussegen Sühnekirche
DESCRIPTION:Blasius: Heiliger gegen Halskrankheiten \nNach den Messen an Lichtmess (2. Februar) und am darauf folgenden Festtag des Heiligen erbitten viele Gläubige den nach dem Heiligen benannten Segen.
URL:https://katholisch-hernals.at/event/hl-messe-mit-blasiussegen-2-2/
LOCATION:Sühnekirche\, Dr.-Josef-Resch-Platz 12\, Wien\, 1170\, Österreich
CATEGORIES:Erwachsene,Gottesdienst,Jugendliche 14+,Kinder,Spiritualität
ORGANIZER;CN="S%C3%BChnekirche":MAILTO:pfarramt-suehnekirche@chello.at
END:VEVENT
BEGIN:VEVENT
DTSTART;TZID=Europe/Vienna:20190203T100000
DTEND;TZID=Europe/Vienna:20190203T110000
DTSTAMP:20260421T103911
CREATED:20190202T064351Z
LAST-MODIFIED:20190202T065736Z
UID:2481-1549188000-1549191600@katholisch-hernals.at
SUMMARY:Hl. Messe mit Blasiussegen Sühnekirche
DESCRIPTION:Blasius: Heiliger gegen Halskrankheiten \nNach den Messen an Lichtmess (2. Februar) und am darauf folgenden Festtag des Heiligen erbitten viele Gläubige den nach dem Heiligen benannten Segen.
URL:https://katholisch-hernals.at/event/hl-messe-mit-blasiussegen-2-2-2/
LOCATION:Sühnekirche\, Dr.-Josef-Resch-Platz 12\, Wien\, 1170\, Österreich
CATEGORIES:Erwachsene,Gottesdienst,Jugendliche 14+,Kinder,Spiritualität
ORGANIZER;CN="S%C3%BChnekirche":MAILTO:pfarramt-suehnekirche@chello.at
END:VEVENT
BEGIN:VEVENT
DTSTART;TZID=Europe/Vienna:20190209T200000
DTEND;TZID=Europe/Vienna:20190210T020000
DTSTAMP:20260421T103911
CREATED:20190121T201529Z
LAST-MODIFIED:20190121T201529Z
UID:2220-1549742400-1549764000@katholisch-hernals.at
SUMMARY:Tanzkränzchen Sühnekirche
DESCRIPTION:Dürfen wir bitten? \nTänzer – und selbstverständlich auch Nicht-Tänzer – sind zum Kränzchen der Herz-Jesu-Sühnekirche herzlich eingeladen. \nEinlass: 19 Uhr\, Beginn: 20 Uhr\, Ende: 2 Uhr \nUnkostenbeitrag: Jugendliche: € 8\,00\, Erwachsene: € 15\,00 / Vorverkauf  12\,00 \n\nBrötchen\, Gulaschsuppe\, Mehlspeisen\nTombola\nDisco\, Karaoke\, Mitternachtseinlage
URL:https://katholisch-hernals.at/event/tanzkraenzchen-suehnekirche/
LOCATION:Sühnekirche\, Dr.-Josef-Resch-Platz 12\, Wien\, 1170\, Österreich
CATEGORIES:Erwachsene,Fest,Gruppentreffen,Jugendliche 14+,Junge Erwachsene,Musik (modern),Paare ohne Kinder,Senioren,Singles,Spiel, Sport, Spaß
END:VEVENT
BEGIN:VEVENT
DTSTART;TZID=Europe/Vienna:20190213T190000
DTEND;TZID=Europe/Vienna:20190213T200000
DTSTAMP:20260421T103911
CREATED:20180911T164445Z
LAST-MODIFIED:20190310T175111Z
UID:1702-1550084400-1550088000@katholisch-hernals.at
SUMMARY:Bibelrunde Sühnekirche
DESCRIPTION:im Pfarrheim\, 1. Stock \nIn dieser Bibelrunde setzen wir uns mit Genesis 3 „Eva und die Schlange“ auseinander. Seit Jahrhunderten sind wir von Bildern umgeben\, die uns eine wörtliche Auslegung dieses Textes nahebringen bzw. aufzwingen. Aber es gibt neue Zugänge zum Verständnis dieser Stelle. Daher die Frage: Welche Botschaft hat diese Bibelstelle für uns Heutige? \nHerzliche Einladung an alle Wiss-Begierigen! \nReni Pachta und Traudl Braun
URL:https://katholisch-hernals.at/event/bibelrunde-2-2-2-2-2-2-2/
LOCATION:Sühnekirche – Pfarre\, Alszeile 7\, Wien\, 1170\, Österreich
CATEGORIES:Austausch,Erwachsene,Gruppentreffen,Junge Erwachsene,Paare ohne Kinder,Senioren,Singles,Spiritualität,Weiterbildung
ORGANIZER;CN="S%C3%BChnekirche":MAILTO:pfarramt-suehnekirche@chello.at
END:VEVENT
BEGIN:VEVENT
DTSTART;TZID=Europe/Vienna:20190214T093000
DTEND;TZID=Europe/Vienna:20190214T110000
DTSTAMP:20260421T103911
CREATED:20180912T130631Z
LAST-MODIFIED:20190202T064653Z
UID:1744-1550136600-1550142000@katholisch-hernals.at
SUMMARY:LIMA-Trainingsgruppe Sühnekirche
DESCRIPTION:Pfarrsaal\, Alszeile 7\, 1170 Wien \nGedächtnistraining\nBewegungsübungen\nLebens- und Alltagsthemen\nSinn- und Glaubensfragen
URL:https://katholisch-hernals.at/event/seniorengeburtstagsmesse-3-2-3-3-2-2-2-2-2-2-2-2-2/
LOCATION:Sühnekirche\, Dr.-Josef-Resch-Platz 12\, Wien\, 1170\, Österreich
CATEGORIES:Austausch,Erwachsene,Gruppentreffen,Kreativität,Senioren,Weiterbildung
ORGANIZER;CN="S%C3%BChnekirche":MAILTO:pfarramt-suehnekirche@chello.at
END:VEVENT
BEGIN:VEVENT
DTSTART;TZID=Europe/Vienna:20190216T200000
DTEND;TZID=Europe/Vienna:20190216T233000
DTSTAMP:20260421T103911
CREATED:20190210T163146Z
LAST-MODIFIED:20190210T163146Z
UID:2585-1550347200-1550359800@katholisch-hernals.at
SUMMARY:Pfarrball der Marienpfarre
DESCRIPTION:Motto: Licht \nEs unterhält Sie die bewährte Musikgruppe „Lazy Dogs“ \nKartenbestellungen unter ball@marienpfarre.at
URL:https://katholisch-hernals.at/event/pfarrball-2-2/
LOCATION:Marienpfarre – Clemens Hofbauer Saal\, Kulmgasse 35\, Wien\, 1170\, Österreich
CATEGORIES:Erwachsene,Fest,Junge Erwachsene,Kultur,Musik (modern),Paare ohne Kinder,Senioren,Singles,Spiel, Sport, Spaß
ORGANIZER;CN="Marienpfarre":MAILTO:kanzlei@marienpfarre.at
END:VEVENT
BEGIN:VEVENT
DTSTART;TZID=Europe/Vienna:20190217T100000
DTEND;TZID=Europe/Vienna:20190217T110000
DTSTAMP:20260421T103911
CREATED:20190208T204521Z
LAST-MODIFIED:20190208T204521Z
UID:2575-1550397600-1550401200@katholisch-hernals.at
SUMMARY:Kanzeltausch in der Sühnekirche – Hl. Messe mit Pfarrer Dr. Karl Engelmann
DESCRIPTION:Auch heuer tauschen die Pfarrer im Entwicklungsraum Hernals die Kanzeln: Jeder der vier Pfarrer feiert an drei Sonntagen in den jeweils anderen drei Gemeinden die Pfarrmesse. So lernen die Messbesucher die Hernalser Pfarrer besser kennen.
URL:https://katholisch-hernals.at/event/kanzeltausch-in-der-suehnekirche-hl-messe-mit-pfarrer-dr-karl-engelmann/
CATEGORIES:Erwachsene,Gottesdienst,Jugendliche 14+,Junge Erwachsene,Kinder,Kinder 10-14,Kindergartenkinder 3-6,Kleinkinder 0-3,Paare ohne Kinder,Schulkinder 6-10,Senioren,Singles
END:VEVENT
BEGIN:VEVENT
DTSTART;TZID=Europe/Vienna:20190220T080000
DTEND;TZID=Europe/Vienna:20190220T084500
DTSTAMP:20260421T103911
CREATED:20190217T214609Z
LAST-MODIFIED:20190217T214609Z
UID:2634-1550649600-1550652300@katholisch-hernals.at
SUMMARY:Frauenmesse Sühnekirche
DESCRIPTION:in der Hauskapelle
URL:https://katholisch-hernals.at/event/frauenmesse-suehnekirche/
LOCATION:Sühnekirche – Hauskapelle\, Alszeile 7\, Wien\, 1170\, Österreich
CATEGORIES:Erwachsene,Gottesdienst
ORGANIZER;CN="S%C3%BChnekirche":MAILTO:pfarramt-suehnekirche@chello.at
END:VEVENT
BEGIN:VEVENT
DTSTART;TZID=Europe/Vienna:20190220T084500
DTEND;TZID=Europe/Vienna:20190220T094500
DTSTAMP:20260421T103911
CREATED:20190105T073328Z
LAST-MODIFIED:20190202T063115Z
UID:2172-1550652300-1550655900@katholisch-hernals.at
SUMMARY:Glaubensgespräche 2019 Sühnekirche: Christliche Begriffe und Redewendungen in der deutschen Sprache
DESCRIPTION:Woher kommen so wichtige christliche Begriffe wie „Gott“\, „hl. Geist“\, „Glaube – Hoffnung – Liebe“\, “ Taufe – Beichte – Firmung“\, „Auferstehung“\, „Ostern – Pfingsten – Fronleichnam“\, „Advent – Weihnachten“ und andere mehr? \nWie sind sie entstanden und was bedeuten sie? \nMit diesen Fragestellungen werden wir uns in den Glaubensgesprächen am Mittwoch\, 16. Jänner 2019 und am 20. Februar 2019 beschäftigen. \nZu den gemeinsamen Gesprächen (nach der Frauenmesse um 8:45 Uhr) laden wir alle herzlich ein.
URL:https://katholisch-hernals.at/event/glaubensgespraech-2-2-2-3-2-2-2/
LOCATION:Sühnekirche – Pfarre\, Alszeile 7\, Wien\, 1170\, Österreich
CATEGORIES:Austausch,Erwachsene,Junge Erwachsene,Paare ohne Kinder,Senioren,Singles,Spiritualität
ORGANIZER;CN="S%C3%BChnekirche":MAILTO:pfarramt-suehnekirche@chello.at
END:VEVENT
BEGIN:VEVENT
DTSTART;TZID=Europe/Vienna:20190220T193000
DTEND;TZID=Europe/Vienna:20190220T203000
DTSTAMP:20260421T103911
CREATED:20180911T162059Z
LAST-MODIFIED:20190217T212814Z
UID:1678-1550691000-1550694600@katholisch-hernals.at
SUMMARY:Männerrunde Sühnekirche
DESCRIPTION:Treffpunkt: Mittwoch\, 20.02.2019\, 19.30 Uhr\, Dr.-Josef-Resch-Platz 12\, Pfarrhaus 1. Stock. \nArmut\, Hoffnung\, Gott\, Gnade\, Kirche\, Glaube. Alles Grundworte christlichen Lebens\, denen wir uns 2019 in den Männerrunden annähern wollen. \nIm Monat Februar geht es um das Grundwort „HOFFNUNG“. \nAlle interessierten Männer sind herzlich eingeladen!
URL:https://katholisch-hernals.at/event/maennerrunde-2-2-2-2-2-2-2-2/
LOCATION:Sühnekirche – Pfarre\, Alszeile 7\, Wien\, 1170\, Österreich
CATEGORIES:Austausch,Erwachsene,Gruppentreffen,Junge Erwachsene,Senioren,Singles
ORGANIZER;CN="S%C3%BChnekirche":MAILTO:pfarramt-suehnekirche@chello.at
END:VEVENT
BEGIN:VEVENT
DTSTART;TZID=Europe/Vienna:20190221T093000
DTEND;TZID=Europe/Vienna:20190221T110000
DTSTAMP:20260421T103911
CREATED:20190202T064745Z
LAST-MODIFIED:20190202T064745Z
UID:2487-1550741400-1550746800@katholisch-hernals.at
SUMMARY:LIMA-Trainingsgruppe Sühnekirche
DESCRIPTION:Pfarrsaal\, Alszeile 7\, 1170 Wien \nGedächtnistraining\nBewegungsübungen\nLebens- und Alltagsthemen\nSinn- und Glaubensfragen
URL:https://katholisch-hernals.at/event/seniorengeburtstagsmesse-3-2-3-3-2-2-2-2-2-2-2-2-2-2/
LOCATION:Sühnekirche\, Dr.-Josef-Resch-Platz 12\, Wien\, 1170\, Österreich
CATEGORIES:Austausch,Erwachsene,Gruppentreffen,Kreativität,Senioren,Weiterbildung
ORGANIZER;CN="S%C3%BChnekirche":MAILTO:pfarramt-suehnekirche@chello.at
END:VEVENT
BEGIN:VEVENT
DTSTART;TZID=Europe/Vienna:20190222T150000
DTEND;TZID=Europe/Vienna:20190222T173000
DTSTAMP:20260421T103911
CREATED:20180911T160421Z
LAST-MODIFIED:20190217T215847Z
UID:1656-1550847600-1550856600@katholisch-hernals.at
SUMMARY:Seniorengeburtstagsmesse Sühnekirche
DESCRIPTION:Um 15:00 Uhr feiern wir gemeinsam die heilige Messe. \nAnschließend sind Sie herzlich eingeladen\, in den Pfarrsaal zu kommen\, um den Jänner- und Februar-Geburtstagskindern zu gratulieren und mit uns einen fröhlichen Nachmittag zu verbringen. Gäste sind herzlich willkommen. \nWieder einmal hat Herr Heimo Axmann in seinem Bücherfundus Humorvolles\, für die Faschingszeit passend\, gefunden und wird es uns in gewohnt amüsanter Weise vortragen. \nEtwas Kostümierung wäre ganz nett!
URL:https://katholisch-hernals.at/event/seniorengeburtstagsmesse-3-2-3-2-2/
LOCATION:Sühnekirche\, Dr.-Josef-Resch-Platz 12\, Wien\, 1170\, Österreich
CATEGORIES:Austausch,Erwachsene,Gruppentreffen,Kultur,Senioren
ORGANIZER;CN="S%C3%BChnekirche":MAILTO:pfarramt-suehnekirche@chello.at
END:VEVENT
BEGIN:VEVENT
DTSTART;TZID=Europe/Vienna:20190223T150000
DTEND;TZID=Europe/Vienna:20190223T180000
DTSTAMP:20260421T103911
CREATED:20180919T094829Z
LAST-MODIFIED:20180919T094829Z
UID:1802-1550934000-1550944800@katholisch-hernals.at
SUMMARY:Familienrunde IV
DESCRIPTION:Die Erwachsenen plaudern\, die Kinder spielen miteinander\, jede Familie nimmt eine Kleinigkeit für die gemeinsame Jause mit – alles in allem also ein gemütlicher Nachmittag.
URL:https://katholisch-hernals.at/event/familienrunde-iv-2-2-2-2-2/
LOCATION:Marienpfarre – Clemens Hofbauer Saal\, Kulmgasse 35\, Wien\, 1170\, Österreich
CATEGORIES:Austausch,Erwachsene,Gruppentreffen,Kinder,Kinder 10-14,Kindergartenkinder 3-6,Kleinkinder 0-3,Paare mit Kindern,Schulkinder 6-10,Spiel, Sport, Spaß
ORGANIZER;CN="Marienpfarre":MAILTO:kanzlei@marienpfarre.at
END:VEVENT
BEGIN:VEVENT
DTSTART;TZID=Europe/Vienna:20190223T150000
DTEND;TZID=Europe/Vienna:20190223T180000
DTSTAMP:20260421T103911
CREATED:20190129T141236Z
LAST-MODIFIED:20190204T084732Z
UID:2378-1550934000-1550944800@katholisch-hernals.at
SUMMARY:Afrikanischer Nachmittag in Dornbach
DESCRIPTION:ein bunter Nachmittag für die ganze Familie zugensten des Partnerschaftsprojektes in Burundi Hier geht´s zum Folder \nProgramm von 15.00 – 18.00 \n\nTrommelworkshop\nÖsterreichische und afrikanische Snacks\nSpiel- und Bastelstationen für Kinder\nInformation was bisher geschah
URL:https://katholisch-hernals.at/event/afrikanischer-nachmittag-in-dornbach/
LOCATION:Pfarre Dornbach – Pfarrsaal\, Rupertusplatz 4\, Wien\, 1170\, Österreich
CATEGORIES:Austausch,Caritas,Entwicklungszusammenarbeit,Erwachsene,Fest,Jugendliche 14+,Junge Erwachsene,Kinder,Kinder 10-14,Kindergartenkinder 3-6,Kleinkinder 0-3,Kreativität,Kultur,Musik (modern),Paare mit Kindern,Schulkinder 6-10,Singles,Spiel, Sport, Spaß,Spiritualität
ORGANIZER;CN="Pfarre Dornbach":MAILTO:kanzlei@pfarredornbach.at
END:VEVENT
BEGIN:VEVENT
DTSTART;TZID=Europe/Vienna:20190224T093000
DTEND;TZID=Europe/Vienna:20190224T103000
DTSTAMP:20260421T103911
CREATED:20180919T095540Z
LAST-MODIFIED:20180919T095540Z
UID:1820-1551000600-1551004200@katholisch-hernals.at
SUMMARY:Kinderwortgottesdienst
DESCRIPTION:Nach dem gemeinsamen Start der Messe in der Kirche gehen wir in die Kapelle. Dort beschäftigen wir uns mit einer einfachen und für Kinder verständlichen Botschaft aus der Bibel. Rechtzeitig zu den Fürbitten kommen wir wieder zurück in die Kirche. Selbstverständlich sind Eltern willkommen\, falls die Kinder diese Unterstützung möchten. Danach Kindercafé!
URL:https://katholisch-hernals.at/event/kinderwortgottesdienst-3-2-2-2-2/
LOCATION:Marienpfarre – Kirche\, Clemens Hofbauerplatz\, Wien\, 1170\, Österreich
CATEGORIES:Gottesdienst,Kinder,Kinder 10-14,Kindergartenkinder 3-6,Kleinkinder 0-3,Schulkinder 6-10
ORGANIZER;CN="Marienpfarre":MAILTO:kanzlei@marienpfarre.at
END:VEVENT
BEGIN:VEVENT
DTSTART;TZID=Europe/Vienna:20190224T100000
DTEND;TZID=Europe/Vienna:20190224T120000
DTSTAMP:20260421T103911
CREATED:20190217T222531Z
LAST-MODIFIED:20190217T222704Z
UID:2640-1551002400-1551009600@katholisch-hernals.at
SUMMARY:PILGRIM-Messe und -Fest Sühnekirche
DESCRIPTION:PILGRIM-Projekt „Freundschaft verbindet“ \nDie Kinder der Integrativen PILGRIM-Schule Hernals laden gemeinsam mit Jugendlichen der Vienna Business School Akademiestraße zum PILGRIM-Fest in die Herz-Jesu-Sühnekirche ein. \nWir feiern unsere Zusammenarbeit in der heiligen Messe am 24. Februar 2019 um 10:00 Uhr. Anschließend laden wir Sie in unser Pfarrcafé ein. \nIn unserem achten Jahr der Zusammenarbeit haben wir bereits kreative Gegenstände mit viel Liebe gebastelt. Sie können gegen freie Spende erworben werden. Mit dem Spendenerlös helfen wir afrikanischen Kindern im Slum Mathare. Wir ermöglichen ihnen\, eine Schule besuchen zu können. \nWir laden Sie herzlich zum Feiern\, Beten und Singen ein! \n„PILGRIM – Bewusst leben – Zukunft geben“ lautet das Motto des PILGRIM-Werks.\nPILGRIM heißt „Wir alle sind Pilger hier auf Erden“ und tragen Verantwortung für unsere Mitmenschen\, die Natur und dies vor allem auch für spätere Generationen. \nUm Kindern und Jugendlichen Solidarität und Gerechtigkeit praxisnah zu vermitteln\, ist die Zusammenarbeit mit Partnern außerhalb des Schulalltags ein äußerst hilfreicher Zugang. \nEin Projekt\, bei dem Wiener Schüler gleichzeitig Kinder aus Nairobi ohne Bildungszugang unterstützen\, Verantwortung übernehmen und Inklusion praktizieren\, ist „Freundschaft verbindet“.
URL:https://katholisch-hernals.at/event/pilgrim-messe-und-fest/
LOCATION:Sühnekirche\, Dr.-Josef-Resch-Platz 12\, Wien\, 1170\, Österreich
CATEGORIES:Austausch,Entwicklungszusammenarbeit,Erwachsene,Fest,Gottesdienst,Jugendliche 14+,Junge Erwachsene,Kinder,Kinder 10-14,Kindergartenkinder 3-6,Kleinkinder 0-3,Paare ohne Kinder,Pfarrcafe,Schulkinder 6-10,Senioren,Singles
ORGANIZER;CN="S%C3%BChnekirche":MAILTO:pfarramt-suehnekirche@chello.at
END:VEVENT
BEGIN:VEVENT
DTSTART;TZID=Europe/Vienna:20190224T130000
DTEND;TZID=Europe/Vienna:20190224T170000
DTSTAMP:20260421T103911
CREATED:20190202T065605Z
LAST-MODIFIED:20190202T065605Z
UID:2494-1551013200-1551027600@katholisch-hernals.at
SUMMARY:Wärmestube Sühnekirche
DESCRIPTION:Pfarrsaal\, Alszeile 5\, 1170 Wien \nSeit dem Winter 2012 werden Wärmestuben auf Initiative der PfarrCaritas eingerichtet. Im Rahmen des Winterpakets der Caritas Wien öffnen diese von Dezember bis Ende März ihre Pforten für wärmesuchende Menschen.
URL:https://katholisch-hernals.at/event/waermestube-suehnekirche/
LOCATION:Sühnekirche\, Dr.-Josef-Resch-Platz 12\, Wien\, 1170\, Österreich
CATEGORIES:Caritas,Erwachsene,Jugendliche 14+,Kinder,Paare mit Kindern
ORGANIZER;CN="S%C3%BChnekirche":MAILTO:pfarramt-suehnekirche@chello.at
END:VEVENT
BEGIN:VEVENT
DTSTART;TZID=Europe/Vienna:20190227T084500
DTEND;TZID=Europe/Vienna:20190227T094500
DTSTAMP:20260421T103911
CREATED:20190202T070135Z
LAST-MODIFIED:20190202T070135Z
UID:2496-1551257100-1551260700@katholisch-hernals.at
SUMMARY:Selbstbesteuerungsgruppe Sühnekirche
DESCRIPTION:In unserer Pfarre gibt es eine sogenannte Selbstbesteuerungsgruppe. Ungefähr 15 Personen finden sich alle 2 Monate zusammen und besprechen Hilfsprojekte\, die von verschiedenen Organisationen (Caritas\, Missio\, Entwicklungshilfeklub etc.) in Entwicklungsländern durchgeführt werden. Unsere Mitglieder zahlen regelmäßig\, z.B. durch Dauerauftrag – oder auch spontan\, je nach Möglichkeit – einen Beitrag dazu (niemand von den anderen weiß die Höhe). Der gesamte Kassastand wird dann je nach unserem Dafürhalten für die einzelnen Projekte eingesetzt. Auf diese Weise haben wir schon in vielen Notfällen geholfen\, haben Schulungsprogramme für Frauengruppen\, medizinische Hilfsprogramme unterstützt und Straßenkinder vor Verwahrlosung und Hunger bewahrt.
URL:https://katholisch-hernals.at/event/selbstbesteuerungsgruppe-suehnekirche/
LOCATION:Sühnekirche\, Dr.-Josef-Resch-Platz 12\, Wien\, 1170\, Österreich
CATEGORIES:Caritas,Entwicklungszusammenarbeit,Erwachsene,Gruppentreffen
ORGANIZER;CN="S%C3%BChnekirche":MAILTO:pfarramt-suehnekirche@chello.at
END:VEVENT
BEGIN:VEVENT
DTSTART;TZID=Europe/Vienna:20190227T183000
DTEND;TZID=Europe/Vienna:20190227T193000
DTSTAMP:20260421T103911
CREATED:20190108T074052Z
LAST-MODIFIED:20190131T142929Z
UID:2182-1551292200-1551295800@katholisch-hernals.at
SUMMARY:Stadtwallfahrt
DESCRIPTION:Stadtwallfahrt mit Lichterprozession und Einzelsegen zum Abschluss\, mit Bischof Volodymyr Hrutsa CSsR\, Lemberg (Ukraine).
URL:https://katholisch-hernals.at/event/stadtwallfahrt-4-2-3-2-2-2/
LOCATION:Marienpfarre – Kirche\, Clemens Hofbauerplatz\, Wien\, 1170\, Österreich
CATEGORIES:Erwachsene,Gottesdienst,Junge Erwachsene,Paare ohne Kinder,Senioren,Singles
ORGANIZER;CN="Marienpfarre":MAILTO:kanzlei@marienpfarre.at
END:VEVENT
BEGIN:VEVENT
DTSTART;TZID=Europe/Vienna:20190228T093000
DTEND;TZID=Europe/Vienna:20190228T110000
DTSTAMP:20260421T103911
CREATED:20190217T220126Z
LAST-MODIFIED:20190217T220126Z
UID:2638-1551346200-1551351600@katholisch-hernals.at
SUMMARY:LIMA-Trainingsgruppe Sühnekirche
DESCRIPTION:Pfarrsaal\, Alszeile 7\, 1170 Wien \nGedächtnistraining\nBewegungsübungen\nLebens- und Alltagsthemen\nSinn- und Glaubensfragen
URL:https://katholisch-hernals.at/event/seniorengeburtstagsmesse-3-2-3-3-2-2-2-2-2-2-2-2-2-2-2/
LOCATION:Sühnekirche\, Dr.-Josef-Resch-Platz 12\, Wien\, 1170\, Österreich
CATEGORIES:Austausch,Erwachsene,Gruppentreffen,Kreativität,Senioren,Weiterbildung
ORGANIZER;CN="S%C3%BChnekirche":MAILTO:pfarramt-suehnekirche@chello.at
END:VEVENT
BEGIN:VEVENT
DTSTART;TZID=Europe/Vienna:20190228T180000
DTEND;TZID=Europe/Vienna:20190228T183000
DTSTAMP:20260421T103911
CREATED:20190224T072511Z
LAST-MODIFIED:20190224T072511Z
UID:2672-1551376800-1551378600@katholisch-hernals.at
SUMMARY:Gestaltete Eucharistische Anbetung Sühnekirche
DESCRIPTION:
URL:https://katholisch-hernals.at/event/vesper-in-der-hauskapelle-2-2-2-2-2-2-2-2-2-2-2-2/
LOCATION:Sühnekirche – Hauskapelle\, Alszeile 7\, Wien\, 1170\, Österreich
CATEGORIES:Erwachsene,Gebet,Junge Erwachsene,Paare ohne Kinder,Senioren,Singles
ORGANIZER;CN="S%C3%BChnekirche":MAILTO:pfarramt-suehnekirche@chello.at
END:VEVENT
END:VCALENDAR