BEGIN:VCALENDAR
VERSION:2.0
PRODID:-//Pfarrverband Hernals - ECPv6.15.20//NONSGML v1.0//EN
CALSCALE:GREGORIAN
METHOD:PUBLISH
X-ORIGINAL-URL:https://katholisch-hernals.at
X-WR-CALDESC:Veranstaltungen für Pfarrverband Hernals
REFRESH-INTERVAL;VALUE=DURATION:PT1H
X-Robots-Tag:noindex
X-PUBLISHED-TTL:PT1H
BEGIN:VTIMEZONE
TZID:Europe/Vienna
BEGIN:DAYLIGHT
TZOFFSETFROM:+0100
TZOFFSETTO:+0200
TZNAME:CEST
DTSTART:20180325T010000
END:DAYLIGHT
BEGIN:STANDARD
TZOFFSETFROM:+0200
TZOFFSETTO:+0100
TZNAME:CET
DTSTART:20181028T010000
END:STANDARD
BEGIN:DAYLIGHT
TZOFFSETFROM:+0100
TZOFFSETTO:+0200
TZNAME:CEST
DTSTART:20190331T010000
END:DAYLIGHT
BEGIN:STANDARD
TZOFFSETFROM:+0200
TZOFFSETTO:+0100
TZNAME:CET
DTSTART:20191027T010000
END:STANDARD
BEGIN:DAYLIGHT
TZOFFSETFROM:+0100
TZOFFSETTO:+0200
TZNAME:CEST
DTSTART:20200329T010000
END:DAYLIGHT
BEGIN:STANDARD
TZOFFSETFROM:+0200
TZOFFSETTO:+0100
TZNAME:CET
DTSTART:20201025T010000
END:STANDARD
END:VTIMEZONE
BEGIN:VEVENT
DTSTART;TZID=Europe/Vienna:20190202T083000
DTEND;TZID=Europe/Vienna:20190202T093000
DTSTAMP:20260422T133109
CREATED:20190110T133239Z
LAST-MODIFIED:20190110T133239Z
UID:2193-1549096200-1549099800@katholisch-hernals.at
SUMMARY:Lichtmess in Dornbach
DESCRIPTION:Kerzensegnung und Eucharistiefeier zu Mariä Lichtmess – Darstellung des Herrn
URL:https://katholisch-hernals.at/event/lichtmess-in-dornbach/
LOCATION:Pfarre Dornbach – Kirche\, Rupertusplatz\, Wien\, 1170\, Österreich
CATEGORIES:Erwachsene,Eucharistie,Gebet,Gottesdienst,Jugendliche 14+,Junge Erwachsene,Kinder,Kinder 10-14,Kindergartenkinder 3-6,Kleinkinder 0-3,Paare mit Kindern,Paare ohne Kinder,Sakrament,Schulkinder 6-10,Senioren,Singles,Spiritualität
ORGANIZER;CN="Pfarre Dornbach":MAILTO:kanzlei@pfarredornbach.at
END:VEVENT
BEGIN:VEVENT
DTSTART;TZID=Europe/Vienna:20190223T150000
DTEND;TZID=Europe/Vienna:20190223T180000
DTSTAMP:20260422T133109
CREATED:20190129T141236Z
LAST-MODIFIED:20190204T084732Z
UID:2378-1550934000-1550944800@katholisch-hernals.at
SUMMARY:Afrikanischer Nachmittag in Dornbach
DESCRIPTION:ein bunter Nachmittag für die ganze Familie zugensten des Partnerschaftsprojektes in Burundi Hier geht´s zum Folder \nProgramm von 15.00 – 18.00 \n\nTrommelworkshop\nÖsterreichische und afrikanische Snacks\nSpiel- und Bastelstationen für Kinder\nInformation was bisher geschah
URL:https://katholisch-hernals.at/event/afrikanischer-nachmittag-in-dornbach/
LOCATION:Pfarre Dornbach – Pfarrsaal\, Rupertusplatz 4\, Wien\, 1170\, Österreich
CATEGORIES:Austausch,Caritas,Entwicklungszusammenarbeit,Erwachsene,Fest,Jugendliche 14+,Junge Erwachsene,Kinder,Kinder 10-14,Kindergartenkinder 3-6,Kleinkinder 0-3,Kreativität,Kultur,Musik (modern),Paare mit Kindern,Schulkinder 6-10,Singles,Spiel, Sport, Spaß,Spiritualität
ORGANIZER;CN="Pfarre Dornbach":MAILTO:kanzlei@pfarredornbach.at
END:VEVENT
END:VCALENDAR