BEGIN:VCALENDAR
VERSION:2.0
PRODID:-//Pfarrverband Hernals - ECPv6.15.20//NONSGML v1.0//EN
CALSCALE:GREGORIAN
METHOD:PUBLISH
X-WR-CALNAME:Pfarrverband Hernals
X-ORIGINAL-URL:https://katholisch-hernals.at
X-WR-CALDESC:Veranstaltungen für Pfarrverband Hernals
REFRESH-INTERVAL;VALUE=DURATION:PT1H
X-Robots-Tag:noindex
X-PUBLISHED-TTL:PT1H
BEGIN:VTIMEZONE
TZID:Europe/Vienna
BEGIN:DAYLIGHT
TZOFFSETFROM:+0100
TZOFFSETTO:+0200
TZNAME:CEST
DTSTART:20180325T010000
END:DAYLIGHT
BEGIN:STANDARD
TZOFFSETFROM:+0200
TZOFFSETTO:+0100
TZNAME:CET
DTSTART:20181028T010000
END:STANDARD
BEGIN:DAYLIGHT
TZOFFSETFROM:+0100
TZOFFSETTO:+0200
TZNAME:CEST
DTSTART:20190331T010000
END:DAYLIGHT
BEGIN:STANDARD
TZOFFSETFROM:+0200
TZOFFSETTO:+0100
TZNAME:CET
DTSTART:20191027T010000
END:STANDARD
BEGIN:DAYLIGHT
TZOFFSETFROM:+0100
TZOFFSETTO:+0200
TZNAME:CEST
DTSTART:20200329T010000
END:DAYLIGHT
BEGIN:STANDARD
TZOFFSETFROM:+0200
TZOFFSETTO:+0100
TZNAME:CET
DTSTART:20201025T010000
END:STANDARD
END:VTIMEZONE
BEGIN:VEVENT
DTSTART;TZID=Europe/Vienna:20190306T183000
DTEND;TZID=Europe/Vienna:20190306T193000
DTSTAMP:20260422T120435
CREATED:20190206T115321Z
LAST-MODIFIED:20190206T115321Z
UID:2532-1551897000-1551900600@katholisch-hernals.at
SUMMARY:Aschermittwoch in Dornbach - Hl. Messe
DESCRIPTION:mit Segnung und Auflegung der Asche
URL:https://katholisch-hernals.at/event/aschermittwoch-in-dornbach-hl-messe/
LOCATION:Pfarre Dornbach – Kirche\, Rupertusplatz\, Wien\, 1170\, Österreich
CATEGORIES:Erwachsene,Eucharistie,Gottesdienst,Jugendliche 14+,Junge Erwachsene,Kinder,Kinder 10-14,Kindergartenkinder 3-6,Kleinkinder 0-3,Paare mit Kindern,Paare ohne Kinder,Sakrament,Schulkinder 6-10,Senioren,Singles,Spiritualität
ORGANIZER;CN="Pfarre Dornbach":MAILTO:kanzlei@pfarredornbach.at
END:VEVENT
BEGIN:VEVENT
DTSTART;TZID=Europe/Vienna:20190308T183000
DTEND;TZID=Europe/Vienna:20190308T193000
DTSTAMP:20260422T120435
CREATED:20190206T115632Z
LAST-MODIFIED:20190206T115632Z
UID:2534-1552069800-1552073400@katholisch-hernals.at
SUMMARY:Kreuzweg in Dornbach
DESCRIPTION:in der Fastenzeit kein Freitagsgebet sondern Kreuzwegandacht in der Pfarrkirche!
URL:https://katholisch-hernals.at/event/kreuzweg-in-dornbach/
LOCATION:Pfarre Dornbach – Kirche\, Rupertusplatz\, Wien\, 1170\, Österreich
CATEGORIES:Erwachsene,Gebet,Gottesdienst,Jugendliche 14+,Junge Erwachsene,Kinder,Kinder 10-14,Kindergartenkinder 3-6,Kleinkinder 0-3,Kreuzweg,Paare mit Kindern,Paare ohne Kinder,Schulkinder 6-10,Senioren,Singles,Spiritualität
ORGANIZER;CN="Pfarre Dornbach":MAILTO:kanzlei@pfarredornbach.at
END:VEVENT
BEGIN:VEVENT
DTSTART;TZID=Europe/Vienna:20190310T093000
DTEND;TZID=Europe/Vienna:20190310T103000
DTSTAMP:20260422T120435
CREATED:20190210T163730Z
LAST-MODIFIED:20190210T163730Z
UID:2591-1552210200-1552213800@katholisch-hernals.at
SUMMARY:Kanzeltausch in der Marienpfarre
DESCRIPTION:1. Fastensonntag\, Hl. Messe mit Pfarrer Wolfgang Kimmel\, Dornbach
URL:https://katholisch-hernals.at/event/kanzeltausch-in-der-marienpfarre/
LOCATION:Marienpfarre – Kirche\, Clemens Hofbauerplatz\, Wien\, 1170\, Österreich
CATEGORIES:Erwachsene,Gottesdienst,Jugendliche 14+,Junge Erwachsene,Kinder,Kinder 10-14,Kindergartenkinder 3-6,Kleinkinder 0-3,Paare mit Kindern,Paare ohne Kinder,Schulkinder 6-10,Senioren,Singles
END:VEVENT
BEGIN:VEVENT
DTSTART;TZID=Europe/Vienna:20190314T170000
DTEND;TZID=Europe/Vienna:20190314T180000
DTSTAMP:20260422T120435
CREATED:20190314T103052Z
LAST-MODIFIED:20190314T103052Z
UID:2844-1552582800-1552586400@katholisch-hernals.at
SUMMARY:Auferstehungsfeier für Kinder in Dornbach
DESCRIPTION:
URL:https://katholisch-hernals.at/event/auferstehungsfeier-fuer-kinder-in-dornbach/
LOCATION:Pfarre Dornbach – Pfarrsaal\, Rupertusplatz 4\, Wien\, 1170\, Österreich
CATEGORIES:Gebet,Kinder,Kinder 10-14,Kindergartenkinder 3-6,Kleinkinder 0-3,Schulkinder 6-10,Spiritualität
ORGANIZER;CN="Pfarre Dornbach":MAILTO:kanzlei@pfarredornbach.at
END:VEVENT
BEGIN:VEVENT
DTSTART;TZID=Europe/Vienna:20190324T110000
DTEND;TZID=Europe/Vienna:20190324T130000
DTSTAMP:20260422T120435
CREATED:20190206T121345Z
LAST-MODIFIED:20190206T121345Z
UID:2559-1553425200-1553432400@katholisch-hernals.at
SUMMARY:Suppensonntag in Dornbach
DESCRIPTION:Teilen spendet Zukunft! Suppensonntag zugunsten der Aktion Familienfasttag 2019 der Kath. Frauenbewegung. Köstliche\, selbstgekochte Suppen nach der Messe essen und damit Gutes tun!
URL:https://katholisch-hernals.at/event/suppensonntag-in-dornbach/
LOCATION:Pfarre Dornbach – Pfarrsaal\, Rupertusplatz 4\, Wien\, 1170\, Österreich
CATEGORIES:Austausch,Caritas,Entwicklungszusammenarbeit,Erwachsene,Jugendliche 14+,Junge Erwachsene,Kinder,Kinder 10-14,Kindergartenkinder 3-6,Kleinkinder 0-3,Kultur,Paare mit Kindern,Paare ohne Kinder,Pfarrcafe,Schulkinder 6-10,Senioren,Singles,Spiel, Sport, Spaß
ORGANIZER;CN="Pfarre Dornbach":MAILTO:kanzlei@pfarredornbach.at
END:VEVENT
END:VCALENDAR