BEGIN:VCALENDAR
VERSION:2.0
PRODID:-//Pfarrverband Hernals - ECPv6.15.20//NONSGML v1.0//EN
CALSCALE:GREGORIAN
METHOD:PUBLISH
X-WR-CALNAME:Pfarrverband Hernals
X-ORIGINAL-URL:https://katholisch-hernals.at
X-WR-CALDESC:Veranstaltungen für Pfarrverband Hernals
REFRESH-INTERVAL;VALUE=DURATION:PT1H
X-Robots-Tag:noindex
X-PUBLISHED-TTL:PT1H
BEGIN:VTIMEZONE
TZID:Europe/Vienna
BEGIN:DAYLIGHT
TZOFFSETFROM:+0100
TZOFFSETTO:+0200
TZNAME:CEST
DTSTART:20180325T010000
END:DAYLIGHT
BEGIN:STANDARD
TZOFFSETFROM:+0200
TZOFFSETTO:+0100
TZNAME:CET
DTSTART:20181028T010000
END:STANDARD
BEGIN:DAYLIGHT
TZOFFSETFROM:+0100
TZOFFSETTO:+0200
TZNAME:CEST
DTSTART:20190331T010000
END:DAYLIGHT
BEGIN:STANDARD
TZOFFSETFROM:+0200
TZOFFSETTO:+0100
TZNAME:CET
DTSTART:20191027T010000
END:STANDARD
BEGIN:DAYLIGHT
TZOFFSETFROM:+0100
TZOFFSETTO:+0200
TZNAME:CEST
DTSTART:20200329T010000
END:DAYLIGHT
BEGIN:STANDARD
TZOFFSETFROM:+0200
TZOFFSETTO:+0100
TZNAME:CET
DTSTART:20201025T010000
END:STANDARD
END:VTIMEZONE
BEGIN:VEVENT
DTSTART;TZID=Europe/Vienna:20190411T160000
DTEND;TZID=Europe/Vienna:20190411T170000
DTSTAMP:20260422T104541
CREATED:20190313T161520Z
LAST-MODIFIED:20190321T103544Z
UID:2811-1554998400-1555002000@katholisch-hernals.at
SUMMARY:Kinderkreuzweg in Dornbach
DESCRIPTION:Kinderkreuzweg für Kinder ab dem Kindergartenalter in der Pfarrkirche
URL:https://katholisch-hernals.at/event/kinderkreuzweg-in-dornbach/
LOCATION:Pfarre Dornbach – Kirche\, Rupertusplatz\, Wien\, 1170\, Österreich
CATEGORIES:Gebet,Kinder,Kinder 10-14,Kindergartenkinder 3-6,Kreuzweg,Paare mit Kindern,Spiritualität
ORGANIZER;CN="Pfarre Dornbach":MAILTO:kanzlei@pfarredornbach.at
END:VEVENT
BEGIN:VEVENT
DTSTART;TZID=Europe/Vienna:20190420T080000
DTEND;TZID=Europe/Vienna:20190420T083000
DTSTAMP:20260422T104541
CREATED:20190313T164039Z
LAST-MODIFIED:20190313T164039Z
UID:2830-1555747200-1555749000@katholisch-hernals.at
SUMMARY:Trauermette und Beichtgelegenheit in Dornbach
DESCRIPTION:
URL:https://katholisch-hernals.at/event/karfreitagsliturgie-in-dornbach-2-2/
LOCATION:Pfarre Dornbach – Kirche\, Rupertusplatz\, Wien\, 1170\, Österreich
CATEGORIES:Erwachsene,Jugendliche 14+,Junge Erwachsene,Paare mit Kindern,Paare ohne Kinder,Senioren,Singles,Spiritualität
ORGANIZER;CN="Pfarre Dornbach":MAILTO:kanzlei@pfarredornbach.at
END:VEVENT
BEGIN:VEVENT
DTSTART;TZID=Europe/Vienna:20190422T100000
DTEND;TZID=Europe/Vienna:20190422T110000
DTSTAMP:20260422T104541
CREATED:20190314T095144Z
LAST-MODIFIED:20190314T102519Z
UID:2840-1555927200-1555930800@katholisch-hernals.at
SUMMARY:Hl. Messe in Dornbach
DESCRIPTION:
URL:https://katholisch-hernals.at/event/hl-messe-in-dornbach/
LOCATION:Pfarre Dornbach – Kirche\, Rupertusplatz\, Wien\, 1170\, Österreich
CATEGORIES:Erwachsene,Eucharistie,Gottesdienst,Jugendliche 14+,Junge Erwachsene,Kinder,Paare mit Kindern,Paare ohne Kinder,Sakrament,Senioren,Singles,Spiritualität
ORGANIZER;CN="Pfarre Dornbach":MAILTO:kanzlei@pfarredornbach.at
END:VEVENT
BEGIN:VEVENT
DTSTART;TZID=Europe/Vienna:20190427T190000
DTEND;TZID=Europe/Vienna:20190427T210000
DTSTAMP:20260422T104541
CREATED:20190129T143347Z
LAST-MODIFIED:20190129T143347Z
UID:2394-1556391600-1556398800@katholisch-hernals.at
SUMMARY:Ökumenrunde Dornbach
DESCRIPTION:„Jenseitsvorstellungen im Islam“ mit Dr. Lise Abid\, Institut für Orientalistik der Universität Wien
URL:https://katholisch-hernals.at/event/oekumenrunde-dornbach-der-friede-zwischen-den-weltreligionen-2-2-2/
LOCATION:Pfarre Dornbach – Pfarrsaal\, Rupertusplatz 4\, Wien\, 1170\, Österreich
CATEGORIES:Austausch,Erwachsene,Junge Erwachsene,Kultur,Ökumene,Paare ohne Kinder,Senioren,Singles,Spiritualität,Weiterbildung
ORGANIZER;CN="Pfarre Dornbach":MAILTO:kanzlei@pfarredornbach.at
END:VEVENT
END:VCALENDAR