BEGIN:VCALENDAR
VERSION:2.0
PRODID:-//Pfarrverband Hernals - ECPv6.15.20//NONSGML v1.0//EN
CALSCALE:GREGORIAN
METHOD:PUBLISH
X-ORIGINAL-URL:https://katholisch-hernals.at
X-WR-CALDESC:Veranstaltungen für Pfarrverband Hernals
REFRESH-INTERVAL;VALUE=DURATION:PT1H
X-Robots-Tag:noindex
X-PUBLISHED-TTL:PT1H
BEGIN:VTIMEZONE
TZID:Europe/Vienna
BEGIN:DAYLIGHT
TZOFFSETFROM:+0100
TZOFFSETTO:+0200
TZNAME:CEST
DTSTART:20180325T010000
END:DAYLIGHT
BEGIN:STANDARD
TZOFFSETFROM:+0200
TZOFFSETTO:+0100
TZNAME:CET
DTSTART:20181028T010000
END:STANDARD
BEGIN:DAYLIGHT
TZOFFSETFROM:+0100
TZOFFSETTO:+0200
TZNAME:CEST
DTSTART:20190331T010000
END:DAYLIGHT
BEGIN:STANDARD
TZOFFSETFROM:+0200
TZOFFSETTO:+0100
TZNAME:CET
DTSTART:20191027T010000
END:STANDARD
BEGIN:DAYLIGHT
TZOFFSETFROM:+0100
TZOFFSETTO:+0200
TZNAME:CEST
DTSTART:20200329T010000
END:DAYLIGHT
BEGIN:STANDARD
TZOFFSETFROM:+0200
TZOFFSETTO:+0100
TZNAME:CET
DTSTART:20201025T010000
END:STANDARD
END:VTIMEZONE
BEGIN:VEVENT
DTSTART;TZID=Europe/Vienna:20190501T180000
DTEND;TZID=Europe/Vienna:20190501T183000
DTSTAMP:20260420T071947
CREATED:20190423T133821Z
LAST-MODIFIED:20190423T133821Z
UID:2990-1556733600-1556735400@katholisch-hernals.at
SUMMARY:Maiandacht in Dornbach
DESCRIPTION:Die Maiandachten finden immer mittwochs um 18.00 in der Pfarrkirche statt!
URL:https://katholisch-hernals.at/event/maiandacht-in-dornbach/
LOCATION:Pfarre Dornbach – Kirche\, Rupertusplatz\, Wien\, 1170\, Österreich
CATEGORIES:Anbetung,Erwachsene,Gebet,Gottesdienst,Jugendliche 14+,Junge Erwachsene,Kinder,Kinder 10-14,Paare mit Kindern,Paare ohne Kinder,Schulkinder 6-10,Senioren,Singles,Spiritualität
ORGANIZER;CN="Pfarre Dornbach":MAILTO:kanzlei@pfarredornbach.at
END:VEVENT
BEGIN:VEVENT
DTSTART;TZID=Europe/Vienna:20190508T180000
DTEND;TZID=Europe/Vienna:20190508T183000
DTSTAMP:20260420T071947
CREATED:20190423T133842Z
LAST-MODIFIED:20190423T133842Z
UID:2992-1557338400-1557340200@katholisch-hernals.at
SUMMARY:Maiandacht in Dornbach
DESCRIPTION:Die Maiandachten finden immer mittwochs um 18.00 in der Pfarrkirche statt!
URL:https://katholisch-hernals.at/event/maiandacht-in-dornbach-2/
LOCATION:Pfarre Dornbach – Kirche\, Rupertusplatz\, Wien\, 1170\, Österreich
CATEGORIES:Anbetung,Erwachsene,Gebet,Gottesdienst,Jugendliche 14+,Junge Erwachsene,Kinder,Kinder 10-14,Paare mit Kindern,Paare ohne Kinder,Schulkinder 6-10,Senioren,Singles,Spiritualität
ORGANIZER;CN="Pfarre Dornbach":MAILTO:kanzlei@pfarredornbach.at
END:VEVENT
BEGIN:VEVENT
DTSTART;TZID=Europe/Vienna:20190511T100000
DTEND;TZID=Europe/Vienna:20190511T120000
DTSTAMP:20260420T071947
CREATED:20190206T114421Z
LAST-MODIFIED:20190423T132658Z
UID:2526-1557568800-1557576000@katholisch-hernals.at
SUMMARY:Bibel teilen in Dornbach
DESCRIPTION:Eine Möglichkeit sich gemeinsam dem Evangelium zu widmen und einander zum Gespräch zu treffen. Bei diesem Treffen\, zu dem alle ab dem Firmalter eingeladen sind\, wollen wir gemeinsam das Evangelium des kommenden Sonntags lesen und dann ohne inhaltliche Diskussion oder Belehrung zu reflektieren.
URL:https://katholisch-hernals.at/event/bibel-teilen-in-dornbach-2/
LOCATION:Pfarre Dornbach – Pfarrsaal\, Rupertusplatz 4\, Wien\, 1170\, Österreich
CATEGORIES:Austausch,Erwachsene,Gruppentreffen,Jugendliche 14+,Junge Erwachsene,Kreativität,Kultur,Singles,Spiritualität,Weiterbildung
ORGANIZER;CN="Pfarre Dornbach":MAILTO:kanzlei@pfarredornbach.at
END:VEVENT
BEGIN:VEVENT
DTSTART;TZID=Europe/Vienna:20190511T160000
DTEND;TZID=Europe/Vienna:20190511T170000
DTSTAMP:20260420T071947
CREATED:20190210T170053Z
LAST-MODIFIED:20190210T170107Z
UID:2625-1557590400-1557594000@katholisch-hernals.at
SUMMARY:Muttertagskonzert in der Marienkirche
DESCRIPTION:Muttertagskonzert des Orchestervereins Dornbach-Neuwaldegg
URL:https://katholisch-hernals.at/event/muttertagskonzert-in-der-marienkirche/
LOCATION:Marienpfarre – Clemens Hofbauer Saal\, Kulmgasse 35\, Wien\, 1170\, Österreich
CATEGORIES:Erwachsene,Junge Erwachsene,Kultur,Musik (klassisch),Paare ohne Kinder,Senioren,Singles
ORGANIZER;CN="Marienpfarre":MAILTO:kanzlei@marienpfarre.at
END:VEVENT
BEGIN:VEVENT
DTSTART;TZID=Europe/Vienna:20190513T190000
DTEND;TZID=Europe/Vienna:20190513T210000
DTSTAMP:20260420T071947
CREATED:20190129T143513Z
LAST-MODIFIED:20190129T143513Z
UID:2396-1557774000-1557781200@katholisch-hernals.at
SUMMARY:Ökumenrunde Dornbach
DESCRIPTION:„Mystik – hilft sie unser Leben zu vollenden?“ – Mystik: Vollendung unseres spirituellen Lebens mit Dr. Helga Kerschbaum\, Pfarre Dornbach
URL:https://katholisch-hernals.at/event/oekumenrunde-dornbach-der-friede-zwischen-den-weltreligionen-2-2-2-2/
LOCATION:Pfarre Dornbach – Pfarrsaal\, Rupertusplatz 4\, Wien\, 1170\, Österreich
CATEGORIES:Austausch,Erwachsene,Junge Erwachsene,Kultur,Ökumene,Paare ohne Kinder,Senioren,Singles,Spiritualität,Weiterbildung
ORGANIZER;CN="Pfarre Dornbach":MAILTO:kanzlei@pfarredornbach.at
END:VEVENT
BEGIN:VEVENT
DTSTART;TZID=Europe/Vienna:20190515T180000
DTEND;TZID=Europe/Vienna:20190515T183000
DTSTAMP:20260420T071947
CREATED:20190423T133856Z
LAST-MODIFIED:20190423T133908Z
UID:2994-1557943200-1557945000@katholisch-hernals.at
SUMMARY:Maiandacht in Dornbach
DESCRIPTION:Die Maiandachten finden immer mittwochs um 18.00 in der Pfarrkirche statt!
URL:https://katholisch-hernals.at/event/maiandacht-in-dornbach-2-2/
LOCATION:Pfarre Dornbach – Kirche\, Rupertusplatz\, Wien\, 1170\, Österreich
CATEGORIES:Anbetung,Erwachsene,Gebet,Gottesdienst,Jugendliche 14+,Junge Erwachsene,Kinder,Kinder 10-14,Paare mit Kindern,Paare ohne Kinder,Schulkinder 6-10,Senioren,Singles,Spiritualität
ORGANIZER;CN="Pfarre Dornbach":MAILTO:kanzlei@pfarredornbach.at
END:VEVENT
BEGIN:VEVENT
DTSTART;TZID=Europe/Vienna:20190517T140000
DTEND;TZID=Europe/Vienna:20190517T183000
DTSTAMP:20260420T071947
CREATED:20190226T143206Z
LAST-MODIFIED:20190226T143206Z
UID:2680-1558101600-1558117800@katholisch-hernals.at
SUMMARY:Krankenwallfahrt der Pfarre Dornbach zur Lourdesgrotte - Maria Gugging
DESCRIPTION:Treffpunkt: 14.00 Rupertusplatz \nca. 14.45 Ankunft in Maria Gugging – Lourdesgrotte \n15.00 Hl. Messe mit Krankensegnung mit Pf. Dr. Wolfgang Kimmel \ndanach Jause \nAuskunft in der Pfarrkanzlei (486 25 96 oder kanzlei@pfarredornbach.at)
URL:https://katholisch-hernals.at/event/krankenwallfahrt-der-pfarre-dornbach-zur-lourdesgrotte-maria-gugging/
LOCATION:Pfarre Dornbach\, Rupertusplatz\, Wien\, 1170\, Österreich
CATEGORIES:Auswärts,Erwachsene,Eucharistie,Gottesdienst,Krankensalbung,Senioren,Wallfahrt
ORGANIZER;CN="Pfarre Dornbach":MAILTO:kanzlei@pfarredornbach.at
END:VEVENT
BEGIN:VEVENT
DTSTART;TZID=Europe/Vienna:20190519T100000
DTEND;TZID=Europe/Vienna:20190519T110000
DTSTAMP:20260420T071947
CREATED:20190206T120442Z
LAST-MODIFIED:20190206T120442Z
UID:2551-1558260000-1558263600@katholisch-hernals.at
SUMMARY:LOBPREIS-Messe Dornbach
DESCRIPTION:
URL:https://katholisch-hernals.at/event/lobpreis-messe-dornbach-2-2-2/
LOCATION:Pfarre Dornbach – Rupertusplatz\, Rupertusplatz\, Wien\, 1170\, Österreich
CATEGORIES:Erwachsene,Gottesdienst,Jugendliche 14+,Junge Erwachsene,Kinder,Kinder 10-14,Kindergartenkinder 3-6,Kleinkinder 0-3,Musik (modern),Paare mit Kindern,Paare ohne Kinder,Sakrament,Schulkinder 6-10,Senioren,Singles,Spiritualität
ORGANIZER;CN="Pfarre Dornbach":MAILTO:kanzlei@pfarredornbach.at
END:VEVENT
BEGIN:VEVENT
DTSTART;TZID=Europe/Vienna:20190522T180000
DTEND;TZID=Europe/Vienna:20190522T183000
DTSTAMP:20260420T071947
CREATED:20190423T133923Z
LAST-MODIFIED:20190423T134007Z
UID:2996-1558548000-1558549800@katholisch-hernals.at
SUMMARY:Maiandacht in Dornbach
DESCRIPTION:Die Maiandachten finden immer mittwochs um 18.00 in der Pfarrkirche statt!
URL:https://katholisch-hernals.at/event/maiandacht-in-dornbach-2-2-2/
LOCATION:Pfarre Dornbach – Kirche\, Rupertusplatz\, Wien\, 1170\, Österreich
CATEGORIES:Anbetung,Erwachsene,Gebet,Gottesdienst,Jugendliche 14+,Junge Erwachsene,Kinder,Kinder 10-14,Paare mit Kindern,Paare ohne Kinder,Schulkinder 6-10,Senioren,Singles,Spiritualität
ORGANIZER;CN="Pfarre Dornbach":MAILTO:kanzlei@pfarredornbach.at
END:VEVENT
BEGIN:VEVENT
DTSTART;TZID=Europe/Vienna:20190523T083000
DTEND;TZID=Europe/Vienna:20190523T183000
DTSTAMP:20260420T071947
CREATED:20190226T143645Z
LAST-MODIFIED:20190226T143645Z
UID:2682-1558600200-1558636200@katholisch-hernals.at
SUMMARY:Pfarrausflug der Pfarre Dornbach
DESCRIPTION:Pfarrausflug der Pfarre Dornbach nach Wiener Neustadt \nDauer: 8.30 – ca. 18.15 (An- und Abreise mit dem Bus) \nBesuch der Landesausstellung\, Domführung\, Hl. Messe mit Sylvère Buzingo\, Heuriger in Gumpoldskirchen \nInformation in der Pfarrkanzlei (486 25 96 oder kanzlei@pfarredornbach.at)
URL:https://katholisch-hernals.at/event/pfarrausflug-der-pfarre-dornbach/
LOCATION:Pfarre Dornbach\, Rupertusplatz\, Wien\, 1170\, Österreich
CATEGORIES:Ausflug,Austausch,Auswärts,Erwachsene,Eucharistie,Gebet,Kultur,Paare ohne Kinder,Sakrament,Senioren,Singles,Spiel, Sport, Spaß,Spiritualität,Weiterbildung
ORGANIZER;CN="Pfarre Dornbach":MAILTO:kanzlei@pfarredornbach.at
END:VEVENT
BEGIN:VEVENT
DTSTART;TZID=Europe/Vienna:20190524T190000
DTEND;TZID=Europe/Vienna:20190524T220000
DTSTAMP:20260420T071947
CREATED:20190423T135934Z
LAST-MODIFIED:20190423T135934Z
UID:3016-1558724400-1558735200@katholisch-hernals.at
SUMMARY:Lange Nacht der Kirchen in Dornbach - Schafbergkirche
DESCRIPTION:19.00 – 20.00: Klang und Stille mit Margit Schmid und ihrem Kontrabass \n18.00 – 20.30 (Einlass bis 19h20): Das Wiesenlabyrinth \n20.30 – 21.45: Kleine Soiree Dmitrii Efimov aus Moskau und Barbara Mossig aus Wien spielen für Sie Werke für Violine und Klavier. \nNähere Informationen auf langenachtderkirchen.at
URL:https://katholisch-hernals.at/event/lange-nacht-der-kirchen-in-dornbach-schafbergkirche/
LOCATION:Schafbergkirche – St. Thomas Morus\, Josef-Redl-Gasse\, Wien\, 1170\, Österreich
CATEGORIES:Austausch,Erwachsene,Jugendliche 14+,Junge Erwachsene,Kinder,Kinder 10-14,Kindergartenkinder 3-6,Kreativität,Musik (klassisch),Musik (modern),Paare mit Kindern,Paare ohne Kinder,Schulkinder 6-10,Senioren,Singles,Spiritualität
ORGANIZER;CN="Pfarre Dornbach":MAILTO:kanzlei@pfarredornbach.at
END:VEVENT
BEGIN:VEVENT
DTSTART;TZID=Europe/Vienna:20190526T100000
DTEND;TZID=Europe/Vienna:20190526T113000
DTSTAMP:20260420T071947
CREATED:20190423T134739Z
LAST-MODIFIED:20190423T134739Z
UID:3004-1558864800-1558870200@katholisch-hernals.at
SUMMARY:Erstkommunion in Dornbach
DESCRIPTION:
URL:https://katholisch-hernals.at/event/erstkommunion-in-dornbach/
LOCATION:Pfarre Dornbach – Kirche\, Rupertusplatz\, Wien\, 1170\, Österreich
CATEGORIES:Erstkommunion,Eucharistie,Gottesdienst,Kinder,Sakrament,Schulkinder 6-10,Spiritualität
ORGANIZER;CN="Pfarre Dornbach":MAILTO:kanzlei@pfarredornbach.at
END:VEVENT
BEGIN:VEVENT
DTSTART;TZID=Europe/Vienna:20190527T190000
DTEND;TZID=Europe/Vienna:20190527T210000
DTSTAMP:20260420T071947
CREATED:20190129T143839Z
LAST-MODIFIED:20190129T143839Z
UID:2398-1558983600-1558990800@katholisch-hernals.at
SUMMARY:Ökumenrunde Dornbach
DESCRIPTION:„Tod und Auferstehung in der Bahá`í Religion“ – Aufbruch in ein neues Zeitalter mit Ottilie Kaefer\, Mitglied des Geistigen Rates derBahá`í  in Österreich
URL:https://katholisch-hernals.at/event/oekumenrunde-dornbach-der-friede-zwischen-den-weltreligionen-2-2-2-2-2/
LOCATION:Pfarre Dornbach – Pfarrsaal\, Rupertusplatz 4\, Wien\, 1170\, Österreich
CATEGORIES:Austausch,Erwachsene,Junge Erwachsene,Kultur,Ökumene,Paare ohne Kinder,Senioren,Singles,Spiritualität,Weiterbildung
ORGANIZER;CN="Pfarre Dornbach":MAILTO:kanzlei@pfarredornbach.at
END:VEVENT
BEGIN:VEVENT
DTSTART;TZID=Europe/Vienna:20190529T180000
DTEND;TZID=Europe/Vienna:20190529T183000
DTSTAMP:20260420T071947
CREATED:20190423T134019Z
LAST-MODIFIED:20190423T134019Z
UID:2998-1559152800-1559154600@katholisch-hernals.at
SUMMARY:Maiandacht in Dornbach
DESCRIPTION:Die Maiandachten finden immer mittwochs um 18.00 in der Pfarrkirche statt!
URL:https://katholisch-hernals.at/event/maiandacht-in-dornbach-2-2-2-2/
LOCATION:Pfarre Dornbach – Kirche\, Rupertusplatz\, Wien\, 1170\, Österreich
CATEGORIES:Anbetung,Erwachsene,Gebet,Gottesdienst,Jugendliche 14+,Junge Erwachsene,Kinder,Kinder 10-14,Paare mit Kindern,Paare ohne Kinder,Schulkinder 6-10,Senioren,Singles,Spiritualität
ORGANIZER;CN="Pfarre Dornbach":MAILTO:kanzlei@pfarredornbach.at
END:VEVENT
BEGIN:VEVENT
DTSTART;TZID=Europe/Vienna:20190530T100000
DTEND;TZID=Europe/Vienna:20190530T110000
DTSTAMP:20260420T071947
CREATED:20190423T134148Z
LAST-MODIFIED:20190426T053104Z
UID:3000-1559210400-1559214000@katholisch-hernals.at
SUMMARY:Christi Himmelfahrt in Dornbach
DESCRIPTION:
URL:https://katholisch-hernals.at/event/christi-himmelfahrt-in-dornbach/
LOCATION:Pfarre Dornbach – Kirche\, Rupertusplatz\, Wien\, 1170\, Österreich
CATEGORIES:Erwachsene,Eucharistie,Fest,Gottesdienst,Jugendliche 14+,Junge Erwachsene,Kinder,Kinder 10-14,Kindergartenkinder 3-6,Kleinkinder 0-3,Paare ohne Kinder,Sakrament,Schulkinder 6-10,Senioren,Singles,Spiritualität
ORGANIZER;CN="Pfarre Dornbach":MAILTO:kanzlei@pfarredornbach.at
END:VEVENT
END:VCALENDAR