BEGIN:VCALENDAR
VERSION:2.0
PRODID:-//Pfarrverband Hernals - ECPv6.15.20//NONSGML v1.0//EN
CALSCALE:GREGORIAN
METHOD:PUBLISH
X-WR-CALNAME:Pfarrverband Hernals
X-ORIGINAL-URL:https://katholisch-hernals.at
X-WR-CALDESC:Veranstaltungen für Pfarrverband Hernals
REFRESH-INTERVAL;VALUE=DURATION:PT1H
X-Robots-Tag:noindex
X-PUBLISHED-TTL:PT1H
BEGIN:VTIMEZONE
TZID:Europe/Vienna
BEGIN:DAYLIGHT
TZOFFSETFROM:+0100
TZOFFSETTO:+0200
TZNAME:CEST
DTSTART:20180325T010000
END:DAYLIGHT
BEGIN:STANDARD
TZOFFSETFROM:+0200
TZOFFSETTO:+0100
TZNAME:CET
DTSTART:20181028T010000
END:STANDARD
BEGIN:DAYLIGHT
TZOFFSETFROM:+0100
TZOFFSETTO:+0200
TZNAME:CEST
DTSTART:20190331T010000
END:DAYLIGHT
BEGIN:STANDARD
TZOFFSETFROM:+0200
TZOFFSETTO:+0100
TZNAME:CET
DTSTART:20191027T010000
END:STANDARD
BEGIN:DAYLIGHT
TZOFFSETFROM:+0100
TZOFFSETTO:+0200
TZNAME:CEST
DTSTART:20200329T010000
END:DAYLIGHT
BEGIN:STANDARD
TZOFFSETFROM:+0200
TZOFFSETTO:+0100
TZNAME:CET
DTSTART:20201025T010000
END:STANDARD
END:VTIMEZONE
BEGIN:VEVENT
DTSTART;TZID=Europe/Vienna:20190702T080000
DTEND;TZID=Europe/Vienna:20190702T170000
DTSTAMP:20260420T042731
CREATED:20190702T135617Z
LAST-MODIFIED:20190702T135617Z
UID:3393-1562054400-1562086800@katholisch-hernals.at
SUMMARY:Fußwallfahrt zur Waldandacht in Dornbach
DESCRIPTION:Treffpunkt 16.30 Rupertusplatz – Wanderung über den Schafberg zur Waldandacht – 18.30 Hl. Messe zum Patrozinium Maria Einsiedeln
URL:https://katholisch-hernals.at/event/fusswallfahrt-zur-waldandacht-in-dornbach/
END:VEVENT
BEGIN:VEVENT
DTSTART;TZID=Europe/Vienna:20190726T180000
DTEND;TZID=Europe/Vienna:20190726T193000
DTSTAMP:20260420T042731
CREATED:20190618T110227Z
LAST-MODIFIED:20190626T101856Z
UID:3322-1564164000-1564169400@katholisch-hernals.at
SUMMARY:Patrozinium Annakapelle (Dornbach)
DESCRIPTION:18.00 Andacht 18.30 Feier des Patroziniums
URL:https://katholisch-hernals.at/event/patrozinium-annakapelle/
LOCATION:Annakapelle\, Dornbacher Str\, Endstation 43\, Wien\, 1170\, Österreich
CATEGORIES:Erstkommunion,Erwachsene,Jugendliche 14+,Junge Erwachsene,Kinder,Paare ohne Kinder,Sakrament,Senioren,Singles
ORGANIZER;CN="Pfarre Dornbach":MAILTO:kanzlei@pfarredornbach.at
END:VEVENT
BEGIN:VEVENT
DTSTART;TZID=Europe/Vienna:20190727T180000
DTEND;TZID=Europe/Vienna:20190727T193000
DTSTAMP:20260420T042731
CREATED:20190723T120754Z
LAST-MODIFIED:20190723T120754Z
UID:3538-1564250400-1564255800@katholisch-hernals.at
SUMMARY:Anna-Triduum Annakapelle (Dornbach)
DESCRIPTION:18.00 Andacht 18.30 Hl. Messe – keine Hl. Messe in der Schafbergkirche um 18.30!
URL:https://katholisch-hernals.at/event/patrozinium-annakapelle-2-2/
LOCATION:Annakapelle\, Dornbacher Str\, Endstation 43\, Wien\, 1170\, Österreich
CATEGORIES:Erstkommunion,Erwachsene,Jugendliche 14+,Junge Erwachsene,Kinder,Paare ohne Kinder,Sakrament,Senioren,Singles
ORGANIZER;CN="Pfarre Dornbach":MAILTO:kanzlei@pfarredornbach.at
END:VEVENT
BEGIN:VEVENT
DTSTART;TZID=Europe/Vienna:20190728T180000
DTEND;TZID=Europe/Vienna:20190728T193000
DTSTAMP:20260420T042731
CREATED:20190626T101933Z
LAST-MODIFIED:20190626T111321Z
UID:3378-1564336800-1564342200@katholisch-hernals.at
SUMMARY:Anna-Triduum Annakapelle (Dornbach)
DESCRIPTION:18.00 Andacht 18.30 Hl. Messe – keine Hl. Messe in der Pfarrkirche um 18.30!
URL:https://katholisch-hernals.at/event/patrozinium-annakapelle-2/
LOCATION:Annakapelle\, Dornbacher Str\, Endstation 43\, Wien\, 1170\, Österreich
CATEGORIES:Erstkommunion,Erwachsene,Jugendliche 14+,Junge Erwachsene,Kinder,Paare ohne Kinder,Sakrament,Senioren,Singles
ORGANIZER;CN="Pfarre Dornbach":MAILTO:kanzlei@pfarredornbach.at
END:VEVENT
END:VCALENDAR