BEGIN:VCALENDAR
VERSION:2.0
PRODID:-//Pfarrverband Hernals - ECPv6.15.20//NONSGML v1.0//EN
CALSCALE:GREGORIAN
METHOD:PUBLISH
X-WR-CALNAME:Pfarrverband Hernals
X-ORIGINAL-URL:https://katholisch-hernals.at
X-WR-CALDESC:Veranstaltungen für Pfarrverband Hernals
REFRESH-INTERVAL;VALUE=DURATION:PT1H
X-Robots-Tag:noindex
X-PUBLISHED-TTL:PT1H
BEGIN:VTIMEZONE
TZID:Europe/Vienna
BEGIN:DAYLIGHT
TZOFFSETFROM:+0100
TZOFFSETTO:+0200
TZNAME:CEST
DTSTART:20180325T010000
END:DAYLIGHT
BEGIN:STANDARD
TZOFFSETFROM:+0200
TZOFFSETTO:+0100
TZNAME:CET
DTSTART:20181028T010000
END:STANDARD
BEGIN:DAYLIGHT
TZOFFSETFROM:+0100
TZOFFSETTO:+0200
TZNAME:CEST
DTSTART:20190331T010000
END:DAYLIGHT
BEGIN:STANDARD
TZOFFSETFROM:+0200
TZOFFSETTO:+0100
TZNAME:CET
DTSTART:20191027T010000
END:STANDARD
BEGIN:DAYLIGHT
TZOFFSETFROM:+0100
TZOFFSETTO:+0200
TZNAME:CEST
DTSTART:20200329T010000
END:DAYLIGHT
BEGIN:STANDARD
TZOFFSETFROM:+0200
TZOFFSETTO:+0100
TZNAME:CET
DTSTART:20201025T010000
END:STANDARD
END:VTIMEZONE
BEGIN:VEVENT
DTSTART;TZID=Europe/Vienna:20190903T183000
DTEND;TZID=Europe/Vienna:20190903T193000
DTSTAMP:20260420T012154
CREATED:20190514T092016Z
LAST-MODIFIED:20190905T102217Z
UID:3122-1567535400-1567539000@katholisch-hernals.at
SUMMARY:Freude für die Seele in Dornbach: Sakraler Tanz
DESCRIPTION:Christliche Spiritualität heute gelebt \nDieses kontemplative Programm richtet sich an alle Interessierten: durch seine Vielfalt ist es ansprechend und durch seinen Inhalt wohltuend für Geist\, Körper und Seele zugleich. Dem stressgeplagten Menschen bringt es Entspannung\, Harmonisierung von Körper und Seele – und Freude\, die den ganzen Menschen erfüllt: Singen\, Tanzen\, Vesper beten\, Schweigen und Hören \nDas ganzheitliche Programm umfasst verschiedene Veranstaltungen an jedem Dienstag im Monat\, die unabhängig voneinander besucht werden können. Man kann also zB in einem Monat am jeweiligen Abend Vesper beten und Taizé-Gebete singen oder nur zum Sakralen Tanzen kommen. \nAnschließend gibt es jeweils eine kleine Agape zu einem gemütlichen Ausklang in Gemeinschaft. \n Wann und Wo:  \njeden Dienstag um 18.30 im Pfarrzentrum Dornbach\, Rupertusplatz 5 
URL:https://katholisch-hernals.at/event/neu-freude-fuer-die-seele-in-dornbach-sakraler-tanz-3/
LOCATION:Pfarre Dornbach – Pfarrsaal\, Rupertusplatz 4\, Wien\, 1170\, Österreich
CATEGORIES:Austausch,Erwachsene,Gebet,Junge Erwachsene,Kreativität,Kultur,Musik (klassisch),Musik (modern),Paare ohne Kinder,Senioren,Singles,Spiritualität
ORGANIZER;CN="Pfarre Dornbach":MAILTO:kanzlei@pfarredornbach.at
END:VEVENT
BEGIN:VEVENT
DTSTART;TZID=Europe/Vienna:20190905T153000
DTEND;TZID=Europe/Vienna:20190905T173000
DTSTAMP:20260420T012154
CREATED:20190514T094510Z
LAST-MODIFIED:20190905T103815Z
UID:3139-1567697400-1567704600@katholisch-hernals.at
SUMMARY:Donnerstag-Club in Dornbach
DESCRIPTION:Wahres Leben ist Begegnung. Wir laden Sie herzlich zu unserem Donnerstag-Club jeden Donnerstag um 15.30 im Pfarrzentrum ein! Es erwartet Sie ein Nachmittag mit Impulsreferaten zu den Themen Lebenshilfe\, Kultur und Spiritualität mit Gesprächen\, Informationen und Getränken. Jeden ersten Donnerstag im Monat ist Spielenachmittag\, jeden dritten Donnerstag im Monat feiern wir mit einem kleinen künstlerischen Programm die Geburtstagskinder des Monats. \nProgramm im September: \n\n5.9.   Spielenachmittag\n12.9. Josef Prüwasser: Oman – der etwas andere Islam\n19.9. Seniorennachmittag mit Geburtstagsfeier\n26.9. P. Benno Maier OSB: Europa – Christliches Abendland??\n\n 
URL:https://katholisch-hernals.at/event/donnerstag-club-in-dornbach-1-2/
LOCATION:Pfarre Dornbach – Pfarrsaal\, Rupertusplatz 4\, Wien\, 1170\, Österreich
CATEGORIES:Austausch,Erwachsene,Gruppentreffen,Kreativität,Kultur,Pfarrcafe,Senioren,Singles,Spiel, Sport, Spaß,Spiritualität,Weiterbildung
ORGANIZER;CN="Pfarre Dornbach":MAILTO:kanzlei@pfarredornbach.at
END:VEVENT
BEGIN:VEVENT
DTSTART;TZID=Europe/Vienna:20190908T100000
DTEND;TZID=Europe/Vienna:20190908T113000
DTSTAMP:20260420T012154
CREATED:20190831T121241Z
LAST-MODIFIED:20190831T121241Z
UID:3624-1567936800-1567942200@katholisch-hernals.at
SUMMARY:Dirndlgwandsonntag in Dornbach
DESCRIPTION:Bitte kommen Sie in Tracht zur Messe und zur Agape!
URL:https://katholisch-hernals.at/event/dirndlgwandsonntag-in-dornbach/
LOCATION:Pfarre Dornbach – Kirche\, Rupertusplatz\, Wien\, 1170\, Österreich
CATEGORIES:Erwachsene,Eucharistie,Fest,Gottesdienst,Jugendliche 14+,Kinder,Paare mit Kindern,Pfarrcafe
ORGANIZER;CN="Pfarre Dornbach":MAILTO:kanzlei@pfarredornbach.at
END:VEVENT
BEGIN:VEVENT
DTSTART;TZID=Europe/Vienna:20190909T190000
DTEND;TZID=Europe/Vienna:20190909T210000
DTSTAMP:20260420T012154
CREATED:20190905T102744Z
LAST-MODIFIED:20190905T102744Z
UID:3669-1568055600-1568062800@katholisch-hernals.at
SUMMARY:Ökumenerunde Dornbach
DESCRIPTION:Prof. Dr. Johannes Huber\, Universität Wien spricht über sein gleichnamiges Buch: Woher wir kommen – wohin wir gehen – Die Erforschung der Ewigkeit
URL:https://katholisch-hernals.at/event/oekumenerunde-dornbach/
LOCATION:Pfarre Dornbach – Pfarrsaal\, Rupertusplatz 4\, Wien\, 1170\, Österreich
CATEGORIES:Austausch,Erwachsene,Junge Erwachsene,Kultur,Ökumene,Paare ohne Kinder,Senioren,Singles,Spiritualität,Weiterbildung
ORGANIZER;CN="Pfarre Dornbach":MAILTO:kanzlei@pfarredornbach.at
END:VEVENT
BEGIN:VEVENT
DTSTART;TZID=Europe/Vienna:20190910T183000
DTEND;TZID=Europe/Vienna:20190910T193000
DTSTAMP:20260420T012154
CREATED:20190514T092120Z
LAST-MODIFIED:20190905T102416Z
UID:3124-1568140200-1568143800@katholisch-hernals.at
SUMMARY:Freude für die Seele in Dornbach: Vespergebet
DESCRIPTION:Christliche Spiritualität heute gelebt \nDieses kontemplative Programm richtet sich an alle Interessierten: durch seine Vielfalt ist es ansprechend und durch seinen Inhalt wohltuend für Geist\, Körper und Seele zugleich. Dem stressgeplagten Menschen bringt es Entspannung\, Harmonisierung von Körper und Seele – und Freude\, die den ganzen Menschen erfüllt: Singen\, Tanzen\, Vesper beten\, Schweigen und Hören \nDas ganzheitliche Programm umfasst verschiedene Veranstaltungen an jedem Dienstag im Monat\, die unabhängig voneinander besucht werden können. Man kann also zB in einem Monat am jeweiligen Abend Vesper beten und Taizé-Gebete singen oder nur zum Sakralen Tanzen kommen. \nAnschließend gibt es jeweils eine kleine Agape zu einem gemütlichen Ausklang in Gemeinschaft. \n Wann und Wo:  \njeden Dienstag um 18.30 im Pfarrzentrum Dornbach\, Rupertusplatz 4
URL:https://katholisch-hernals.at/event/neu-freude-fuer-die-seele-in-dornbach-sakraler-tanz-2-3/
LOCATION:Pfarre Dornbach – Kirche\, Rupertusplatz\, Wien\, 1170\, Österreich
CATEGORIES:Austausch,Erwachsene,Gebet,Junge Erwachsene,Kreativität,Kultur,Musik (klassisch),Musik (modern),Paare ohne Kinder,Senioren,Singles,Spiritualität
ORGANIZER;CN="Pfarre Dornbach":MAILTO:kanzlei@pfarredornbach.at
END:VEVENT
BEGIN:VEVENT
DTSTART;TZID=Europe/Vienna:20190912T153000
DTEND;TZID=Europe/Vienna:20190912T173000
DTSTAMP:20260420T012154
CREATED:20190905T103710Z
LAST-MODIFIED:20190905T103710Z
UID:3688-1568302200-1568309400@katholisch-hernals.at
SUMMARY:Donnerstag-Club in Dornbach
DESCRIPTION:Wahres Leben ist Begegnung. Wir laden Sie herzlich zu unserem Donnerstag-Club jeden Donnerstag um 15.30 im Pfarrzentrum ein! Es erwartet Sie ein Nachmittag mit Impulsreferaten zu den Themen Lebenshilfe\, Kultur und Spiritualität mit Gesprächen\, Informationen und Getränken. Jeden ersten Donnerstag im Monat ist Spielenachmittag\, jeden dritten Donnerstag im Monat feiern wir mit einem kleinen künstlerischen Programm die Geburtstagskinder des Monats. \nProgramm im September: \n\n5.9.   Spielenachmittag\n12.9. Josef Prüwasser: Oman – der etwas andere Islam\n19.9. Seniorennachmittag mit Geburtstagsfeier\n26.9. P. Benno Maier OSB: Europa – Christliches Abendland??\n\n 
URL:https://katholisch-hernals.at/event/donnerstag-club-in-dornbach-1-2-3/
LOCATION:Pfarre Dornbach – Pfarrsaal\, Rupertusplatz 4\, Wien\, 1170\, Österreich
CATEGORIES:Austausch,Erwachsene,Gruppentreffen,Kreativität,Kultur,Pfarrcafe,Senioren,Singles,Spiel, Sport, Spaß,Spiritualität,Weiterbildung
ORGANIZER;CN="Pfarre Dornbach":MAILTO:kanzlei@pfarredornbach.at
END:VEVENT
BEGIN:VEVENT
DTSTART;TZID=Europe/Vienna:20190912T180000
DTEND;TZID=Europe/Vienna:20190912T190000
DTSTAMP:20260420T012154
CREATED:20190905T103409Z
LAST-MODIFIED:20190905T103409Z
UID:3682-1568311200-1568314800@katholisch-hernals.at
SUMMARY:Fest Heiligster Namen Mariens in Dornbach
DESCRIPTION:18:00 Hl. Messe in der Pfarrkirche
URL:https://katholisch-hernals.at/event/fest-heiligster-namen-mariens-in-dornbach/
LOCATION:Pfarre Dornbach – Kirche\, Rupertusplatz\, Wien\, 1170\, Österreich
CATEGORIES:Erwachsene,Eucharistie,Jugendliche 14+,Kinder,Sakrament
ORGANIZER;CN="Pfarre Dornbach":MAILTO:kanzlei@pfarredornbach.at
END:VEVENT
BEGIN:VEVENT
DTSTART;TZID=Europe/Vienna:20190913T190000
DTEND;TZID=Europe/Vienna:20190913T193000
DTSTAMP:20260420T012154
CREATED:20190905T103152Z
LAST-MODIFIED:20190905T103152Z
UID:3676-1568401200-1568403000@katholisch-hernals.at
SUMMARY:Anbetung in Dornbach
DESCRIPTION:jeden Freitag um 19:00: Stille Andacht vor dem Allerheiligsten. Ab 13.9.2019 jeden Freitag in der Pfarrkirche\, Mariazeller Altar
URL:https://katholisch-hernals.at/event/anbetung-in-dornbach/
LOCATION:Pfarre Dornbach – Kirche\, Rupertusplatz\, Wien\, 1170\, Österreich
CATEGORIES:Anbetung,Erwachsene,Gebet,Gottesdienst,Junge Erwachsene,Kinder 10-14,Paare ohne Kinder,Senioren,Singles,Spiritualität
ORGANIZER;CN="Pfarre Dornbach":MAILTO:kanzlei@pfarredornbach.at
END:VEVENT
BEGIN:VEVENT
DTSTART;TZID=Europe/Vienna:20190917T183000
DTEND;TZID=Europe/Vienna:20190917T193000
DTSTAMP:20260420T012154
CREATED:20190514T092304Z
LAST-MODIFIED:20190905T104730Z
UID:3127-1568745000-1568748600@katholisch-hernals.at
SUMMARY:Freude für die Seele in Dornbach: Taizé-Gebet
DESCRIPTION:Christliche Spiritualität heute gelebt \nDieses kontemplative Programm richtet sich an alle Interessierten: durch seine Vielfalt ist es ansprechend und durch seinen Inhalt wohltuend für Geist\, Körper und Seele zugleich. Dem stressgeplagten Menschen bringt es Entspannung\, Harmonisierung von Körper und Seele – und Freude\, die den ganzen Menschen erfüllt: Singen\, Tanzen\, Vesper beten\, Schweigen und Hören \nDas ganzheitliche Programm umfasst verschiedene Veranstaltungen an jedem Dienstag im Monat\, die unabhängig voneinander besucht werden können. Man kann also zB in einem Monat am jeweiligen Abend Vesper beten und Taizé-Gebete singen oder nur zum Sakralen Tanzen kommen. \nAnschließend gibt es jeweils eine kleine Agape zu einem gemütlichen Ausklang in Gemeinschaft. \n Wann und Wo:  \njeden Dienstag um 18.30 im Pfarrzentrum Dornbach\, Rupertusplatz 4
URL:https://katholisch-hernals.at/event/neu-freude-fuer-die-seele-in-dornbach-sakraler-tanz-2-2-3/
LOCATION:Pfarre Dornbach – Pfarrsaal\, Rupertusplatz 4\, Wien\, 1170\, Österreich
CATEGORIES:Austausch,Erwachsene,Gebet,Junge Erwachsene,Kreativität,Kultur,Musik (klassisch),Musik (modern),Paare ohne Kinder,Senioren,Singles,Spiritualität
ORGANIZER;CN="Pfarre Dornbach":MAILTO:kanzlei@pfarredornbach.at
END:VEVENT
BEGIN:VEVENT
DTSTART;TZID=Europe/Vienna:20190919T153000
DTEND;TZID=Europe/Vienna:20190919T173000
DTSTAMP:20260420T012154
CREATED:20190905T103725Z
LAST-MODIFIED:20190905T103725Z
UID:3690-1568907000-1568914200@katholisch-hernals.at
SUMMARY:Donnerstag-Club in Dornbach
DESCRIPTION:Wahres Leben ist Begegnung. Wir laden Sie herzlich zu unserem Donnerstag-Club jeden Donnerstag um 15.30 im Pfarrzentrum ein! Es erwartet Sie ein Nachmittag mit Impulsreferaten zu den Themen Lebenshilfe\, Kultur und Spiritualität mit Gesprächen\, Informationen und Getränken. Jeden ersten Donnerstag im Monat ist Spielenachmittag\, jeden dritten Donnerstag im Monat feiern wir mit einem kleinen künstlerischen Programm die Geburtstagskinder des Monats. \nProgramm im September: \n\n5.9.   Spielenachmittag\n12.9. Josef Prüwasser: Oman – der etwas andere Islam\n19.9. Seniorennachmittag mit Geburtstagsfeier\n26.9. P. Benno Maier OSB: Europa – Christliches Abendland??\n\n 
URL:https://katholisch-hernals.at/event/donnerstag-club-in-dornbach-1-2-3-2/
LOCATION:Pfarre Dornbach – Pfarrsaal\, Rupertusplatz 4\, Wien\, 1170\, Österreich
CATEGORIES:Austausch,Erwachsene,Gruppentreffen,Kreativität,Kultur,Pfarrcafe,Senioren,Singles,Spiel, Sport, Spaß,Spiritualität,Weiterbildung
ORGANIZER;CN="Pfarre Dornbach":MAILTO:kanzlei@pfarredornbach.at
END:VEVENT
BEGIN:VEVENT
DTSTART;TZID=Europe/Vienna:20190920T190000
DTEND;TZID=Europe/Vienna:20190920T193000
DTSTAMP:20260420T012154
CREATED:20190905T103206Z
LAST-MODIFIED:20190905T103206Z
UID:3678-1569006000-1569007800@katholisch-hernals.at
SUMMARY:Anbetung in Dornbach
DESCRIPTION:jeden Freitag um 19:00: Stille Andacht vor dem Allerheiligsten. Ab 13.9.2019 jeden Freitag in der Pfarrkirche\, Mariazeller Altar
URL:https://katholisch-hernals.at/event/anbetung-in-dornbach-2/
LOCATION:Pfarre Dornbach – Kirche\, Rupertusplatz\, Wien\, 1170\, Österreich
CATEGORIES:Anbetung,Erwachsene,Gebet,Gottesdienst,Junge Erwachsene,Kinder 10-14,Paare ohne Kinder,Senioren,Singles,Spiritualität
ORGANIZER;CN="Pfarre Dornbach":MAILTO:kanzlei@pfarredornbach.at
END:VEVENT
BEGIN:VEVENT
DTSTART;TZID=Europe/Vienna:20190921T100000
DTEND;TZID=Europe/Vienna:20190921T120000
DTSTAMP:20260420T012154
CREATED:20190129T142250Z
LAST-MODIFIED:20190905T103923Z
UID:2387-1569060000-1569067200@katholisch-hernals.at
SUMMARY:Jugend- und Ministrantentreffen in Dornbach
DESCRIPTION:ALLE KINDER und JUGENDLICHEN sind herzlich eingeladen – ob sie ministrieren oder nicht! Wir treffen einander einmal im Monat an einem Samstag zwischen 10.00 und 12.00 Uhr zum Ministrieren-Üben\, Plaudern\, Glauben erleben und auch Kuchen\, Kakao und Spielen genießen. In den Gottesdiensten ministrieren können alle Kinder ab dem Schulalter und auch Jugendliche! Für die jugendlichen Minis gibt es  (teilweise) ein eigenes Programm! \nInfos und Anmeldung bei Jungschar- u. MinistrantInnen-Leiter Wolfgang Ruckenbauer oder in der Pfarrkanzlei! \n\n← Zurück Vielen Dank für deine Antwort. ✨\n\n\n					\n						\n							\n							\n						\n						\n						\n						\n						\n							\n								\n									\n										\n										\n									\n									\n										\n										\n									\n								\n							\n						\n						\n							\n								\n									\n									\n										\n									\n									\n									\n								\n							\n						\n					\n				\n\n\n\nName(erforderlich)\n\n \n			\n				\n					\n						\n						\n						\n					\n				\n				\n			 \n	\n\n\nE-Mail (erforderlich)\n\n \n			\n				\n					\n						\n						\n						\n					\n				\n				\n			 \n	\n\n\nWebsite\n\n \n			\n				\n					\n						\n						\n						\n					\n				\n				\n			 \n	\n\n\nNachricht\n\n \n			\n				\n					\n						\n						\n						\n					\n				\n				\n			\n	\n	\n\n				\n					\n				\n						Senden		\n		\n		\n	 \nΔ
URL:https://katholisch-hernals.at/event/jugend-und-ministrantentreffen-in-dornbach-2-2-2/
LOCATION:Pfarre Dornbach\, Rupertusplatz\, Wien\, 1170\, Österreich
CATEGORIES:Austausch,Gebet,Gruppentreffen,Jugendliche 14+,Kinder,Kinder 10-14,Kultur,Schulkinder 6-10,Spiel, Sport, Spaß,Spiritualität,Weiterbildung
ORGANIZER;CN="Pfarre Dornbach":MAILTO:kanzlei@pfarredornbach.at
END:VEVENT
BEGIN:VEVENT
DTSTART;TZID=Europe/Vienna:20190922T110000
DTEND;TZID=Europe/Vienna:20190922T120000
DTSTAMP:20260420T012154
CREATED:20190905T104557Z
LAST-MODIFIED:20190905T104557Z
UID:3710-1569150000-1569153600@katholisch-hernals.at
SUMMARY:Lobpreis in Dornbach
DESCRIPTION:
URL:https://katholisch-hernals.at/event/lobpreis-in-dornbach/
LOCATION:Pfarre Dornbach – Kirche\, Rupertusplatz\, Wien\, 1170\, Österreich
CATEGORIES:Erwachsene,Fest,Gebet,Jugendliche 14+,Junge Erwachsene,Kinder,Musik (modern),Paare mit Kindern,Paare ohne Kinder,Singles,Spiritualität
ORGANIZER;CN="Pfarre Dornbach":MAILTO:kanzlei@pfarredornbach.at
END:VEVENT
BEGIN:VEVENT
DTSTART;TZID=Europe/Vienna:20190922T110000
DTEND;TZID=Europe/Vienna:20190922T123000
DTSTAMP:20260420T012154
CREATED:20190905T104441Z
LAST-MODIFIED:20190905T104441Z
UID:3708-1569150000-1569155400@katholisch-hernals.at
SUMMARY:Start der Erstkommunionsvorbereitung in Dornbach
DESCRIPTION:Start der Vorbereitung zur Erstkommunion: Samstag\, 22. September 11:00 in der Pfarrkirche \n 
URL:https://katholisch-hernals.at/event/start-der-erstkommunionsvorbereitung-in-dornbach/
LOCATION:Pfarre Dornbach – Kirche\, Rupertusplatz\, Wien\, 1170\, Österreich
CATEGORIES:Erstkommunion,Erwachsene,Fest,Gottesdienst,Gruppentreffen,Schulkinder 6-10,Spiritualität
ORGANIZER;CN="Pfarre Dornbach":MAILTO:kanzlei@pfarredornbach.at
END:VEVENT
BEGIN:VEVENT
DTSTART;TZID=Europe/Vienna:20190923T190000
DTEND;TZID=Europe/Vienna:20190923T210000
DTSTAMP:20260420T012154
CREATED:20190905T102845Z
LAST-MODIFIED:20190905T102845Z
UID:3671-1569265200-1569272400@katholisch-hernals.at
SUMMARY:Ökumenerunde Dornbach
DESCRIPTION:DI Martin Krill\, Pfarrgemeinderat in Dornbach: Wasserstoff als Retter aus der Klimakrise?
URL:https://katholisch-hernals.at/event/oekumenerunde-dornbach-2/
LOCATION:Pfarre Dornbach – Pfarrsaal\, Rupertusplatz 4\, Wien\, 1170\, Österreich
CATEGORIES:Austausch,Erwachsene,Junge Erwachsene,Kultur,Ökumene,Paare ohne Kinder,Senioren,Singles,Spiritualität,Weiterbildung
ORGANIZER;CN="Pfarre Dornbach":MAILTO:kanzlei@pfarredornbach.at
END:VEVENT
BEGIN:VEVENT
DTSTART;TZID=Europe/Vienna:20190924T183000
DTEND;TZID=Europe/Vienna:20190924T193000
DTSTAMP:20260420T012154
CREATED:20190514T092420Z
LAST-MODIFIED:20190905T104711Z
UID:3129-1569349800-1569353400@katholisch-hernals.at
SUMMARY:Freude für die Seele in Dornbach: Meditation Schweigen und Hören
DESCRIPTION:Christliche Spiritualität heute gelebt \nDieses kontemplative Programm richtet sich an alle Interessierten: durch seine Vielfalt ist es ansprechend und durch seinen Inhalt wohltuend für Geist\, Körper und Seele zugleich. Dem stressgeplagten Menschen bringt es Entspannung\, Harmonisierung von Körper und Seele – und Freude\, die den ganzen Menschen erfüllt: Singen\, Tanzen\, Vesper beten\, Schweigen und Hören \nDas ganzheitliche Programm umfasst verschiedene Veranstaltungen an jedem Dienstag im Monat\, die unabhängig voneinander besucht werden können. Man kann also zB in einem Monat am jeweiligen Abend Vesper beten und Taizé-Gebete singen oder nur zum Sakralen Tanzen kommen. \nAnschließend gibt es jeweils eine kleine Agape zu einem gemütlichen Ausklang in Gemeinschaft. \n Wann und Wo:  \njeden Dienstag um 18.30 im Pfarrzentrum Dornbach\, Rupertusplatz 4
URL:https://katholisch-hernals.at/event/neu-freude-fuer-die-seele-in-dornbach-sakraler-tanz-2-2-2-2/
LOCATION:Pfarre Dornbach – Pfarrsaal\, Rupertusplatz 4\, Wien\, 1170\, Österreich
CATEGORIES:Austausch,Erwachsene,Gebet,Junge Erwachsene,Kreativität,Kultur,Musik (klassisch),Musik (modern),Paare ohne Kinder,Senioren,Singles,Spiritualität
ORGANIZER;CN="Pfarre Dornbach":MAILTO:kanzlei@pfarredornbach.at
END:VEVENT
BEGIN:VEVENT
DTSTART;TZID=Europe/Vienna:20190926T153000
DTEND;TZID=Europe/Vienna:20190926T173000
DTSTAMP:20260420T012154
CREATED:20190905T103740Z
LAST-MODIFIED:20190905T103740Z
UID:3692-1569511800-1569519000@katholisch-hernals.at
SUMMARY:Donnerstag-Club in Dornbach
DESCRIPTION:Wahres Leben ist Begegnung. Wir laden Sie herzlich zu unserem Donnerstag-Club jeden Donnerstag um 15.30 im Pfarrzentrum ein! Es erwartet Sie ein Nachmittag mit Impulsreferaten zu den Themen Lebenshilfe\, Kultur und Spiritualität mit Gesprächen\, Informationen und Getränken. Jeden ersten Donnerstag im Monat ist Spielenachmittag\, jeden dritten Donnerstag im Monat feiern wir mit einem kleinen künstlerischen Programm die Geburtstagskinder des Monats. \nProgramm im September: \n\n5.9.   Spielenachmittag\n12.9. Josef Prüwasser: Oman – der etwas andere Islam\n19.9. Seniorennachmittag mit Geburtstagsfeier\n26.9. P. Benno Maier OSB: Europa – Christliches Abendland??\n\n 
URL:https://katholisch-hernals.at/event/donnerstag-club-in-dornbach-1-2-3-2-2/
LOCATION:Pfarre Dornbach – Pfarrsaal\, Rupertusplatz 4\, Wien\, 1170\, Österreich
CATEGORIES:Austausch,Erwachsene,Gruppentreffen,Kreativität,Kultur,Pfarrcafe,Senioren,Singles,Spiel, Sport, Spaß,Spiritualität,Weiterbildung
ORGANIZER;CN="Pfarre Dornbach":MAILTO:kanzlei@pfarredornbach.at
END:VEVENT
BEGIN:VEVENT
DTSTART;TZID=Europe/Vienna:20190927T190000
DTEND;TZID=Europe/Vienna:20190927T193000
DTSTAMP:20260420T012154
CREATED:20190905T103224Z
LAST-MODIFIED:20190905T103224Z
UID:3680-1569610800-1569612600@katholisch-hernals.at
SUMMARY:Anbetung in Dornbach
DESCRIPTION:jeden Freitag um 19:00: Stille Andacht vor dem Allerheiligsten. Ab 13.9.2019 jeden Freitag in der Pfarrkirche\, Mariazeller Altar
URL:https://katholisch-hernals.at/event/anbetung-in-dornbach-2-2/
LOCATION:Pfarre Dornbach – Kirche\, Rupertusplatz\, Wien\, 1170\, Österreich
CATEGORIES:Anbetung,Erwachsene,Gebet,Gottesdienst,Junge Erwachsene,Kinder 10-14,Paare ohne Kinder,Senioren,Singles,Spiritualität
ORGANIZER;CN="Pfarre Dornbach":MAILTO:kanzlei@pfarredornbach.at
END:VEVENT
BEGIN:VEVENT
DTSTART;TZID=Europe/Vienna:20190929T100000
DTEND;TZID=Europe/Vienna:20190929T123000
DTSTAMP:20260420T012154
CREATED:20190831T121459Z
LAST-MODIFIED:20190831T121459Z
UID:3626-1569751200-1569760200@katholisch-hernals.at
SUMMARY:Glockenweihe und Ruptertifest in Dornbach
DESCRIPTION:10.00 Einholung und Weihe der Glocken\, anschließend Pontifikalamt\, Zelebrant Erzabt Korbinian Birnbacher OSB\, Stift St. Peter. \nIm Anschluß Frühschoppen auf dem Rupertusplatz \n 
URL:https://katholisch-hernals.at/event/glockenweihe-und-ruptertifest-in-dornbach/
LOCATION:Pfarre Dornbach – Rupertusplatz\, Rupertusplatz\, Wien\, 1170\, Österreich
CATEGORIES:Erwachsene,Eucharistie,Fest,Gebet,Gottesdienst,Jugendliche 14+,Junge Erwachsene,Kinder,Kinder 10-14,Kindergartenkinder 3-6,Kleinkinder 0-3,Kultur,Paare mit Kindern,Paare ohne Kinder,Sakrament,Schulkinder 6-10,Senioren,Singles,Spiritualität,Weiterbildung
ORGANIZER;CN="Pfarre Dornbach":MAILTO:kanzlei@pfarredornbach.at
END:VEVENT
BEGIN:VEVENT
DTSTART;TZID=Europe/Vienna:20190929T180000
DTEND;TZID=Europe/Vienna:20190929T190000
DTSTAMP:20260420T012154
CREATED:20190831T121622Z
LAST-MODIFIED:20190831T121622Z
UID:3628-1569780000-1569783600@katholisch-hernals.at
SUMMARY:Rupertivesper und Hl. Messe in Dornbach
DESCRIPTION:
URL:https://katholisch-hernals.at/event/rupertivesper-und-hl-messe-in-dornbach/
LOCATION:Pfarre Dornbach – Kirche\, Rupertusplatz\, Wien\, 1170\, Österreich
CATEGORIES:Erwachsene,Eucharistie,Gebet,Gottesdienst,Kinder,Paare mit Kindern,Sakrament
ORGANIZER;CN="Pfarre Dornbach":MAILTO:kanzlei@pfarredornbach.at
END:VEVENT
END:VCALENDAR