BEGIN:VCALENDAR
VERSION:2.0
PRODID:-//Pfarrverband Hernals - ECPv6.15.20//NONSGML v1.0//EN
CALSCALE:GREGORIAN
METHOD:PUBLISH
X-ORIGINAL-URL:https://katholisch-hernals.at
X-WR-CALDESC:Veranstaltungen für Pfarrverband Hernals
REFRESH-INTERVAL;VALUE=DURATION:PT1H
X-Robots-Tag:noindex
X-PUBLISHED-TTL:PT1H
BEGIN:VTIMEZONE
TZID:Europe/Vienna
BEGIN:DAYLIGHT
TZOFFSETFROM:+0100
TZOFFSETTO:+0200
TZNAME:CEST
DTSTART:20180325T010000
END:DAYLIGHT
BEGIN:STANDARD
TZOFFSETFROM:+0200
TZOFFSETTO:+0100
TZNAME:CET
DTSTART:20181028T010000
END:STANDARD
BEGIN:DAYLIGHT
TZOFFSETFROM:+0100
TZOFFSETTO:+0200
TZNAME:CEST
DTSTART:20190331T010000
END:DAYLIGHT
BEGIN:STANDARD
TZOFFSETFROM:+0200
TZOFFSETTO:+0100
TZNAME:CET
DTSTART:20191027T010000
END:STANDARD
BEGIN:DAYLIGHT
TZOFFSETFROM:+0100
TZOFFSETTO:+0200
TZNAME:CEST
DTSTART:20200329T010000
END:DAYLIGHT
BEGIN:STANDARD
TZOFFSETFROM:+0200
TZOFFSETTO:+0100
TZNAME:CET
DTSTART:20201025T010000
END:STANDARD
END:VTIMEZONE
BEGIN:VEVENT
DTSTART;TZID=Europe/Vienna:20191201T110000
DTEND;TZID=Europe/Vienna:20191201T120000
DTSTAMP:20260420T025657
CREATED:20191105T130306Z
LAST-MODIFIED:20191105T130324Z
UID:4044-1575198000-1575201600@katholisch-hernals.at
SUMMARY:Lobpreis in Dornbach
DESCRIPTION:https://katholisch-hernals.at/2019/10/17/lobpreis-in-dornbach/
URL:https://katholisch-hernals.at/event/lobpreis-in-dornbach-12/
LOCATION:Pfarre Dornbach – Kirche\, Rupertusplatz\, Wien\, 1170\, Österreich
CATEGORIES:Erwachsene,Fest,Gebet,Jugendliche 14+,Junge Erwachsene,Kinder,Musik (modern),Paare mit Kindern,Paare ohne Kinder,Singles,Spiritualität
ORGANIZER;CN="Pfarre Dornbach":MAILTO:kanzlei@pfarredornbach.at
END:VEVENT
BEGIN:VEVENT
DTSTART;TZID=Europe/Vienna:20191203T063000
DTEND;TZID=Europe/Vienna:20191203T073000
DTSTAMP:20260420T025657
CREATED:20181129T132035Z
LAST-MODIFIED:20191105T123550Z
UID:2069-1575354600-1575358200@katholisch-hernals.at
SUMMARY:Rorate in Dornbach
DESCRIPTION:beim Mariazeller Altar\, danach Frühstück im Pfarrzentrum
URL:https://katholisch-hernals.at/event/rorate-in-dornbach-2/
LOCATION:Pfarre Dornbach – Kirche\, Rupertusplatz\, Wien\, 1170\, Österreich
CATEGORIES:Erwachsene,Gebet,Gottesdienst,Jugendliche 14+,Junge Erwachsene,Kinder 10-14,Paare ohne Kinder,Senioren,Singles,Spiritualität
ATTACH;FMTTYPE=image/jpeg:https://katholisch-hernals.at/wp-content/uploads/2017/11/Gobelin_Maria_Ausschnitt_Engel.jpg
ORGANIZER;CN="Pfarre Dornbach":MAILTO:kanzlei@pfarredornbach.at
END:VEVENT
BEGIN:VEVENT
DTSTART;TZID=Europe/Vienna:20191203T180000
DTEND;TZID=Europe/Vienna:20191203T193000
DTSTAMP:20260420T025657
CREATED:20191105T131110Z
LAST-MODIFIED:20191105T131110Z
UID:4052-1575396000-1575401400@katholisch-hernals.at
SUMMARY:Freude für die Seele in Dornbach
DESCRIPTION:Christliche Spiritualität heute gelebt \nDieses kontemplative Programm richtet sich an alle Interessierten: durch seine Vielfalt ist es ansprechend und durch seinen Inhalt wohltuend für Geist\, Körper und Seele zugleich. Dem stressgeplagten Menschen bringt es Entspannung\, Harmonisierung von Körper und Seele – und Freude\, die den ganzen Menschen erfüllt: Singen\, Tanzen\, Vesper beten\, Schweigen und Hören \nDas ganzheitliche Programm umfasst verschiedene Veranstaltungen an jedem Dienstag im Monat\, die unabhängig voneinander besucht werden können. Man kann also zB in einem Monat am jeweiligen Abend Vesper beten und Taizé-Gebete singen oder nur zum Sakralen Tanzen kommen. \nSakraler Tanz (1. Dienstag im Monat) – Vesper (2. Dienstag im Monat) – Taizé (3. Dienstag im Monat) – Meditation (4. Dienstag im Monat) -in Monaten mit fünf Dienstag\, fällt der letzte Dienstag aus. \nAnschließend gibt es jeweils eine kleine Agape zu einem gemütlichen Ausklang in Gemeinschaft. \n Wann und Wo: jeden Dienstag um 18.00 im Pfarrzentrum Dornbach\, Rupertusplatz 5 
URL:https://katholisch-hernals.at/event/neu-freude-fuer-die-seele-in-dornbach-12/
LOCATION:Pfarre Dornbach – Pfarrsaal\, Rupertusplatz 4\, Wien\, 1170\, Österreich
CATEGORIES:Austausch,Erwachsene,Gebet,Junge Erwachsene,Kreativität,Kultur,Musik (klassisch),Musik (modern),Paare ohne Kinder,Senioren,Singles,Spiritualität
ATTACH;FMTTYPE=image/png:https://katholisch-hernals.at/wp-content/uploads/2019/05/Freude_fuer_die_Seele.png
ORGANIZER;CN="Pfarre Dornbach":MAILTO:kanzlei@pfarredornbach.at
END:VEVENT
BEGIN:VEVENT
DTSTART;TZID=Europe/Vienna:20191204T193000
DTEND;TZID=Europe/Vienna:20191204T210000
DTSTAMP:20260420T025657
CREATED:20190918T104005Z
LAST-MODIFIED:20190918T104005Z
UID:3841-1575487800-1575493200@katholisch-hernals.at
SUMMARY:Alpha Kurs Dornbach
DESCRIPTION:Alpha ist eine Reihe von interaktiven Treffen\, an denen gemeinsam die Themen Leben\, Glaube\, Sinn erforscht und vertieft werden können. Alpha ist locker und setzt keine Vorkenntnisse voraus -eine bewährte Möglichkeit\, mehr über den christlichen Glauben zu erfahren. \nFür den Glaubenskurs in Dornbach treffen wir uns immer im Pfarrsaal der Pfarre Dornbach\, Rupertusplatz 4\, Wien 17. Für weitere Informationen klicken Sie bitte hier!
URL:https://katholisch-hernals.at/event/alpha-kurs-dornbach-2-2-2-2-2-2-2/
LOCATION:Pfarre Dornbach – Pfarrsaal\, Rupertusplatz 4\, Wien\, 1170\, Österreich
CATEGORIES:Austausch,Erwachsene,Gruppentreffen,Junge Erwachsene,Paare ohne Kinder,Senioren,Singles,Spiritualität,Weiterbildung
ATTACH;FMTTYPE=image/jpeg:https://katholisch-hernals.at/wp-content/uploads/2019/09/Alpha_Einladung_Okt19.jpg
ORGANIZER;CN="Pfarre Dornbach":MAILTO:kanzlei@pfarredornbach.at
END:VEVENT
BEGIN:VEVENT
DTSTART;TZID=Europe/Vienna:20191205T153000
DTEND;TZID=Europe/Vienna:20191205T173000
DTSTAMP:20260420T025657
CREATED:20191105T124127Z
LAST-MODIFIED:20191105T124354Z
UID:4026-1575559800-1575567000@katholisch-hernals.at
SUMMARY:Donnerstag-Club in Dornbach
DESCRIPTION:Wahres Leben ist Begegnung. Wir laden Sie herzlich zu unserem Donnerstag-Club jeden Donnerstag um 15.30 im Pfarrzentrum ein! Es erwartet Sie ein Nachmittag mit Impulsreferaten zu den Themen Lebenshilfe\, Kultur und Spiritualität mit Gesprächen\, Informationen und Getränken. Jeden ersten Donnerstag im Monat ist Spielenachmittag\, jeden dritten Donnerstag im Monat feiern wir mit einem kleinen künstlerischen Programm die Geburtstagskinder des Monats. \nProgramm im September: \n\n5.12.  Spielenachmittag\n12.12. Dr. Arthur Winter: Kambodscha – von der größten Tempelanlage der Welt zu den schwimmenden Dörfern\n21.11. Seniorennachmittag mit Geburtstagsfeier\n\n 
URL:https://katholisch-hernals.at/event/donnerstag-club-in-dornbach-12/
LOCATION:Pfarre Dornbach – Pfarrsaal\, Rupertusplatz 4\, Wien\, 1170\, Österreich
CATEGORIES:Austausch,Erwachsene,Gruppentreffen,Kreativität,Kultur,Pfarrcafe,Senioren,Singles,Spiel, Sport, Spaß,Spiritualität,Weiterbildung
ORGANIZER;CN="Pfarre Dornbach":MAILTO:kanzlei@pfarredornbach.at
END:VEVENT
BEGIN:VEVENT
DTSTART;TZID=Europe/Vienna:20191208T100000
DTEND;TZID=Europe/Vienna:20191208T110000
DTSTAMP:20260420T025657
CREATED:20181129T132637Z
LAST-MODIFIED:20191127T130523Z
UID:2073-1575799200-1575802800@katholisch-hernals.at
SUMMARY:Mariä Empfängnis Hl. Messe Gestaltung Chor Cantamus\, Dornbach
DESCRIPTION:Hl. Messe gestaltet vom Chor Cantamus\, Leitung: Ruth Hiltz-Tiefenbach
URL:https://katholisch-hernals.at/event/maria-empfaengnis-in-dornbach-chor-cantamus/
LOCATION:Pfarre Dornbach – Kirche\, Rupertusplatz\, Wien\, 1170\, Österreich
CATEGORIES:Erwachsene,Fest,Gottesdienst,Jugendliche 14+,Junge Erwachsene,Kinder,Kinder 10-14,Musik (klassisch),Paare mit Kindern,Paare ohne Kinder,Sakrament,Senioren,Singles
ORGANIZER;CN="Pfarre Dornbach":MAILTO:kanzlei@pfarredornbach.at
END:VEVENT
BEGIN:VEVENT
DTSTART;TZID=Europe/Vienna:20191208T180000
DTEND;TZID=Europe/Vienna:20191208T190000
DTSTAMP:20260420T025657
CREATED:20191127T130448Z
LAST-MODIFIED:20191127T130448Z
UID:4233-1575828000-1575831600@katholisch-hernals.at
SUMMARY:Mariä Empfängnis Vesper und Hl. Messe Choralschola Dornbach
DESCRIPTION:Leitung: Isabell Köstler
URL:https://katholisch-hernals.at/event/mariae-empfaengnis-vesper-und-hl-messe-choralschola-dornbach/
END:VEVENT
BEGIN:VEVENT
DTSTART;TZID=Europe/Vienna:20191210T180000
DTEND;TZID=Europe/Vienna:20191210T193000
DTSTAMP:20260420T025657
CREATED:20191105T131129Z
LAST-MODIFIED:20191105T131129Z
UID:4054-1576000800-1576006200@katholisch-hernals.at
SUMMARY:Freude für die Seele in Dornbach
DESCRIPTION:Christliche Spiritualität heute gelebt \nDieses kontemplative Programm richtet sich an alle Interessierten: durch seine Vielfalt ist es ansprechend und durch seinen Inhalt wohltuend für Geist\, Körper und Seele zugleich. Dem stressgeplagten Menschen bringt es Entspannung\, Harmonisierung von Körper und Seele – und Freude\, die den ganzen Menschen erfüllt: Singen\, Tanzen\, Vesper beten\, Schweigen und Hören \nDas ganzheitliche Programm umfasst verschiedene Veranstaltungen an jedem Dienstag im Monat\, die unabhängig voneinander besucht werden können. Man kann also zB in einem Monat am jeweiligen Abend Vesper beten und Taizé-Gebete singen oder nur zum Sakralen Tanzen kommen. \nSakraler Tanz (1. Dienstag im Monat) – Vesper (2. Dienstag im Monat) – Taizé (3. Dienstag im Monat) – Meditation (4. Dienstag im Monat) -in Monaten mit fünf Dienstag\, fällt der letzte Dienstag aus. \nAnschließend gibt es jeweils eine kleine Agape zu einem gemütlichen Ausklang in Gemeinschaft. \n Wann und Wo: jeden Dienstag um 18.00 im Pfarrzentrum Dornbach\, Rupertusplatz 5 
URL:https://katholisch-hernals.at/event/neu-freude-fuer-die-seele-in-dornbach-12-2/
LOCATION:Pfarre Dornbach – Pfarrsaal\, Rupertusplatz 4\, Wien\, 1170\, Österreich
CATEGORIES:Austausch,Erwachsene,Gebet,Junge Erwachsene,Kreativität,Kultur,Musik (klassisch),Musik (modern),Paare ohne Kinder,Senioren,Singles,Spiritualität
ATTACH;FMTTYPE=image/png:https://katholisch-hernals.at/wp-content/uploads/2019/05/Freude_fuer_die_Seele.png
ORGANIZER;CN="Pfarre Dornbach":MAILTO:kanzlei@pfarredornbach.at
END:VEVENT
BEGIN:VEVENT
DTSTART;TZID=Europe/Vienna:20191212T100000
DTEND;TZID=Europe/Vienna:20191212T110000
DTSTAMP:20260420T025657
CREATED:20191105T124552Z
LAST-MODIFIED:20191105T124552Z
UID:4032-1576144800-1576148400@katholisch-hernals.at
SUMMARY:Hl. Messe Pensionistenwohnhaus Alszeile\, Dornbach
DESCRIPTION:
URL:https://katholisch-hernals.at/event/hl-messe-pensionistenwohnhaus-alszeile-12/
LOCATION:Pfarre Dornbach – Pensionistenwohnhaus Alszeile\, Alszeile 73\, Wien\, Wien\, 1170\, Österreich
CATEGORIES:Erwachsene,Eucharistie,Sakrament,Senioren
ORGANIZER;CN="Pfarre Dornbach":MAILTO:kanzlei@pfarredornbach.at
END:VEVENT
BEGIN:VEVENT
DTSTART;TZID=Europe/Vienna:20191212T153000
DTEND;TZID=Europe/Vienna:20191212T173000
DTSTAMP:20260420T025657
CREATED:20191105T124411Z
LAST-MODIFIED:20191105T124411Z
UID:4028-1576164600-1576171800@katholisch-hernals.at
SUMMARY:Donnerstag-Club in Dornbach
DESCRIPTION:Wahres Leben ist Begegnung. Wir laden Sie herzlich zu unserem Donnerstag-Club jeden Donnerstag um 15.30 im Pfarrzentrum ein! Es erwartet Sie ein Nachmittag mit Impulsreferaten zu den Themen Lebenshilfe\, Kultur und Spiritualität mit Gesprächen\, Informationen und Getränken. Jeden ersten Donnerstag im Monat ist Spielenachmittag\, jeden dritten Donnerstag im Monat feiern wir mit einem kleinen künstlerischen Programm die Geburtstagskinder des Monats. \nProgramm im September: \n\n5.12.  Spielenachmittag\n12.12. Dr. Arthur Winter: Kambodscha – von der größten Tempelanlage der Welt zu den schwimmenden Dörfern\n21.11. Seniorennachmittag mit Geburtstagsfeier\n\n 
URL:https://katholisch-hernals.at/event/donnerstag-club-in-dornbach-12-2/
LOCATION:Pfarre Dornbach – Pfarrsaal\, Rupertusplatz 4\, Wien\, 1170\, Österreich
CATEGORIES:Austausch,Erwachsene,Gruppentreffen,Kreativität,Kultur,Pfarrcafe,Senioren,Singles,Spiel, Sport, Spaß,Spiritualität,Weiterbildung
ORGANIZER;CN="Pfarre Dornbach":MAILTO:kanzlei@pfarredornbach.at
END:VEVENT
BEGIN:VEVENT
DTSTART;TZID=Europe/Vienna:20191214T100000
DTEND;TZID=Europe/Vienna:20191214T120000
DTSTAMP:20260420T025657
CREATED:20190905T104038Z
LAST-MODIFIED:20190905T104038Z
UID:3698-1576317600-1576324800@katholisch-hernals.at
SUMMARY:Jugend- und Ministrantentreffen in Dornbach
DESCRIPTION:ALLE KINDER und JUGENDLICHEN sind herzlich eingeladen – ob sie ministrieren oder nicht! Wir treffen einander einmal im Monat an einem Samstag zwischen 10.00 und 12.00 Uhr zum Ministrieren-Üben\, Plaudern\, Glauben erleben und auch Kuchen\, Kakao und Spielen genießen. In den Gottesdiensten ministrieren können alle Kinder ab dem Schulalter und auch Jugendliche! Für die jugendlichen Minis gibt es  (teilweise) ein eigenes Programm! \nInfos und Anmeldung bei Jungschar- u. MinistrantInnen-Leiter Wolfgang Ruckenbauer oder in der Pfarrkanzlei! \n\n← Zurück Vielen Dank für deine Antwort. ✨\n\n\n					\n						\n							\n							\n						\n						\n						\n						\n						\n							\n								\n									\n										\n										\n									\n									\n										\n										\n									\n								\n							\n						\n						\n							\n								\n									\n									\n										\n									\n									\n									\n								\n							\n						\n					\n				\n\n\n\nName(erforderlich)\n\n \n			\n				\n					\n						\n						\n						\n					\n				\n				\n			 \n	\n\n\nE-Mail (erforderlich)\n\n \n			\n				\n					\n						\n						\n						\n					\n				\n				\n			 \n	\n\n\nWebsite\n\n \n			\n				\n					\n						\n						\n						\n					\n				\n				\n			 \n	\n\n\nNachricht\n\n \n			\n				\n					\n						\n						\n						\n					\n				\n				\n			\n	\n	\n\n				\n					\n				\n						Senden		\n		\n		\n	 \nΔ
URL:https://katholisch-hernals.at/event/jugend-und-ministrantentreffen-in-dornbach-2-2/
LOCATION:Pfarre Dornbach\, Rupertusplatz\, Wien\, 1170\, Österreich
CATEGORIES:Austausch,Gebet,Gruppentreffen,Jugendliche 14+,Kinder,Kinder 10-14,Kultur,Schulkinder 6-10,Spiel, Sport, Spaß,Spiritualität,Weiterbildung
ORGANIZER;CN="Pfarre Dornbach":MAILTO:kanzlei@pfarredornbach.at
END:VEVENT
BEGIN:VEVENT
DTSTART;TZID=Europe/Vienna:20191215T110000
DTEND;TZID=Europe/Vienna:20191215T120000
DTSTAMP:20260420T025658
CREATED:20191105T130345Z
LAST-MODIFIED:20191105T130352Z
UID:4046-1576407600-1576411200@katholisch-hernals.at
SUMMARY:Lobpreis in Dornbach
DESCRIPTION:https://katholisch-hernals.at/2019/10/17/lobpreis-in-dornbach/
URL:https://katholisch-hernals.at/event/lobpreis-in-dornbach-12-2/
LOCATION:Pfarre Dornbach – Kirche\, Rupertusplatz\, Wien\, 1170\, Österreich
CATEGORIES:Erwachsene,Fest,Gebet,Jugendliche 14+,Junge Erwachsene,Kinder,Musik (modern),Paare mit Kindern,Paare ohne Kinder,Singles,Spiritualität
ORGANIZER;CN="Pfarre Dornbach":MAILTO:kanzlei@pfarredornbach.at
END:VEVENT
BEGIN:VEVENT
DTSTART;TZID=Europe/Vienna:20191217T180000
DTEND;TZID=Europe/Vienna:20191217T193000
DTSTAMP:20260420T025658
CREATED:20191105T131147Z
LAST-MODIFIED:20191105T131147Z
UID:4056-1576605600-1576611000@katholisch-hernals.at
SUMMARY:Freude für die Seele in Dornbach
DESCRIPTION:Christliche Spiritualität heute gelebt \nDieses kontemplative Programm richtet sich an alle Interessierten: durch seine Vielfalt ist es ansprechend und durch seinen Inhalt wohltuend für Geist\, Körper und Seele zugleich. Dem stressgeplagten Menschen bringt es Entspannung\, Harmonisierung von Körper und Seele – und Freude\, die den ganzen Menschen erfüllt: Singen\, Tanzen\, Vesper beten\, Schweigen und Hören \nDas ganzheitliche Programm umfasst verschiedene Veranstaltungen an jedem Dienstag im Monat\, die unabhängig voneinander besucht werden können. Man kann also zB in einem Monat am jeweiligen Abend Vesper beten und Taizé-Gebete singen oder nur zum Sakralen Tanzen kommen. \nSakraler Tanz (1. Dienstag im Monat) – Vesper (2. Dienstag im Monat) – Taizé (3. Dienstag im Monat) – Meditation (4. Dienstag im Monat) -in Monaten mit fünf Dienstag\, fällt der letzte Dienstag aus. \nAnschließend gibt es jeweils eine kleine Agape zu einem gemütlichen Ausklang in Gemeinschaft. \n Wann und Wo: jeden Dienstag um 18.00 im Pfarrzentrum Dornbach\, Rupertusplatz 5 
URL:https://katholisch-hernals.at/event/neu-freude-fuer-die-seele-in-dornbach-12-2-2/
LOCATION:Pfarre Dornbach – Pfarrsaal\, Rupertusplatz 4\, Wien\, 1170\, Österreich
CATEGORIES:Austausch,Erwachsene,Gebet,Junge Erwachsene,Kreativität,Kultur,Musik (klassisch),Musik (modern),Paare ohne Kinder,Senioren,Singles,Spiritualität
ATTACH;FMTTYPE=image/png:https://katholisch-hernals.at/wp-content/uploads/2019/05/Freude_fuer_die_Seele.png
ORGANIZER;CN="Pfarre Dornbach":MAILTO:kanzlei@pfarredornbach.at
END:VEVENT
BEGIN:VEVENT
DTSTART;TZID=Europe/Vienna:20191219T153000
DTEND;TZID=Europe/Vienna:20191219T173000
DTSTAMP:20260420T025658
CREATED:20191105T124440Z
LAST-MODIFIED:20191105T124440Z
UID:4030-1576769400-1576776600@katholisch-hernals.at
SUMMARY:Donnerstag-Club in Dornbach
DESCRIPTION:Wahres Leben ist Begegnung. Wir laden Sie herzlich zu unserem Donnerstag-Club jeden Donnerstag um 15.30 im Pfarrzentrum ein! Es erwartet Sie ein Nachmittag mit Impulsreferaten zu den Themen Lebenshilfe\, Kultur und Spiritualität mit Gesprächen\, Informationen und Getränken. Jeden ersten Donnerstag im Monat ist Spielenachmittag\, jeden dritten Donnerstag im Monat feiern wir mit einem kleinen künstlerischen Programm die Geburtstagskinder des Monats. \nProgramm im September: \n\n5.12.  Spielenachmittag\n12.12. Dr. Arthur Winter: Kambodscha – von der größten Tempelanlage der Welt zu den schwimmenden Dörfern\n21.11. Seniorennachmittag mit Geburtstagsfeier\n\n 
URL:https://katholisch-hernals.at/event/donnerstag-club-in-dornbach-12-2-2/
LOCATION:Pfarre Dornbach – Pfarrsaal\, Rupertusplatz 4\, Wien\, 1170\, Österreich
CATEGORIES:Austausch,Erwachsene,Gruppentreffen,Kreativität,Kultur,Pfarrcafe,Senioren,Singles,Spiel, Sport, Spaß,Spiritualität,Weiterbildung
ORGANIZER;CN="Pfarre Dornbach":MAILTO:kanzlei@pfarredornbach.at
END:VEVENT
BEGIN:VEVENT
DTSTART;TZID=Europe/Vienna:20191222T100000
DTEND;TZID=Europe/Vienna:20191222T110000
DTSTAMP:20260420T025658
CREATED:20191008T090628Z
LAST-MODIFIED:20191008T090632Z
UID:3905-1577008800-1577012400@katholisch-hernals.at
SUMMARY:Kinderkirche in Dornbach
DESCRIPTION:Kinderkirche für Kinder im Vorschulalter! Wir beginnen um 10.00 mit einem kindgerechten Wortgottesdienst im Pfarrzentrum. Dann gehen wir gemeinsam mit den Kindern zu den anderen in die Messe und feiern dort weiter.
URL:https://katholisch-hernals.at/event/kinderkirche-in-dornbach-9-2/
LOCATION:Pfarre Dornbach – Pfarrsaal\, Rupertusplatz 4\, Wien\, 1170\, Österreich
CATEGORIES:Gottesdienst,Kinder,Kindergartenkinder 3-6,Kleinkinder 0-3,Paare mit Kindern,Spiritualität
ORGANIZER;CN="Pfarre Dornbach":MAILTO:kanzlei@pfarredornbach.at
END:VEVENT
BEGIN:VEVENT
DTSTART;TZID=Europe/Vienna:20191224T110000
DTEND;TZID=Europe/Vienna:20191224T120000
DTSTAMP:20260420T025658
CREATED:20191211T094559Z
LAST-MODIFIED:20191211T094559Z
UID:4284-1577185200-1577188800@katholisch-hernals.at
SUMMARY:Lobpreis "Kid is coming" in Dornbach 24.12. 11:00
DESCRIPTION:
URL:https://katholisch-hernals.at/event/lobpreis-kid-is-coming-in-dornbach-24-12-1100/
LOCATION:Pfarre Dornbach – Kirche\, Rupertusplatz\, Wien\, 1170\, Österreich
CATEGORIES:Erwachsene,Fest,Gottesdienst,Jugendliche 14+,Junge Erwachsene,Kinder,Kinder 10-14,Kindergartenkinder 3-6,Lobpreis,Paare mit Kindern,Paare ohne Kinder,Schulkinder 6-10,Singles,Spiritualität
ORGANIZER;CN="Pfarre Dornbach":MAILTO:kanzlei@pfarredornbach.at
END:VEVENT
BEGIN:VEVENT
DTSTART;TZID=Europe/Vienna:20191224T160000
DTEND;TZID=Europe/Vienna:20191224T170000
DTSTAMP:20260420T025658
CREATED:20191105T124712Z
LAST-MODIFIED:20191125T073321Z
UID:4034-1577203200-1577206800@katholisch-hernals.at
SUMMARY:Kinderandacht in Dornbach
DESCRIPTION:Die Pfadfinder verteilen das Licht von Bethlehem
URL:https://katholisch-hernals.at/event/kinderandacht-in-dornbach-19/
LOCATION:Pfarre Dornbach – Kirche\, Rupertusplatz\, Wien\, 1170\, Österreich
CATEGORIES:Gebet,Gruppentreffen,Kinder,Kinder 10-14,Kindergartenkinder 3-6,Kleinkinder 0-3,Paare mit Kindern,Schulkinder 6-10
ATTACH;FMTTYPE=image/jpeg:https://katholisch-hernals.at/wp-content/uploads/2018/11/Krippe_Dornbach.jpg
ORGANIZER;CN="Pfarre Dornbach":MAILTO:kanzlei@pfarredornbach.at
END:VEVENT
BEGIN:VEVENT
DTSTART;TZID=Europe/Vienna:20191225T100000
DTEND;TZID=Europe/Vienna:20191225T110000
DTSTAMP:20260420T025658
CREATED:20191105T125523Z
LAST-MODIFIED:20191105T130047Z
UID:4037-1577268000-1577271600@katholisch-hernals.at
SUMMARY:Christtag 10.00 Dornbach
DESCRIPTION:Hl. Messe\, Gestaltung Dornbach Schola\, Leitung: Florian Reithner
URL:https://katholisch-hernals.at/event/christtag-10-00-dornbach-2/
LOCATION:Pfarre Dornbach – Kirche\, Rupertusplatz\, Wien\, 1170\, Österreich
CATEGORIES:Erwachsene,Fest,Gebet,Gottesdienst,Jugendliche 14+,Junge Erwachsene,Kinder,Kinder 10-14,Kindergartenkinder 3-6,Kleinkinder 0-3,Musik (klassisch),Paare mit Kindern,Paare ohne Kinder,Sakrament,Schulkinder 6-10,Senioren,Singles
ATTACH;FMTTYPE=image/jpeg:https://katholisch-hernals.at/wp-content/uploads/2018/11/Krippe_Dornbach.jpg
ORGANIZER;CN="Pfarre Dornbach":MAILTO:kanzlei@pfarredornbach.at
END:VEVENT
BEGIN:VEVENT
DTSTART;TZID=Europe/Vienna:20191225T180000
DTEND;TZID=Europe/Vienna:20191225T190000
DTSTAMP:20260420T025658
CREATED:20191105T125605Z
LAST-MODIFIED:20191105T130015Z
UID:4039-1577296800-1577300400@katholisch-hernals.at
SUMMARY:Christtag 18.00 Dornbach
DESCRIPTION:feierliche Vesper und Hl. Messe
URL:https://katholisch-hernals.at/event/christtag-18-30-dornbach-2/
LOCATION:Pfarre Dornbach – Kirche\, Rupertusplatz\, Wien\, 1170\, Österreich
CATEGORIES:Erwachsene,Fest,Gebet,Gottesdienst,Jugendliche 14+,Junge Erwachsene,Kinder,Kinder 10-14,Kindergartenkinder 3-6,Kleinkinder 0-3,Musik (klassisch),Paare mit Kindern,Paare ohne Kinder,Sakrament,Schulkinder 6-10,Senioren,Singles
ATTACH;FMTTYPE=image/jpeg:https://katholisch-hernals.at/wp-content/uploads/2018/11/Krippe_Dornbach.jpg
ORGANIZER;CN="Pfarre Dornbach":MAILTO:kanzlei@pfarredornbach.at
END:VEVENT
BEGIN:VEVENT
DTSTART;TZID=Europe/Vienna:20191226T100000
DTEND;TZID=Europe/Vienna:20191226T110000
DTSTAMP:20260420T025658
CREATED:20191105T130152Z
LAST-MODIFIED:20191105T130204Z
UID:4042-1577354400-1577358000@katholisch-hernals.at
SUMMARY:Stephanitag in Dornbach
DESCRIPTION:Hl. Messe
URL:https://katholisch-hernals.at/event/stephanitag-dornbach-2/
LOCATION:Pfarre Dornbach – Kirche\, Rupertusplatz\, Wien\, 1170\, Österreich
CATEGORIES:Erwachsene,Eucharistie,Fest,Gebet,Gottesdienst,Jugendliche 14+,Junge Erwachsene,Kinder,Kinder 10-14,Kindergartenkinder 3-6,Kleinkinder 0-3,Musik (klassisch),Paare mit Kindern,Paare ohne Kinder,Sakrament,Schulkinder 6-10,Senioren,Singles
ATTACH;FMTTYPE=image/jpeg:https://katholisch-hernals.at/wp-content/uploads/2018/11/Krippe_Dornbach.jpg
ORGANIZER;CN="Pfarre Dornbach":MAILTO:kanzlei@pfarredornbach.at
END:VEVENT
END:VCALENDAR