BEGIN:VCALENDAR
VERSION:2.0
PRODID:-//Pfarrverband Hernals - ECPv6.15.20//NONSGML v1.0//EN
CALSCALE:GREGORIAN
METHOD:PUBLISH
X-ORIGINAL-URL:https://katholisch-hernals.at
X-WR-CALDESC:Veranstaltungen für Pfarrverband Hernals
REFRESH-INTERVAL;VALUE=DURATION:PT1H
X-Robots-Tag:noindex
X-PUBLISHED-TTL:PT1H
BEGIN:VTIMEZONE
TZID:Europe/Vienna
BEGIN:DAYLIGHT
TZOFFSETFROM:+0100
TZOFFSETTO:+0200
TZNAME:CEST
DTSTART:20190331T010000
END:DAYLIGHT
BEGIN:STANDARD
TZOFFSETFROM:+0200
TZOFFSETTO:+0100
TZNAME:CET
DTSTART:20191027T010000
END:STANDARD
BEGIN:DAYLIGHT
TZOFFSETFROM:+0100
TZOFFSETTO:+0200
TZNAME:CEST
DTSTART:20200329T010000
END:DAYLIGHT
BEGIN:STANDARD
TZOFFSETFROM:+0200
TZOFFSETTO:+0100
TZNAME:CET
DTSTART:20201025T010000
END:STANDARD
BEGIN:DAYLIGHT
TZOFFSETFROM:+0100
TZOFFSETTO:+0200
TZNAME:CEST
DTSTART:20210328T010000
END:DAYLIGHT
BEGIN:STANDARD
TZOFFSETFROM:+0200
TZOFFSETTO:+0100
TZNAME:CET
DTSTART:20211031T010000
END:STANDARD
END:VTIMEZONE
BEGIN:VEVENT
DTSTART;TZID=Europe/Vienna:20200104T140000
DTEND;TZID=Europe/Vienna:20200104T180000
DTSTAMP:20260420T044013
CREATED:20191217T133445Z
LAST-MODIFIED:20191217T133445Z
UID:4298-1578146400-1578160800@katholisch-hernals.at
SUMMARY:Sternsinger in Dornbach
DESCRIPTION:Die Sternsinger werden im Pfarrgebiet Dornbach am 4.\, 5.\, und 6. Jänner von 14:00 – 18:00 unterwegs sein. Siehe auch hier: \n\n← Zurück Vielen Dank für deine Antwort. ✨\n\n\n					\n						\n							\n							\n						\n						\n						\n						\n						\n							\n								\n									\n										\n										\n									\n									\n										\n										\n									\n								\n							\n						\n						\n							\n								\n									\n									\n										\n									\n									\n									\n								\n							\n						\n					\n				\n\n\n\nName(erforderlich)\n\n \n			\n				\n					\n						\n						\n						\n					\n				\n				\n			 \n	\n\n\nE-Mail(erforderlich)\n\n \n			\n				\n					\n						\n						\n						\n					\n				\n				\n			 \n	\n\n\nWebsite\n\n \n			\n				\n					\n						\n						\n						\n					\n				\n				\n			 \n	\n\n\nNachricht\n\n \n			\n				\n					\n						\n						\n						\n					\n				\n				\n			\n	\n	\n\n				\n					\n				\n						Senden		\n		\n		\n	 \nΔ \n\n 
URL:https://katholisch-hernals.at/event/sternsinger-in-dornbach/
LOCATION:Pfarre Dornbach\, Rupertusplatz\, Wien\, 1170\, Österreich
CATEGORIES:Entwicklungszusammenarbeit,Erwachsene,Gruppentreffen,Jugendliche 14+,Junge Erwachsene,Kinder,Kinder 10-14,Kindergartenkinder 3-6,Kleinkinder 0-3,Paare mit Kindern,Paare ohne Kinder,Schulkinder 6-10,Senioren,Singles
ORGANIZER;CN="Pfarre Dornbach":MAILTO:kanzlei@pfarredornbach.at
END:VEVENT
BEGIN:VEVENT
DTSTART;TZID=Europe/Vienna:20200105T140000
DTEND;TZID=Europe/Vienna:20200105T180000
DTSTAMP:20260420T044014
CREATED:20191217T133512Z
LAST-MODIFIED:20191217T133512Z
UID:4300-1578232800-1578247200@katholisch-hernals.at
SUMMARY:Sternsinger in Dornbach
DESCRIPTION:Die Sternsinger werden im Pfarrgebiet Dornbach am 4.\, 5.\, und 6. Jänner von 14:00 – 18:00 unterwegs sein. Siehe auch hier: \n\n← Zurück Vielen Dank für deine Antwort. ✨\n\n\n					\n						\n							\n							\n						\n						\n						\n						\n						\n							\n								\n									\n										\n										\n									\n									\n										\n										\n									\n								\n							\n						\n						\n							\n								\n									\n									\n										\n									\n									\n									\n								\n							\n						\n					\n				\n\n\n\nName(erforderlich)\n\n \n			\n				\n					\n						\n						\n						\n					\n				\n				\n			 \n	\n\n\nE-Mail(erforderlich)\n\n \n			\n				\n					\n						\n						\n						\n					\n				\n				\n			 \n	\n\n\nWebsite\n\n \n			\n				\n					\n						\n						\n						\n					\n				\n				\n			 \n	\n\n\nNachricht\n\n \n			\n				\n					\n						\n						\n						\n					\n				\n				\n			\n	\n	\n\n				\n					\n				\n						Senden		\n		\n		\n	 \nΔ \n\n 
URL:https://katholisch-hernals.at/event/sternsinger-in-dornbach-2/
LOCATION:Pfarre Dornbach\, Rupertusplatz\, Wien\, 1170\, Österreich
CATEGORIES:Entwicklungszusammenarbeit,Erwachsene,Gruppentreffen,Jugendliche 14+,Junge Erwachsene,Kinder,Kinder 10-14,Kindergartenkinder 3-6,Kleinkinder 0-3,Paare mit Kindern,Paare ohne Kinder,Schulkinder 6-10,Senioren,Singles
ORGANIZER;CN="Pfarre Dornbach":MAILTO:kanzlei@pfarredornbach.at
END:VEVENT
BEGIN:VEVENT
DTSTART;TZID=Europe/Vienna:20200106T100000
DTEND;TZID=Europe/Vienna:20200106T110000
DTSTAMP:20260420T044014
CREATED:20191217T133712Z
LAST-MODIFIED:20191217T133712Z
UID:4304-1578304800-1578308400@katholisch-hernals.at
SUMMARY:Lobpreis-Messe "Sternsinger" in Dornbach
DESCRIPTION:
URL:https://katholisch-hernals.at/event/lobpreis-sternsinger-dornbach/
LOCATION:Pfarre Dornbach – Kirche\, Rupertusplatz\, Wien\, 1170\, Österreich
CATEGORIES:Erwachsene,Eucharistie,Fest,Gottesdienst,Jugendliche 14+,Junge Erwachsene,Kinder,Kinder 10-14,Kindergartenkinder 3-6,Lobpreis,Paare mit Kindern,Paare ohne Kinder,Sakrament,Schulkinder 6-10,Singles,Spiritualität
ORGANIZER;CN="Pfarre Dornbach":MAILTO:kanzlei@pfarredornbach.at
END:VEVENT
BEGIN:VEVENT
DTSTART;TZID=Europe/Vienna:20200106T140000
DTEND;TZID=Europe/Vienna:20200106T180000
DTSTAMP:20260420T044014
CREATED:20191217T133534Z
LAST-MODIFIED:20191217T133534Z
UID:4302-1578319200-1578333600@katholisch-hernals.at
SUMMARY:Sternsinger in Dornbach
DESCRIPTION:Die Sternsinger werden im Pfarrgebiet Dornbach am 4.\, 5.\, und 6. Jänner von 14:00 – 18:00 unterwegs sein. Siehe auch hier: \n\n← Zurück Vielen Dank für deine Antwort. ✨\n\n\n					\n						\n							\n							\n						\n						\n						\n						\n						\n							\n								\n									\n										\n										\n									\n									\n										\n										\n									\n								\n							\n						\n						\n							\n								\n									\n									\n										\n									\n									\n									\n								\n							\n						\n					\n				\n\n\n\nName(erforderlich)\n\n \n			\n				\n					\n						\n						\n						\n					\n				\n				\n			 \n	\n\n\nE-Mail(erforderlich)\n\n \n			\n				\n					\n						\n						\n						\n					\n				\n				\n			 \n	\n\n\nWebsite\n\n \n			\n				\n					\n						\n						\n						\n					\n				\n				\n			 \n	\n\n\nNachricht\n\n \n			\n				\n					\n						\n						\n						\n					\n				\n				\n			\n	\n	\n\n				\n					\n				\n						Senden		\n		\n		\n	 \nΔ \n\n 
URL:https://katholisch-hernals.at/event/sternsinger-in-dornbach-2-2/
LOCATION:Pfarre Dornbach\, Rupertusplatz\, Wien\, 1170\, Österreich
CATEGORIES:Entwicklungszusammenarbeit,Erwachsene,Gruppentreffen,Jugendliche 14+,Junge Erwachsene,Kinder,Kinder 10-14,Kindergartenkinder 3-6,Kleinkinder 0-3,Paare mit Kindern,Paare ohne Kinder,Schulkinder 6-10,Senioren,Singles
ORGANIZER;CN="Pfarre Dornbach":MAILTO:kanzlei@pfarredornbach.at
END:VEVENT
BEGIN:VEVENT
DTSTART;TZID=Europe/Vienna:20200107T180000
DTEND;TZID=Europe/Vienna:20200107T193000
DTSTAMP:20260420T044014
CREATED:20191217T135452Z
LAST-MODIFIED:20191217T135452Z
UID:4343-1578420000-1578425400@katholisch-hernals.at
SUMMARY:Freude für die Seele in Dornbach
DESCRIPTION:Christliche Spiritualität heute gelebt \nDieses kontemplative Programm richtet sich an alle Interessierten: durch seine Vielfalt ist es ansprechend und durch seinen Inhalt wohltuend für Geist\, Körper und Seele zugleich. Dem stressgeplagten Menschen bringt es Entspannung\, Harmonisierung von Körper und Seele – und Freude\, die den ganzen Menschen erfüllt: Singen\, Tanzen\, Vesper beten\, Schweigen und Hören \nDas ganzheitliche Programm umfasst verschiedene Veranstaltungen an jedem Dienstag im Monat\, die unabhängig voneinander besucht werden können. Man kann also zB in einem Monat am jeweiligen Abend Vesper beten und Taizé-Gebete singen oder nur zum Sakralen Tanzen kommen. \nSakraler Tanz (1. Dienstag im Monat) – Vesper (2. Dienstag im Monat) – Taizé (3. Dienstag im Monat) – Meditation (4. Dienstag im Monat) -in Monaten mit fünf Dienstag\, fällt der letzte Dienstag aus. \nAnschließend gibt es jeweils eine kleine Agape zu einem gemütlichen Ausklang in Gemeinschaft. \n Wann und Wo: jeden Dienstag um 18.00 im Pfarrzentrum Dornbach\, Rupertusplatz 5 
URL:https://katholisch-hernals.at/event/neu-freude-fuer-die-seele-in-dornbach-01/
LOCATION:Pfarre Dornbach – Pfarrsaal\, Rupertusplatz 4\, Wien\, 1170\, Österreich
CATEGORIES:Austausch,Erwachsene,Gebet,Junge Erwachsene,Kreativität,Kultur,Musik (klassisch),Musik (modern),Paare ohne Kinder,Senioren,Singles,Spiritualität
ATTACH;FMTTYPE=image/png:https://katholisch-hernals.at/wp-content/uploads/2019/05/Freude_fuer_die_Seele.png
ORGANIZER;CN="Pfarre Dornbach":MAILTO:kanzlei@pfarredornbach.at
END:VEVENT
BEGIN:VEVENT
DTSTART;TZID=Europe/Vienna:20200109T153000
DTEND;TZID=Europe/Vienna:20200109T173000
DTSTAMP:20260420T044014
CREATED:20191217T135228Z
LAST-MODIFIED:20191217T135228Z
UID:4335-1578583800-1578591000@katholisch-hernals.at
SUMMARY:Donnerstag-Club in Dornbach
DESCRIPTION:Wahres Leben ist Begegnung. Wir laden Sie herzlich zu unserem Donnerstag-Club jeden Donnerstag um 15.30 im Pfarrzentrum ein! Es erwartet Sie ein Nachmittag mit Impulsreferaten zu den Themen Lebenshilfe\, Kultur und Spiritualität mit Gesprächen\, Informationen und Getränken. Jeden ersten Donnerstag im Monat ist Spielenachmittag\, jeden dritten Donnerstag im Monat feiern wir mit einem kleinen künstlerischen Programm die Geburtstagskinder des Monats. \nProgramm im September: \n\n9.1.  Spielenachmittag\n16.1. Seniorennachmittag mit Geburtstagsfeier\n23.1. Josef Prüwasser: Originelle Forscherinnen\n30.1. Diakon Mag. Gerhard Scholz: Amazonien-Synode und ihre Auswirkungen auf Europa / Österreich
URL:https://katholisch-hernals.at/event/donnerstag-club-in-dornbach-01/
LOCATION:Pfarre Dornbach – Pfarrsaal\, Rupertusplatz 4\, Wien\, 1170\, Österreich
CATEGORIES:Austausch,Erwachsene,Gruppentreffen,Kreativität,Kultur,Pfarrcafe,Senioren,Singles,Spiel, Sport, Spaß,Spiritualität,Weiterbildung
ORGANIZER;CN="Pfarre Dornbach":MAILTO:kanzlei@pfarredornbach.at
END:VEVENT
BEGIN:VEVENT
DTSTART;TZID=Europe/Vienna:20200112T100000
DTEND;TZID=Europe/Vienna:20200112T130000
DTSTAMP:20260420T044014
CREATED:20200109T171607Z
LAST-MODIFIED:20200109T171607Z
UID:4410-1578823200-1578834000@katholisch-hernals.at
SUMMARY:Gründung des Pfarrverband Hernals
DESCRIPTION:Die Pfarrgemeinderäte der Pfarren Dornbach\, Kalvarienbergkirche und Herz-Jesu-Sühnekirche laden herzlich ein zur Gründung des Pfarrverband „Hernals“ mit Bischofsvikar GR EKan. P. Mag. Dariusz Schutzki CR. \n10:00 Festmesse in der Pfarrkirche Dornbach \nAnschließend Agape beim Heurigen „Zum Dornbacher Pfarrer“ \nAuf Ihr Kommen freuen sich alle Verantwortlichen des künftigen Pfarrverbands.
URL:https://katholisch-hernals.at/event/gruendung-des-pfarrverband-hernals/
LOCATION:Pfarre Dornbach – Kirche\, Rupertusplatz\, Wien\, 1170\, Österreich
CATEGORIES:Erwachsene,Eucharistie,Fest,Gottesdienst,Jugendliche 14+,Junge Erwachsene,Kinder,Kinder 10-14,Kindergartenkinder 3-6,Kleinkinder 0-3,Musik (klassisch),Paare ohne Kinder,Schulkinder 6-10,Senioren,Singles
ATTACH;FMTTYPE=image/jpeg:https://katholisch-hernals.at/wp-content/uploads/2020/01/pfarrverband-gruendung.jpg
END:VEVENT
BEGIN:VEVENT
DTSTART;TZID=Europe/Vienna:20200114T180000
DTEND;TZID=Europe/Vienna:20200114T193000
DTSTAMP:20260420T044014
CREATED:20191217T135509Z
LAST-MODIFIED:20191217T135509Z
UID:4345-1579024800-1579030200@katholisch-hernals.at
SUMMARY:Freude für die Seele in Dornbach
DESCRIPTION:Christliche Spiritualität heute gelebt \nDieses kontemplative Programm richtet sich an alle Interessierten: durch seine Vielfalt ist es ansprechend und durch seinen Inhalt wohltuend für Geist\, Körper und Seele zugleich. Dem stressgeplagten Menschen bringt es Entspannung\, Harmonisierung von Körper und Seele – und Freude\, die den ganzen Menschen erfüllt: Singen\, Tanzen\, Vesper beten\, Schweigen und Hören \nDas ganzheitliche Programm umfasst verschiedene Veranstaltungen an jedem Dienstag im Monat\, die unabhängig voneinander besucht werden können. Man kann also zB in einem Monat am jeweiligen Abend Vesper beten und Taizé-Gebete singen oder nur zum Sakralen Tanzen kommen. \nSakraler Tanz (1. Dienstag im Monat) – Vesper (2. Dienstag im Monat) – Taizé (3. Dienstag im Monat) – Meditation (4. Dienstag im Monat) -in Monaten mit fünf Dienstag\, fällt der letzte Dienstag aus. \nAnschließend gibt es jeweils eine kleine Agape zu einem gemütlichen Ausklang in Gemeinschaft. \n Wann und Wo: jeden Dienstag um 18.00 im Pfarrzentrum Dornbach\, Rupertusplatz 5 
URL:https://katholisch-hernals.at/event/neu-freude-fuer-die-seele-in-dornbach-01-2/
LOCATION:Pfarre Dornbach – Pfarrsaal\, Rupertusplatz 4\, Wien\, 1170\, Österreich
CATEGORIES:Austausch,Erwachsene,Gebet,Junge Erwachsene,Kreativität,Kultur,Musik (klassisch),Musik (modern),Paare ohne Kinder,Senioren,Singles,Spiritualität
ATTACH;FMTTYPE=image/png:https://katholisch-hernals.at/wp-content/uploads/2019/05/Freude_fuer_die_Seele.png
ORGANIZER;CN="Pfarre Dornbach":MAILTO:kanzlei@pfarredornbach.at
END:VEVENT
BEGIN:VEVENT
DTSTART;TZID=Europe/Vienna:20200115T193000
DTEND;TZID=Europe/Vienna:20200115T210000
DTSTAMP:20260420T044014
CREATED:20191217T133819Z
LAST-MODIFIED:20191217T133819Z
UID:4306-1579116600-1579122000@katholisch-hernals.at
SUMMARY:Alpha Kurs Dornbach Kick-off
DESCRIPTION:Alpha ist eine Reihe von interaktiven Treffen\, an denen gemeinsam die Themen Leben\, Glaube\, Sinn erforscht und vertieft werden können. Alpha ist locker und setzt keine Vorkenntnisse voraus -eine bewährte Möglichkeit\, mehr über den christlichen Glauben zu erfahren. \nFür den Glaubenskurs in Dornbach treffen wir uns immer im Pfarrzentrum der Pfarre Dornbach. Für weitere Informationen klicken Sie bitte hier.
URL:https://katholisch-hernals.at/event/alpha-kurs-dornbach-kick-off-2/
LOCATION:Pfarre Dornbach – Pfarrsaal\, Rupertusplatz 4\, Wien\, 1170\, Österreich
CATEGORIES:Austausch,Erwachsene,Gruppentreffen,Junge Erwachsene,Paare ohne Kinder,Senioren,Singles,Spiritualität,Weiterbildung
ATTACH;FMTTYPE=image/jpeg:https://katholisch-hernals.at/wp-content/uploads/2019/09/Alpha_Einladung_Okt19.jpg
ORGANIZER;CN="Pfarre Dornbach":MAILTO:kanzlei@pfarredornbach.at
END:VEVENT
BEGIN:VEVENT
DTSTART;TZID=Europe/Vienna:20200116T153000
DTEND;TZID=Europe/Vienna:20200116T173000
DTSTAMP:20260420T044014
CREATED:20191217T135245Z
LAST-MODIFIED:20191217T135245Z
UID:4337-1579188600-1579195800@katholisch-hernals.at
SUMMARY:Donnerstag-Club in Dornbach
DESCRIPTION:Wahres Leben ist Begegnung. Wir laden Sie herzlich zu unserem Donnerstag-Club jeden Donnerstag um 15.30 im Pfarrzentrum ein! Es erwartet Sie ein Nachmittag mit Impulsreferaten zu den Themen Lebenshilfe\, Kultur und Spiritualität mit Gesprächen\, Informationen und Getränken. Jeden ersten Donnerstag im Monat ist Spielenachmittag\, jeden dritten Donnerstag im Monat feiern wir mit einem kleinen künstlerischen Programm die Geburtstagskinder des Monats. \nProgramm im September: \n\n9.1.  Spielenachmittag\n16.1. Seniorennachmittag mit Geburtstagsfeier\n23.1. Josef Prüwasser: Originelle Forscherinnen\n30.1. Diakon Mag. Gerhard Scholz: Amazonien-Synode und ihre Auswirkungen auf Europa / Österreich
URL:https://katholisch-hernals.at/event/donnerstag-club-in-dornbach-01-2/
LOCATION:Pfarre Dornbach – Pfarrsaal\, Rupertusplatz 4\, Wien\, 1170\, Österreich
CATEGORIES:Austausch,Erwachsene,Gruppentreffen,Kreativität,Kultur,Pfarrcafe,Senioren,Singles,Spiel, Sport, Spaß,Spiritualität,Weiterbildung
ORGANIZER;CN="Pfarre Dornbach":MAILTO:kanzlei@pfarredornbach.at
END:VEVENT
BEGIN:VEVENT
DTSTART;TZID=Europe/Vienna:20200118T100000
DTEND;TZID=Europe/Vienna:20200118T120000
DTSTAMP:20260420T044014
CREATED:20190905T104100Z
LAST-MODIFIED:20190905T104100Z
UID:3700-1579341600-1579348800@katholisch-hernals.at
SUMMARY:Jugend- und Ministrantentreffen in Dornbach
DESCRIPTION:ALLE KINDER und JUGENDLICHEN sind herzlich eingeladen – ob sie ministrieren oder nicht! Wir treffen einander einmal im Monat an einem Samstag zwischen 10.00 und 12.00 Uhr zum Ministrieren-Üben\, Plaudern\, Glauben erleben und auch Kuchen\, Kakao und Spielen genießen. In den Gottesdiensten ministrieren können alle Kinder ab dem Schulalter und auch Jugendliche! Für die jugendlichen Minis gibt es  (teilweise) ein eigenes Programm! \nInfos und Anmeldung bei Jungschar- u. MinistrantInnen-Leiter Wolfgang Ruckenbauer oder in der Pfarrkanzlei! \n\n← Zurück Vielen Dank für deine Antwort. ✨\n\n\n					\n						\n							\n							\n						\n						\n						\n						\n						\n							\n								\n									\n										\n										\n									\n									\n										\n										\n									\n								\n							\n						\n						\n							\n								\n									\n									\n										\n									\n									\n									\n								\n							\n						\n					\n				\n\n\n\nName(erforderlich)\n\n \n			\n				\n					\n						\n						\n						\n					\n				\n				\n			 \n	\n\n\nE-Mail (erforderlich)\n\n \n			\n				\n					\n						\n						\n						\n					\n				\n				\n			 \n	\n\n\nWebsite\n\n \n			\n				\n					\n						\n						\n						\n					\n				\n				\n			 \n	\n\n\nNachricht\n\n \n			\n				\n					\n						\n						\n						\n					\n				\n				\n			\n	\n	\n\n				\n					\n				\n						Senden		\n		\n		\n	 \nΔ
URL:https://katholisch-hernals.at/event/jugend-und-ministrantentreffen-in-dornbach-2-2-3/
LOCATION:Pfarre Dornbach\, Rupertusplatz\, Wien\, 1170\, Österreich
CATEGORIES:Austausch,Gebet,Gruppentreffen,Jugendliche 14+,Kinder,Kinder 10-14,Kultur,Schulkinder 6-10,Spiel, Sport, Spaß,Spiritualität,Weiterbildung
ORGANIZER;CN="Pfarre Dornbach":MAILTO:kanzlei@pfarredornbach.at
END:VEVENT
BEGIN:VEVENT
DTSTART;TZID=Europe/Vienna:20200119T110000
DTEND;TZID=Europe/Vienna:20200119T120000
DTSTAMP:20260420T044014
CREATED:20191217T134625Z
LAST-MODIFIED:20191217T134625Z
UID:4321-1579431600-1579435200@katholisch-hernals.at
SUMMARY:Lobpreis in Dornbach
DESCRIPTION:https://katholisch-hernals.at/2019/10/17/lobpreis-in-dornbach/
URL:https://katholisch-hernals.at/event/lobpreis-in-dornbach-01/
LOCATION:Pfarre Dornbach – Kirche\, Rupertusplatz\, Wien\, 1170\, Österreich
CATEGORIES:Erwachsene,Fest,Gebet,Jugendliche 14+,Junge Erwachsene,Kinder,Musik (modern),Paare mit Kindern,Paare ohne Kinder,Singles,Spiritualität
ORGANIZER;CN="Pfarre Dornbach":MAILTO:kanzlei@pfarredornbach.at
END:VEVENT
BEGIN:VEVENT
DTSTART;TZID=Europe/Vienna:20200121T180000
DTEND;TZID=Europe/Vienna:20200121T193000
DTSTAMP:20260420T044014
CREATED:20191217T135601Z
LAST-MODIFIED:20191217T135601Z
UID:4349-1579629600-1579635000@katholisch-hernals.at
SUMMARY:Freude für die Seele in Dornbach
DESCRIPTION:Christliche Spiritualität heute gelebt \nDieses kontemplative Programm richtet sich an alle Interessierten: durch seine Vielfalt ist es ansprechend und durch seinen Inhalt wohltuend für Geist\, Körper und Seele zugleich. Dem stressgeplagten Menschen bringt es Entspannung\, Harmonisierung von Körper und Seele – und Freude\, die den ganzen Menschen erfüllt: Singen\, Tanzen\, Vesper beten\, Schweigen und Hören \nDas ganzheitliche Programm umfasst verschiedene Veranstaltungen an jedem Dienstag im Monat\, die unabhängig voneinander besucht werden können. Man kann also zB in einem Monat am jeweiligen Abend Vesper beten und Taizé-Gebete singen oder nur zum Sakralen Tanzen kommen. \nSakraler Tanz (1. Dienstag im Monat) – Vesper (2. Dienstag im Monat) – Taizé (3. Dienstag im Monat) – Meditation (4. Dienstag im Monat) -in Monaten mit fünf Dienstag\, fällt der letzte Dienstag aus. \nAnschließend gibt es jeweils eine kleine Agape zu einem gemütlichen Ausklang in Gemeinschaft. \n Wann und Wo: jeden Dienstag um 18.00 im Pfarrzentrum Dornbach\, Rupertusplatz 5 
URL:https://katholisch-hernals.at/event/neu-freude-fuer-die-seele-in-dornbach-01-2-2-2/
LOCATION:Pfarre Dornbach – Pfarrsaal\, Rupertusplatz 4\, Wien\, 1170\, Österreich
CATEGORIES:Austausch,Erwachsene,Gebet,Junge Erwachsene,Kreativität,Kultur,Musik (klassisch),Musik (modern),Paare ohne Kinder,Senioren,Singles,Spiritualität
ATTACH;FMTTYPE=image/png:https://katholisch-hernals.at/wp-content/uploads/2019/05/Freude_fuer_die_Seele.png
ORGANIZER;CN="Pfarre Dornbach":MAILTO:kanzlei@pfarredornbach.at
END:VEVENT
BEGIN:VEVENT
DTSTART;TZID=Europe/Vienna:20200122T193000
DTEND;TZID=Europe/Vienna:20200122T210000
DTSTAMP:20260420T044014
CREATED:20190918T104023Z
LAST-MODIFIED:20191217T133927Z
UID:3843-1579721400-1579726800@katholisch-hernals.at
SUMMARY:Alpha Kurs 2020 Dornbach
DESCRIPTION:Alpha ist eine Reihe von interaktiven Treffen\, an denen gemeinsam die Themen Leben\, Glaube\, Sinn erforscht und vertieft werden können. Alpha ist locker und setzt keine Vorkenntnisse voraus -eine bewährte Möglichkeit\, mehr über den christlichen Glauben zu erfahren. \nFür den Glaubenskurs in Dornbach treffen wir uns immer im Pfarrsaal der Pfarre Dornbach\, Rupertusplatz 4\, Wien 17. Für weitere Informationen klicken Sie bitte hier!
URL:https://katholisch-hernals.at/event/alpha-kurs-dornbach-2020/
LOCATION:Pfarre Dornbach – Pfarrsaal\, Rupertusplatz 4\, Wien\, 1170\, Österreich
CATEGORIES:Austausch,Erwachsene,Gruppentreffen,Junge Erwachsene,Paare ohne Kinder,Senioren,Singles,Spiritualität,Weiterbildung
ATTACH;FMTTYPE=image/jpeg:https://katholisch-hernals.at/wp-content/uploads/2019/09/Alpha_Einladung_Okt19.jpg
ORGANIZER;CN="Pfarre Dornbach":MAILTO:kanzlei@pfarredornbach.at
END:VEVENT
BEGIN:VEVENT
DTSTART;TZID=Europe/Vienna:20200123T153000
DTEND;TZID=Europe/Vienna:20200123T173000
DTSTAMP:20260420T044014
CREATED:20191217T135307Z
LAST-MODIFIED:20191217T135307Z
UID:4339-1579793400-1579800600@katholisch-hernals.at
SUMMARY:Donnerstag-Club in Dornbach
DESCRIPTION:Wahres Leben ist Begegnung. Wir laden Sie herzlich zu unserem Donnerstag-Club jeden Donnerstag um 15.30 im Pfarrzentrum ein! Es erwartet Sie ein Nachmittag mit Impulsreferaten zu den Themen Lebenshilfe\, Kultur und Spiritualität mit Gesprächen\, Informationen und Getränken. Jeden ersten Donnerstag im Monat ist Spielenachmittag\, jeden dritten Donnerstag im Monat feiern wir mit einem kleinen künstlerischen Programm die Geburtstagskinder des Monats. \nProgramm im September: \n\n9.1.  Spielenachmittag\n16.1. Seniorennachmittag mit Geburtstagsfeier\n23.1. Josef Prüwasser: Originelle Forscherinnen\n30.1. Diakon Mag. Gerhard Scholz: Amazonien-Synode und ihre Auswirkungen auf Europa / Österreich
URL:https://katholisch-hernals.at/event/donnerstag-club-in-dornbach-01-2-2/
LOCATION:Pfarre Dornbach – Pfarrsaal\, Rupertusplatz 4\, Wien\, 1170\, Österreich
CATEGORIES:Austausch,Erwachsene,Gruppentreffen,Kreativität,Kultur,Pfarrcafe,Senioren,Singles,Spiel, Sport, Spaß,Spiritualität,Weiterbildung
ORGANIZER;CN="Pfarre Dornbach":MAILTO:kanzlei@pfarredornbach.at
END:VEVENT
BEGIN:VEVENT
DTSTART;TZID=Europe/Vienna:20200128T180000
DTEND;TZID=Europe/Vienna:20200128T193000
DTSTAMP:20260420T044014
CREATED:20191217T135619Z
LAST-MODIFIED:20191217T135619Z
UID:4351-1580234400-1580239800@katholisch-hernals.at
SUMMARY:Freude für die Seele in Dornbach
DESCRIPTION:Christliche Spiritualität heute gelebt \nDieses kontemplative Programm richtet sich an alle Interessierten: durch seine Vielfalt ist es ansprechend und durch seinen Inhalt wohltuend für Geist\, Körper und Seele zugleich. Dem stressgeplagten Menschen bringt es Entspannung\, Harmonisierung von Körper und Seele – und Freude\, die den ganzen Menschen erfüllt: Singen\, Tanzen\, Vesper beten\, Schweigen und Hören \nDas ganzheitliche Programm umfasst verschiedene Veranstaltungen an jedem Dienstag im Monat\, die unabhängig voneinander besucht werden können. Man kann also zB in einem Monat am jeweiligen Abend Vesper beten und Taizé-Gebete singen oder nur zum Sakralen Tanzen kommen. \nSakraler Tanz (1. Dienstag im Monat) – Vesper (2. Dienstag im Monat) – Taizé (3. Dienstag im Monat) – Meditation (4. Dienstag im Monat) -in Monaten mit fünf Dienstag\, fällt der letzte Dienstag aus. \nAnschließend gibt es jeweils eine kleine Agape zu einem gemütlichen Ausklang in Gemeinschaft. \n Wann und Wo: jeden Dienstag um 18.00 im Pfarrzentrum Dornbach\, Rupertusplatz 5 
URL:https://katholisch-hernals.at/event/neu-freude-fuer-die-seele-in-dornbach-01-2-2-2-2/
LOCATION:Pfarre Dornbach – Pfarrsaal\, Rupertusplatz 4\, Wien\, 1170\, Österreich
CATEGORIES:Austausch,Erwachsene,Gebet,Junge Erwachsene,Kreativität,Kultur,Musik (klassisch),Musik (modern),Paare ohne Kinder,Senioren,Singles,Spiritualität
ATTACH;FMTTYPE=image/png:https://katholisch-hernals.at/wp-content/uploads/2019/05/Freude_fuer_die_Seele.png
ORGANIZER;CN="Pfarre Dornbach":MAILTO:kanzlei@pfarredornbach.at
END:VEVENT
BEGIN:VEVENT
DTSTART;TZID=Europe/Vienna:20200130T153000
DTEND;TZID=Europe/Vienna:20200130T173000
DTSTAMP:20260420T044014
CREATED:20191217T135322Z
LAST-MODIFIED:20191217T135322Z
UID:4341-1580398200-1580405400@katholisch-hernals.at
SUMMARY:Donnerstag-Club in Dornbach
DESCRIPTION:Wahres Leben ist Begegnung. Wir laden Sie herzlich zu unserem Donnerstag-Club jeden Donnerstag um 15.30 im Pfarrzentrum ein! Es erwartet Sie ein Nachmittag mit Impulsreferaten zu den Themen Lebenshilfe\, Kultur und Spiritualität mit Gesprächen\, Informationen und Getränken. Jeden ersten Donnerstag im Monat ist Spielenachmittag\, jeden dritten Donnerstag im Monat feiern wir mit einem kleinen künstlerischen Programm die Geburtstagskinder des Monats. \nProgramm im September: \n\n9.1.  Spielenachmittag\n16.1. Seniorennachmittag mit Geburtstagsfeier\n23.1. Josef Prüwasser: Originelle Forscherinnen\n30.1. Diakon Mag. Gerhard Scholz: Amazonien-Synode und ihre Auswirkungen auf Europa / Österreich
URL:https://katholisch-hernals.at/event/donnerstag-club-in-dornbach-01-2-2-2/
LOCATION:Pfarre Dornbach – Pfarrsaal\, Rupertusplatz 4\, Wien\, 1170\, Österreich
CATEGORIES:Austausch,Erwachsene,Gruppentreffen,Kreativität,Kultur,Pfarrcafe,Senioren,Singles,Spiel, Sport, Spaß,Spiritualität,Weiterbildung
ORGANIZER;CN="Pfarre Dornbach":MAILTO:kanzlei@pfarredornbach.at
END:VEVENT
END:VCALENDAR