BEGIN:VCALENDAR
VERSION:2.0
PRODID:-//Pfarrverband Hernals - ECPv6.15.20//NONSGML v1.0//EN
CALSCALE:GREGORIAN
METHOD:PUBLISH
X-WR-CALNAME:Pfarrverband Hernals
X-ORIGINAL-URL:https://katholisch-hernals.at
X-WR-CALDESC:Veranstaltungen für Pfarrverband Hernals
REFRESH-INTERVAL;VALUE=DURATION:PT1H
X-Robots-Tag:noindex
X-PUBLISHED-TTL:PT1H
BEGIN:VTIMEZONE
TZID:Europe/Vienna
BEGIN:DAYLIGHT
TZOFFSETFROM:+0100
TZOFFSETTO:+0200
TZNAME:CEST
DTSTART:20190331T010000
END:DAYLIGHT
BEGIN:STANDARD
TZOFFSETFROM:+0200
TZOFFSETTO:+0100
TZNAME:CET
DTSTART:20191027T010000
END:STANDARD
BEGIN:DAYLIGHT
TZOFFSETFROM:+0100
TZOFFSETTO:+0200
TZNAME:CEST
DTSTART:20200329T010000
END:DAYLIGHT
BEGIN:STANDARD
TZOFFSETFROM:+0200
TZOFFSETTO:+0100
TZNAME:CET
DTSTART:20201025T010000
END:STANDARD
BEGIN:DAYLIGHT
TZOFFSETFROM:+0100
TZOFFSETTO:+0200
TZNAME:CEST
DTSTART:20210328T010000
END:DAYLIGHT
BEGIN:STANDARD
TZOFFSETFROM:+0200
TZOFFSETTO:+0100
TZNAME:CET
DTSTART:20211031T010000
END:STANDARD
END:VTIMEZONE
BEGIN:VEVENT
DTSTART;TZID=Europe/Vienna:20200201T183000
DTEND;TZID=Europe/Vienna:20200201T193000
DTSTAMP:20260421T133547
CREATED:20191115T122912Z
LAST-MODIFIED:20191115T122912Z
UID:4195-1580581800-1580585400@katholisch-hernals.at
SUMMARY:Lichterprozession und Festgottesdienst
DESCRIPTION:Lichterprozession am Vorabend zu Maria Lichtmess
URL:https://katholisch-hernals.at/event/lichterprozession-und-festgottesdienst/
LOCATION:Marienpfarre – Kirche\, Clemens Hofbauerplatz\, Wien\, 1170\, Österreich
CATEGORIES:Erwachsene,Gottesdienst,Jugendliche 14+,Junge Erwachsene,Kinder,Kinder 10-14,Kindergartenkinder 3-6,Kleinkinder 0-3,Paare mit Kindern,Paare ohne Kinder,Schulkinder 6-10,Senioren,Singles
ORGANIZER;CN="Marienpfarre":MAILTO:kanzlei@marienpfarre.at
END:VEVENT
BEGIN:VEVENT
DTSTART;TZID=Europe/Vienna:20200202T000000
DTEND;TZID=Europe/Vienna:20200202T000000
DTSTAMP:20260421T133547
CREATED:20191106T100443Z
LAST-MODIFIED:20191113T140635Z
UID:4102-1580601600-1580601600@katholisch-hernals.at
SUMMARY:Darstellung des Herrn
DESCRIPTION:Hl. Messe mit Kerzensegnung und Lichterprozession
URL:https://katholisch-hernals.at/event/darstellung-des-herrn/
LOCATION:Sühnekirche\, Dr.-Josef-Resch-Platz 12\, Wien\, 1170\, Österreich
CATEGORIES:Erwachsene,Gottesdienst,Jugendliche 14+,Junge Erwachsene,Paare ohne Kinder,Schulkinder 6-10,Senioren,Singles
ORGANIZER;CN="S%C3%BChnekirche":MAILTO:pfarramt-suehnekirche@chello.at
END:VEVENT
BEGIN:VEVENT
DTSTART;TZID=Europe/Vienna:20200202T110000
DTEND;TZID=Europe/Vienna:20200202T120000
DTSTAMP:20260421T133547
CREATED:20191217T134651Z
LAST-MODIFIED:20200129T142718Z
UID:4323-1580641200-1580644800@katholisch-hernals.at
SUMMARY:Lobpreis in Dornbach
DESCRIPTION:https://katholisch-hernals.at/2019/10/17/lobpreis-in-dornbach/
URL:https://katholisch-hernals.at/event/lobpreis-in-dornbach-01-2/
LOCATION:Pfarre Dornbach – Kirche\, Rupertusplatz\, Wien\, 1170\, Österreich
CATEGORIES:Erwachsene,Fest,Gebet,Jugendliche 14+,Junge Erwachsene,Kinder,Musik (modern),Paare mit Kindern,Paare ohne Kinder,Singles,Spiritualität
ATTACH;FMTTYPE=image/png:https://katholisch-hernals.at/wp-content/uploads/2019/12/Bildschirmfoto-2020-01-29-um-13.53.21.png
ORGANIZER;CN="Pfarre Dornbach":MAILTO:kanzlei@pfarredornbach.at
END:VEVENT
BEGIN:VEVENT
DTSTART;TZID=Europe/Vienna:20200205T180000
DTEND;TZID=Europe/Vienna:20200205T183000
DTSTAMP:20260421T133547
CREATED:20200116T160512Z
LAST-MODIFIED:20200116T160750Z
UID:4460-1580925600-1580927400@katholisch-hernals.at
SUMMARY:Hl. Messe um 18:00 entfällt in Dornbach
DESCRIPTION:Aufgrund einer Veranstaltung entfällt die Hl. Messe am 5.2.2020 um 18:00 in der Pfarrkirche Dornbach
URL:https://katholisch-hernals.at/event/hl-messe-um-1800-entfaellt-in-dornbach/
END:VEVENT
BEGIN:VEVENT
DTSTART;TZID=Europe/Vienna:20200206T153000
DTEND;TZID=Europe/Vienna:20200206T173000
DTSTAMP:20260421T133547
CREATED:20200116T154832Z
LAST-MODIFIED:20200116T154832Z
UID:4448-1581003000-1581010200@katholisch-hernals.at
SUMMARY:Donnerstag-Club in Dornbach
DESCRIPTION:Wahres Leben ist Begegnung. Wir laden Sie herzlich zu unserem Donnerstag-Club jeden Donnerstag um 15.30 im Pfarrzentrum ein! Es erwartet Sie ein Nachmittag mit Impulsreferaten zu den Themen Lebenshilfe\, Kultur und Spiritualität mit Gesprächen\, Informationen und Getränken. Jeden ersten Donnerstag im Monat ist Spielenachmittag\, jeden dritten Donnerstag im Monat feiern wir mit einem kleinen künstlerischen Programm die Geburtstagskinder des Monats. \nProgramm im Februar: \n\n06.2. Dr. Roland Paukner „Demenz & Co“\n13.2. Spielenachmittag (Achtung statt 6.2.)\n20.2. Seniorennachmittag mit Geburtstagsfeier\n27.2. 14.00 – 18.00 Einkehrnachmittag mit Domkurat Stefan Jagoschütz
URL:https://katholisch-hernals.at/event/donnerstag-club-in-dornbach-02-2/
LOCATION:Pfarre Dornbach – Pfarrsaal\, Rupertusplatz 4\, Wien\, 1170\, Österreich
CATEGORIES:Austausch,Erwachsene,Gruppentreffen,Kreativität,Kultur,Pfarrcafe,Senioren,Singles,Spiel, Sport, Spaß,Spiritualität,Weiterbildung
ORGANIZER;CN="Pfarre Dornbach":MAILTO:kanzlei@pfarredornbach.at
END:VEVENT
BEGIN:VEVENT
DTSTART;TZID=Europe/Vienna:20200208T200000
DTEND;TZID=Europe/Vienna:20200209T030000
DTSTAMP:20260421T133547
CREATED:20191106T100637Z
LAST-MODIFIED:20191113T134705Z
UID:4104-1581192000-1581217200@katholisch-hernals.at
SUMMARY:Tanzkränzchen
DESCRIPTION:Stimmung & Unterhaltung
URL:https://katholisch-hernals.at/event/tanzkraenzchen/
LOCATION:Sühnekirche – Pfarre\, Alszeile 7\, Wien\, 1170\, Österreich
CATEGORIES:Erwachsene,Fest,Jugendliche 14+,Junge Erwachsene,Kinder 10-14,Musik (modern),Paare ohne Kinder,Pfarrcafe,Senioren,Singles,Spiel, Sport, Spaß
ORGANIZER;CN="S%C3%BChnekirche":MAILTO:pfarramt-suehnekirche@chello.at
END:VEVENT
BEGIN:VEVENT
DTSTART;TZID=Europe/Vienna:20200211T173000
DTEND;TZID=Europe/Vienna:20200211T190000
DTSTAMP:20260421T133547
CREATED:20200129T080321Z
LAST-MODIFIED:20200206T071629Z
UID:4518-1581442200-1581447600@katholisch-hernals.at
SUMMARY:Trauer und Trost – Offene Trauergruppe
DESCRIPTION:Zeit und Raum für Trost\, Zuwendung und Tränen \nTrauer ist eine natürliche Reaktion auf den Verlust eines lieben Menschen. Schmerz\, Trauer\, Tränen zuzulassen\, braucht Mut und einen guten Rahmen. Hier können Sie im Gespräch mit anderen Menschen in ähnlicher Situation Trost und Unterstützung erfahren. \nWir begleiten Sie behutsam\, damit Sie Ihre Trauer ausdrücken\, Erinnerungen leben und neue Wege zurück ins Leben ﬁnden können. \nWir laden Sie herzlich ein zu kommen!
URL:https://katholisch-hernals.at/event/trauer-und-trost-offene-trauergruppe-4/
LOCATION:Göttlicher Heiland Krankenhaus – Kirche\, Dornbacher Straße 20–30\, Wien\, 1170\, Österreich
CATEGORIES:Erwachsene,Senioren,Trauerbegleitung
ORGANIZER;CN="G%C3%B6ttlicher Heiland Krankenhaus %E2%80%93 Seelsorgeteam":MAILTO:service@khgh.at
END:VEVENT
BEGIN:VEVENT
DTSTART;TZID=Europe/Vienna:20200212T190000
DTEND;TZID=Europe/Vienna:20200212T210000
DTSTAMP:20260421T133547
CREATED:20191106T100806Z
LAST-MODIFIED:20191113T134815Z
UID:4106-1581534000-1581541200@katholisch-hernals.at
SUMMARY:Bibelrunde
DESCRIPTION:im Pfarrsaal
URL:https://katholisch-hernals.at/event/bibelrunde-6/
LOCATION:Sühnekirche – Pfarre\, Alszeile 7\, Wien\, 1170\, Österreich
CATEGORIES:Erwachsene,Gruppentreffen,Jugendliche 14+,Junge Erwachsene,Paare ohne Kinder,Senioren,Singles,Spiritualität,Weiterbildung
ORGANIZER;CN="S%C3%BChnekirche":MAILTO:pfarramt-suehnekirche@chello.at
END:VEVENT
BEGIN:VEVENT
DTSTART;TZID=Europe/Vienna:20200212T193000
DTEND;TZID=Europe/Vienna:20200212T210000
DTSTAMP:20260421T133547
CREATED:20191217T133947Z
LAST-MODIFIED:20191217T133947Z
UID:4309-1581535800-1581541200@katholisch-hernals.at
SUMMARY:Alpha Kurs 2020 Dornbach
DESCRIPTION:Alpha ist eine Reihe von interaktiven Treffen\, an denen gemeinsam die Themen Leben\, Glaube\, Sinn erforscht und vertieft werden können. Alpha ist locker und setzt keine Vorkenntnisse voraus -eine bewährte Möglichkeit\, mehr über den christlichen Glauben zu erfahren. \nFür den Glaubenskurs in Dornbach treffen wir uns immer im Pfarrsaal der Pfarre Dornbach\, Rupertusplatz 4\, Wien 17. Für weitere Informationen klicken Sie bitte hier!
URL:https://katholisch-hernals.at/event/alpha-kurs-dornbach-2020-2/
LOCATION:Pfarre Dornbach – Pfarrsaal\, Rupertusplatz 4\, Wien\, 1170\, Österreich
CATEGORIES:Austausch,Erwachsene,Gruppentreffen,Junge Erwachsene,Paare ohne Kinder,Senioren,Singles,Spiritualität,Weiterbildung
ATTACH;FMTTYPE=image/jpeg:https://katholisch-hernals.at/wp-content/uploads/2019/09/Alpha_Einladung_Okt19.jpg
ORGANIZER;CN="Pfarre Dornbach":MAILTO:kanzlei@pfarredornbach.at
END:VEVENT
BEGIN:VEVENT
DTSTART;TZID=Europe/Vienna:20200213T153000
DTEND;TZID=Europe/Vienna:20200213T173000
DTSTAMP:20260421T133547
CREATED:20200116T154855Z
LAST-MODIFIED:20200116T154855Z
UID:4450-1581607800-1581615000@katholisch-hernals.at
SUMMARY:Donnerstag-Club in Dornbach
DESCRIPTION:Wahres Leben ist Begegnung. Wir laden Sie herzlich zu unserem Donnerstag-Club jeden Donnerstag um 15.30 im Pfarrzentrum ein! Es erwartet Sie ein Nachmittag mit Impulsreferaten zu den Themen Lebenshilfe\, Kultur und Spiritualität mit Gesprächen\, Informationen und Getränken. Jeden ersten Donnerstag im Monat ist Spielenachmittag\, jeden dritten Donnerstag im Monat feiern wir mit einem kleinen künstlerischen Programm die Geburtstagskinder des Monats. \nProgramm im Februar: \n\n06.2. Dr. Roland Paukner „Demenz & Co“\n13.2. Spielenachmittag (Achtung statt 6.2.)\n20.2. Seniorennachmittag mit Geburtstagsfeier\n27.2. 14.00 – 18.00 Einkehrnachmittag mit Domkurat Stefan Jagoschütz
URL:https://katholisch-hernals.at/event/donnerstag-club-in-dornbach-02-2-2/
LOCATION:Pfarre Dornbach – Pfarrsaal\, Rupertusplatz 4\, Wien\, 1170\, Österreich
CATEGORIES:Austausch,Erwachsene,Gruppentreffen,Kreativität,Kultur,Pfarrcafe,Senioren,Singles,Spiel, Sport, Spaß,Spiritualität,Weiterbildung
ORGANIZER;CN="Pfarre Dornbach":MAILTO:kanzlei@pfarredornbach.at
END:VEVENT
BEGIN:VEVENT
DTSTART;TZID=Europe/Vienna:20200215T150000
DTEND;TZID=Europe/Vienna:20200215T180000
DTSTAMP:20260421T133547
CREATED:20190110T132852Z
LAST-MODIFIED:20200116T155032Z
UID:2191-1581778800-1581789600@katholisch-hernals.at
SUMMARY:Kinderfasching in Dornbach
DESCRIPTION:Seit vielen Jahren wird in Dornbach Kinderfasching gefeiert. Einlass: 15:00 Ende: 18:00 \n\nPuppentheater\nvielen Stationen\nBuffet für Jung und Erwachsenen und natürlich Krapfen\nKinderdisco
URL:https://katholisch-hernals.at/event/kinderfasching-in-dornbach/
LOCATION:Pfarre Dornbach – Pfarrsaal\, Rupertusplatz 4\, Wien\, 1170\, Österreich
CATEGORIES:Fest,Kinder,Kindergartenkinder 3-6,Kleinkinder 0-3,Kreativität,Paare mit Kindern,Schulkinder 6-10,Spiel, Sport, Spaß
ORGANIZER;CN="Pfarre Dornbach":MAILTO:kanzlei@pfarredornbach.at
END:VEVENT
BEGIN:VEVENT
DTSTART;TZID=Europe/Vienna:20200216T100000
DTEND;TZID=Europe/Vienna:20200216T110000
DTSTAMP:20260421T133547
CREATED:20190915T053947Z
LAST-MODIFIED:20190915T053947Z
UID:3809-1581847200-1581850800@katholisch-hernals.at
SUMMARY:Kindermesse Sühnekirche
DESCRIPTION:
URL:https://katholisch-hernals.at/event/kindermesse-2-2-3-3-3-2/
LOCATION:Sühnekirche\, Dr.-Josef-Resch-Platz 12\, Wien\, 1170\, Österreich
CATEGORIES:Gottesdienst,Kinder,Kinder 10-14,Kindergartenkinder 3-6,Kleinkinder 0-3,Paare mit Kindern,Schulkinder 6-10
ORGANIZER;CN="S%C3%BChnekirche":MAILTO:pfarramt-suehnekirche@chello.at
END:VEVENT
BEGIN:VEVENT
DTSTART;TZID=Europe/Vienna:20200216T110000
DTEND;TZID=Europe/Vienna:20200216T120000
DTSTAMP:20260421T133547
CREATED:20191217T134710Z
LAST-MODIFIED:20191217T134710Z
UID:4325-1581850800-1581854400@katholisch-hernals.at
SUMMARY:Lobpreis in Dornbach
DESCRIPTION:https://katholisch-hernals.at/2019/10/17/lobpreis-in-dornbach/
URL:https://katholisch-hernals.at/event/lobpreis-in-dornbach-01-2-2/
LOCATION:Pfarre Dornbach – Kirche\, Rupertusplatz\, Wien\, 1170\, Österreich
CATEGORIES:Erwachsene,Fest,Gebet,Jugendliche 14+,Junge Erwachsene,Kinder,Musik (modern),Paare mit Kindern,Paare ohne Kinder,Singles,Spiritualität
ORGANIZER;CN="Pfarre Dornbach":MAILTO:kanzlei@pfarredornbach.at
END:VEVENT
BEGIN:VEVENT
DTSTART;TZID=Europe/Vienna:20200217T160000
DTEND;TZID=Europe/Vienna:20200217T173000
DTSTAMP:20260421T133547
CREATED:20200129T075056Z
LAST-MODIFIED:20200206T071618Z
UID:4507-1581955200-1581960600@katholisch-hernals.at
SUMMARY:Trauer und Trost – Offene Trauergruppe
DESCRIPTION:Zeit und Raum für Trost\, Zuwendung und Tränen \nTrauer ist eine natürliche Reaktion auf den Verlust eines lieben Menschen. Schmerz\, Trauer\, Tränen zuzulassen\, braucht Mut und einen guten Rahmen. Hier können Sie im Gespräch mit anderen Menschen in ähnlicher Situation Trost und Unterstützung erfahren. \nWir begleiten Sie behutsam\, damit Sie Ihre Trauer ausdrücken\, Erinnerungen leben und neue Wege zurück ins Leben ﬁnden können. \nWir laden Sie herzlich ein zu kommen!
URL:https://katholisch-hernals.at/event/trauer-und-trost-offene-trauergruppe/
LOCATION:Göttlicher Heiland Krankenhaus – Kirche\, Dornbacher Straße 20–30\, Wien\, 1170\, Österreich
CATEGORIES:Erwachsene,Senioren,Trauerbegleitung
ORGANIZER;CN="G%C3%B6ttlicher Heiland Krankenhaus %E2%80%93 Seelsorgeteam":MAILTO:service@khgh.at
END:VEVENT
BEGIN:VEVENT
DTSTART;TZID=Europe/Vienna:20200218T190000
DTEND;TZID=Europe/Vienna:20200218T210000
DTSTAMP:20260421T133547
CREATED:20200116T155139Z
LAST-MODIFIED:20200116T155139Z
UID:4456-1582052400-1582059600@katholisch-hernals.at
SUMMARY:Ökumenerunde Dornbach
DESCRIPTION:Superintendent Stefan Schröckenfuchs: Die Methodistische Kirche in Österreich
URL:https://katholisch-hernals.at/event/oekumenerunde-dornbach-2-2-2/
LOCATION:Pfarre Dornbach – Pfarrsaal\, Rupertusplatz 4\, Wien\, 1170\, Österreich
CATEGORIES:Austausch,Erwachsene,Junge Erwachsene,Kultur,Ökumene,Paare ohne Kinder,Senioren,Singles,Spiritualität,Weiterbildung
ORGANIZER;CN="Pfarre Dornbach":MAILTO:kanzlei@pfarredornbach.at
END:VEVENT
BEGIN:VEVENT
DTSTART;TZID=Europe/Vienna:20200219T183000
DTEND;TZID=Europe/Vienna:20200219T183000
DTSTAMP:20260421T133547
CREATED:20200129T070139Z
LAST-MODIFIED:20200206T071605Z
UID:4494-1582137000-1582137000@katholisch-hernals.at
SUMMARY:Demenzfreundlicher Gottesdienst
DESCRIPTION:Gottesdienst mit vergesslichen Menschen und allen anderen\nJeden 3. Mittwoch im Monat um 18.30 Uhr
URL:https://katholisch-hernals.at/event/demenzfreundlicher-gottesdienst/
LOCATION:Göttlicher Heiland Krankenhaus – Kirche\, Dornbacher Straße 20–30\, Wien\, 1170\, Österreich
CATEGORIES:Erwachsene,Gottesdienst,Senioren
ORGANIZER;CN="G%C3%B6ttlicher Heiland Krankenhaus %E2%80%93 Seelsorgeteam":MAILTO:service@khgh.at
END:VEVENT
BEGIN:VEVENT
DTSTART;TZID=Europe/Vienna:20200219T193000
DTEND;TZID=Europe/Vienna:20200219T210000
DTSTAMP:20260421T133547
CREATED:20191217T134002Z
LAST-MODIFIED:20191217T134002Z
UID:4311-1582140600-1582146000@katholisch-hernals.at
SUMMARY:Alpha Kurs 2020 Dornbach
DESCRIPTION:Alpha ist eine Reihe von interaktiven Treffen\, an denen gemeinsam die Themen Leben\, Glaube\, Sinn erforscht und vertieft werden können. Alpha ist locker und setzt keine Vorkenntnisse voraus -eine bewährte Möglichkeit\, mehr über den christlichen Glauben zu erfahren. \nFür den Glaubenskurs in Dornbach treffen wir uns immer im Pfarrsaal der Pfarre Dornbach\, Rupertusplatz 4\, Wien 17. Für weitere Informationen klicken Sie bitte hier!
URL:https://katholisch-hernals.at/event/alpha-kurs-dornbach-2020-2-2/
LOCATION:Pfarre Dornbach – Pfarrsaal\, Rupertusplatz 4\, Wien\, 1170\, Österreich
CATEGORIES:Austausch,Erwachsene,Gruppentreffen,Junge Erwachsene,Paare ohne Kinder,Senioren,Singles,Spiritualität,Weiterbildung
ATTACH;FMTTYPE=image/jpeg:https://katholisch-hernals.at/wp-content/uploads/2019/09/Alpha_Einladung_Okt19.jpg
ORGANIZER;CN="Pfarre Dornbach":MAILTO:kanzlei@pfarredornbach.at
END:VEVENT
BEGIN:VEVENT
DTSTART;TZID=Europe/Vienna:20200220T140000
DTEND;TZID=Europe/Vienna:20200220T180000
DTSTAMP:20260421T133547
CREATED:20200116T154933Z
LAST-MODIFIED:20200116T154933Z
UID:4454-1582207200-1582221600@katholisch-hernals.at
SUMMARY:Donnerstag-Club in Dornbach Einkehrnachmittag
DESCRIPTION:Wahres Leben ist Begegnung. Wir laden Sie herzlich zu unserem Donnerstag-Club jeden Donnerstag um 15.30 im Pfarrzentrum ein! Es erwartet Sie ein Nachmittag mit Impulsreferaten zu den Themen Lebenshilfe\, Kultur und Spiritualität mit Gesprächen\, Informationen und Getränken. Jeden ersten Donnerstag im Monat ist Spielenachmittag\, jeden dritten Donnerstag im Monat feiern wir mit einem kleinen künstlerischen Programm die Geburtstagskinder des Monats. \nProgramm im Februar: \n\n06.2. Dr. Roland Paukner „Demenz & Co“\n13.2. Spielenachmittag (Achtung statt 6.2.)\n20.2. Seniorennachmittag mit Geburtstagsfeier\n27.2. 14.00 – 18.00 Einkehrnachmittag mit Domkurat Stefan Jagoschütz
URL:https://katholisch-hernals.at/event/donnerstag-club-in-dornbach-02-2-2-2-2/
LOCATION:Pfarre Dornbach – Pfarrsaal\, Rupertusplatz 4\, Wien\, 1170\, Österreich
CATEGORIES:Austausch,Erwachsene,Gruppentreffen,Kreativität,Kultur,Pfarrcafe,Senioren,Singles,Spiel, Sport, Spaß,Spiritualität,Weiterbildung
ORGANIZER;CN="Pfarre Dornbach":MAILTO:kanzlei@pfarredornbach.at
END:VEVENT
BEGIN:VEVENT
DTSTART;TZID=Europe/Vienna:20200220T153000
DTEND;TZID=Europe/Vienna:20200220T173000
DTSTAMP:20260421T133547
CREATED:20200116T154910Z
LAST-MODIFIED:20200116T154910Z
UID:4452-1582212600-1582219800@katholisch-hernals.at
SUMMARY:Donnerstag-Club in Dornbach
DESCRIPTION:Wahres Leben ist Begegnung. Wir laden Sie herzlich zu unserem Donnerstag-Club jeden Donnerstag um 15.30 im Pfarrzentrum ein! Es erwartet Sie ein Nachmittag mit Impulsreferaten zu den Themen Lebenshilfe\, Kultur und Spiritualität mit Gesprächen\, Informationen und Getränken. Jeden ersten Donnerstag im Monat ist Spielenachmittag\, jeden dritten Donnerstag im Monat feiern wir mit einem kleinen künstlerischen Programm die Geburtstagskinder des Monats. \nProgramm im Februar: \n\n06.2. Dr. Roland Paukner „Demenz & Co“\n13.2. Spielenachmittag (Achtung statt 6.2.)\n20.2. Seniorennachmittag mit Geburtstagsfeier\n27.2. 14.00 – 18.00 Einkehrnachmittag mit Domkurat Stefan Jagoschütz
URL:https://katholisch-hernals.at/event/donnerstag-club-in-dornbach-02-2-2-2/
LOCATION:Pfarre Dornbach – Pfarrsaal\, Rupertusplatz 4\, Wien\, 1170\, Österreich
CATEGORIES:Austausch,Erwachsene,Gruppentreffen,Kreativität,Kultur,Pfarrcafe,Senioren,Singles,Spiel, Sport, Spaß,Spiritualität,Weiterbildung
ORGANIZER;CN="Pfarre Dornbach":MAILTO:kanzlei@pfarredornbach.at
END:VEVENT
BEGIN:VEVENT
DTSTART;TZID=Europe/Vienna:20200222T090000
DTEND;TZID=Europe/Vienna:20200222T160000
DTSTAMP:20260421T133547
CREATED:20191115T123115Z
LAST-MODIFIED:20200205T164036Z
UID:4197-1582362000-1582387200@katholisch-hernals.at
SUMMARY:Sonderpostamt: Klemens Maria Hofbauer
DESCRIPTION:
URL:https://katholisch-hernals.at/event/sonderpostamt-klemens-maria-hofbauer/
LOCATION:Sühnekirche\, Dr.-Josef-Resch-Platz 12\, Wien\, 1170\, Österreich
CATEGORIES:Erwachsene,Jugendliche 14+,Junge Erwachsene,Paare ohne Kinder,Senioren,Singles
ORGANIZER;CN="Marienpfarre":MAILTO:kanzlei@marienpfarre.at
END:VEVENT
BEGIN:VEVENT
DTSTART;TZID=Europe/Vienna:20200222T100000
DTEND;TZID=Europe/Vienna:20200222T120000
DTSTAMP:20260421T133547
CREATED:20190905T104117Z
LAST-MODIFIED:20190905T104117Z
UID:3702-1582365600-1582372800@katholisch-hernals.at
SUMMARY:Jugend- und Ministrantentreffen in Dornbach
DESCRIPTION:ALLE KINDER und JUGENDLICHEN sind herzlich eingeladen – ob sie ministrieren oder nicht! Wir treffen einander einmal im Monat an einem Samstag zwischen 10.00 und 12.00 Uhr zum Ministrieren-Üben\, Plaudern\, Glauben erleben und auch Kuchen\, Kakao und Spielen genießen. In den Gottesdiensten ministrieren können alle Kinder ab dem Schulalter und auch Jugendliche! Für die jugendlichen Minis gibt es  (teilweise) ein eigenes Programm! \nInfos und Anmeldung bei Jungschar- u. MinistrantInnen-Leiter Wolfgang Ruckenbauer oder in der Pfarrkanzlei! \n\n← Zurück Vielen Dank für deine Antwort. ✨\n\n\n					\n						\n							\n							\n						\n						\n						\n						\n						\n							\n								\n									\n										\n										\n									\n									\n										\n										\n									\n								\n							\n						\n						\n							\n								\n									\n									\n										\n									\n									\n									\n								\n							\n						\n					\n				\n\n\n\nName(erforderlich)\n\n \n			\n				\n					\n						\n						\n						\n					\n				\n				\n			 \n	\n\n\nE-Mail (erforderlich)\n\n \n			\n				\n					\n						\n						\n						\n					\n				\n				\n			 \n	\n\n\nWebsite\n\n \n			\n				\n					\n						\n						\n						\n					\n				\n				\n			 \n	\n\n\nNachricht\n\n \n			\n				\n					\n						\n						\n						\n					\n				\n				\n			\n	\n	\n\n				\n					\n				\n						Senden		\n		\n		\n	 \nΔ
URL:https://katholisch-hernals.at/event/jugend-und-ministrantentreffen-in-dornbach-2-2-3-2/
LOCATION:Pfarre Dornbach\, Rupertusplatz\, Wien\, 1170\, Österreich
CATEGORIES:Austausch,Gebet,Gruppentreffen,Jugendliche 14+,Kinder,Kinder 10-14,Kultur,Schulkinder 6-10,Spiel, Sport, Spaß,Spiritualität,Weiterbildung
ORGANIZER;CN="Pfarre Dornbach":MAILTO:kanzlei@pfarredornbach.at
END:VEVENT
BEGIN:VEVENT
DTSTART;TZID=Europe/Vienna:20200223T093000
DTEND;TZID=Europe/Vienna:20200223T103000
DTSTAMP:20260421T133547
CREATED:20190909T090031Z
LAST-MODIFIED:20190909T090031Z
UID:3774-1582450200-1582453800@katholisch-hernals.at
SUMMARY:Kinderwortgottesdienst
DESCRIPTION:Nach dem gemeinsamen Start der Messe in der Kirche gehen wir in die Kapelle. Dort beschäftigen wir uns mit einer einfachen und für Kinder verständlichen Botschaft aus der Bibel. Rechtzeitig zu den Fürbitten kommen wir wieder zurück in die Kirche. Selbstverständlich sind Eltern willkommen\, falls die Kinder diese Unterstützung möchten. Danach Kindercafé!
URL:https://katholisch-hernals.at/event/kinderwortgottesdienst-3-2-2-2-2-2-2-2-2-2-2-2-2/
LOCATION:Marienpfarre – Kirche\, Clemens Hofbauerplatz\, Wien\, 1170\, Österreich
CATEGORIES:Gottesdienst,Kinder,Kinder 10-14,Kindergartenkinder 3-6,Kleinkinder 0-3,Schulkinder 6-10
ORGANIZER;CN="Marienpfarre":MAILTO:kanzlei@marienpfarre.at
END:VEVENT
BEGIN:VEVENT
DTSTART;TZID=Europe/Vienna:20200226T183000
DTEND;TZID=Europe/Vienna:20200226T193000
DTSTAMP:20260421T133547
CREATED:20191113T140321Z
LAST-MODIFIED:20191113T140321Z
UID:4152-1582741800-1582745400@katholisch-hernals.at
SUMMARY:Aschermittwoch
DESCRIPTION:Hl. Messe mit Erteilung des Aschenkreuzes
URL:https://katholisch-hernals.at/event/aschermittwoch/
LOCATION:Sühnekirche\, Dr.-Josef-Resch-Platz 12\, Wien\, 1170\, Österreich
CATEGORIES:Erwachsene,Gottesdienst,Jugendliche 14+,Junge Erwachsene,Kinder 10-14,Paare ohne Kinder,Senioren,Singles
ORGANIZER;CN="S%C3%BChnekirche":MAILTO:pfarramt-suehnekirche@chello.at
END:VEVENT
BEGIN:VEVENT
DTSTART;TZID=Europe/Vienna:20200227T183000
DTEND;TZID=Europe/Vienna:20200227T193000
DTSTAMP:20260421T133548
CREATED:20191115T123336Z
LAST-MODIFIED:20191115T123336Z
UID:4202-1582828200-1582831800@katholisch-hernals.at
SUMMARY:Stadtwallfahrt
DESCRIPTION:Stadtwallfahrt mit Pfr. Dr. Chusi Joseph Ibeanu (Großrussbach) mit Lichterprozession und Einzelsegen zum Abschluss.
URL:https://katholisch-hernals.at/event/stadtwallfahrt-4-2-3-2-2-2-2-2-3-2-2-2/
LOCATION:Marienpfarre – Kirche\, Clemens Hofbauerplatz\, Wien\, 1170\, Österreich
CATEGORIES:Erwachsene,Gottesdienst,Junge Erwachsene,Paare ohne Kinder,Senioren,Singles
ORGANIZER;CN="Marienpfarre":MAILTO:kanzlei@marienpfarre.at
END:VEVENT
BEGIN:VEVENT
DTSTART;TZID=Europe/Vienna:20200228T150000
DTEND;TZID=Europe/Vienna:20200228T170000
DTSTAMP:20260421T133548
CREATED:20191113T140527Z
LAST-MODIFIED:20191113T140527Z
UID:4154-1582902000-1582909200@katholisch-hernals.at
SUMMARY:Seniorengeburtstagsmesse
DESCRIPTION:Anschließend Jause im Pfarrsaal
URL:https://katholisch-hernals.at/event/seniorengeburtstagsmesse-4/
LOCATION:Sühnekirche – Pfarre\, Alszeile 7\, Wien\, 1170\, Österreich
CATEGORIES:Erwachsene,Fest,Gottesdienst,Pfarrcafe,Senioren
ORGANIZER;CN="S%C3%BChnekirche":MAILTO:pfarramt-suehnekirche@chello.at
END:VEVENT
END:VCALENDAR