BEGIN:VCALENDAR
VERSION:2.0
PRODID:-//Pfarrverband Hernals - ECPv6.15.20//NONSGML v1.0//EN
CALSCALE:GREGORIAN
METHOD:PUBLISH
X-WR-CALNAME:Pfarrverband Hernals
X-ORIGINAL-URL:https://katholisch-hernals.at
X-WR-CALDESC:Veranstaltungen für Pfarrverband Hernals
REFRESH-INTERVAL;VALUE=DURATION:PT1H
X-Robots-Tag:noindex
X-PUBLISHED-TTL:PT1H
BEGIN:VTIMEZONE
TZID:Europe/Vienna
BEGIN:DAYLIGHT
TZOFFSETFROM:+0100
TZOFFSETTO:+0200
TZNAME:CEST
DTSTART:20190331T010000
END:DAYLIGHT
BEGIN:STANDARD
TZOFFSETFROM:+0200
TZOFFSETTO:+0100
TZNAME:CET
DTSTART:20191027T010000
END:STANDARD
BEGIN:DAYLIGHT
TZOFFSETFROM:+0100
TZOFFSETTO:+0200
TZNAME:CEST
DTSTART:20200329T010000
END:DAYLIGHT
BEGIN:STANDARD
TZOFFSETFROM:+0200
TZOFFSETTO:+0100
TZNAME:CET
DTSTART:20201025T010000
END:STANDARD
BEGIN:DAYLIGHT
TZOFFSETFROM:+0100
TZOFFSETTO:+0200
TZNAME:CEST
DTSTART:20210328T010000
END:DAYLIGHT
BEGIN:STANDARD
TZOFFSETFROM:+0200
TZOFFSETTO:+0100
TZNAME:CET
DTSTART:20211031T010000
END:STANDARD
END:VTIMEZONE
BEGIN:VEVENT
DTSTART;TZID=Europe/Vienna:20200303T183000
DTEND;TZID=Europe/Vienna:20200303T193000
DTSTAMP:20260421T145502
CREATED:20200220T152144Z
LAST-MODIFIED:20200220T152318Z
UID:4638-1583260200-1583263800@katholisch-hernals.at
SUMMARY:Freude für die Seele in Dornbach
DESCRIPTION:Christliche Spiritualität heute gelebt \nDieses kontemplative Programm richtet sich an alle Interessierten: durch seine Vielfalt ist es ansprechend und durch seinen Inhalt wohltuend für Geist\, Körper und Seele zugleich. Dem stressgeplagten Menschen bringt es Entspannung\, Harmonisierung von Körper und Seele – und Freude\, die den ganzen Menschen erfüllt: Singen\, Tanzen\, Vesper beten\, Schweigen und Hören \nDas ganzheitliche Programm umfasst verschiedene Veranstaltungen an jedem Dienstag im Monat\, die unabhängig voneinander besucht werden können. Man kann also zB in einem Monat am jeweiligen Abend Vesper beten und Taizé-Gebete singen oder nur zum Sakralen Tanzen kommen. \nSakraler Tanz (1. Dienstag im Monat) – Vesper (2. Dienstag im Monat) – Taizé (3. Dienstag im Monat) – Meditation (4. Dienstag im Monat) -in Monaten mit fünf Dienstag\, fällt der letzte Dienstag aus. \nAnschließend gibt es jeweils eine kleine Agape zu einem gemütlichen Ausklang in Gemeinschaft. \n Wann und Wo: jeden Dienstag um 18.30 im Pfarrzentrum Dornbach\, Rupertusplatz 5 
URL:https://katholisch-hernals.at/event/neu-freude-fuer-die-seele-in-dornbach-03/
LOCATION:Pfarre Dornbach – Pfarrsaal\, Rupertusplatz 4\, Wien\, 1170\, Österreich
CATEGORIES:Austausch,Erwachsene,Gebet,Junge Erwachsene,Kreativität,Kultur,Musik (klassisch),Musik (modern),Paare ohne Kinder,Senioren,Singles,Spiritualität
ATTACH;FMTTYPE=image/png:https://katholisch-hernals.at/wp-content/uploads/2019/05/Freude_fuer_die_Seele.png
ORGANIZER;CN="Pfarre Dornbach":MAILTO:kanzlei@pfarredornbach.at
END:VEVENT
BEGIN:VEVENT
DTSTART;TZID=Europe/Vienna:20200304T193000
DTEND;TZID=Europe/Vienna:20200304T210000
DTSTAMP:20260421T145502
CREATED:20191217T134022Z
LAST-MODIFIED:20191217T134022Z
UID:4313-1583350200-1583355600@katholisch-hernals.at
SUMMARY:Alpha Kurs 2020 Dornbach
DESCRIPTION:Alpha ist eine Reihe von interaktiven Treffen\, an denen gemeinsam die Themen Leben\, Glaube\, Sinn erforscht und vertieft werden können. Alpha ist locker und setzt keine Vorkenntnisse voraus -eine bewährte Möglichkeit\, mehr über den christlichen Glauben zu erfahren. \nFür den Glaubenskurs in Dornbach treffen wir uns immer im Pfarrsaal der Pfarre Dornbach\, Rupertusplatz 4\, Wien 17. Für weitere Informationen klicken Sie bitte hier!
URL:https://katholisch-hernals.at/event/alpha-kurs-dornbach-2020-2-2-2/
LOCATION:Pfarre Dornbach – Pfarrsaal\, Rupertusplatz 4\, Wien\, 1170\, Österreich
CATEGORIES:Austausch,Erwachsene,Gruppentreffen,Junge Erwachsene,Paare ohne Kinder,Senioren,Singles,Spiritualität,Weiterbildung
ATTACH;FMTTYPE=image/jpeg:https://katholisch-hernals.at/wp-content/uploads/2019/09/Alpha_Einladung_Okt19.jpg
ORGANIZER;CN="Pfarre Dornbach":MAILTO:kanzlei@pfarredornbach.at
END:VEVENT
BEGIN:VEVENT
DTSTART;TZID=Europe/Vienna:20200305T153000
DTEND;TZID=Europe/Vienna:20200305T173000
DTSTAMP:20260421T145502
CREATED:20200219T103125Z
LAST-MODIFIED:20200219T103137Z
UID:4610-1583422200-1583429400@katholisch-hernals.at
SUMMARY:Donnerstag-Club in Dornbach
DESCRIPTION:Wahres Leben ist Begegnung. Wir laden Sie herzlich zu unserem Donnerstag-Club jeden Donnerstag um 15.30 im Pfarrzentrum ein! Es erwartet Sie ein Nachmittag mit Impulsreferaten zu den Themen Lebenshilfe\, Kultur und Spiritualität mit Gesprächen\, Informationen und Getränken. Jeden ersten Donnerstag im Monat ist Spielenachmittag\, jeden dritten Donnerstag im Monat feiern wir mit einem kleinen künstlerischen Programm die Geburtstagskinder des Monats. \nProgramm im März: \n\n05.03. Spielenachmittag\n12.03 Krankenwallfahrt zur Lourdesgrotte – Wienerwald (nur mit Anmeldung)\n19.03. Seniorennachmittag mit Geburtstagsfeier\n26.03. Dr. Alfred Racek: „Menschliches Maß und die Grenzen des Wachstums“
URL:https://katholisch-hernals.at/event/donnerstag-club-in-dornbach-03/
LOCATION:Pfarre Dornbach – Pfarrsaal\, Rupertusplatz 4\, Wien\, 1170\, Österreich
CATEGORIES:Austausch,Erwachsene,Gruppentreffen,Kreativität,Kultur,Pfarrcafe,Senioren,Singles,Spiel, Sport, Spaß,Spiritualität,Weiterbildung
ORGANIZER;CN="Pfarre Dornbach":MAILTO:kanzlei@pfarredornbach.at
END:VEVENT
BEGIN:VEVENT
DTSTART;TZID=Europe/Vienna:20200308T170000
DTEND;TZID=Europe/Vienna:20200308T180000
DTSTAMP:20260421T145502
CREATED:20200206T071959Z
LAST-MODIFIED:20200206T073245Z
UID:4557-1583686800-1583690400@katholisch-hernals.at
SUMMARY:Fasten mit Päpsten
DESCRIPTION:Orgelmusik zur Fastenzeit in Verbindung mit Texten von vier Päpsten \nMit: Harald Straßl (Rezitation) und Karl-Gerhard Straßl (Orgel) \nEintritt frei – Spende erbeten
URL:https://katholisch-hernals.at/event/fasten-mit-paepsten/
LOCATION:Pfarre Hernals – Kirche\, Sankt-Bartholomäus-Platz 3\, Wien\, 1170\, Österreich
CATEGORIES:Erwachsene,Junge Erwachsene,Musik (klassisch),Senioren
ORGANIZER;CN="Pfarre Hernals":MAILTO:kanzlei@kalvarienbergkirche.at
END:VEVENT
BEGIN:VEVENT
DTSTART;TZID=Europe/Vienna:20200309T090000
DTEND;TZID=Europe/Vienna:20200309T110000
DTSTAMP:20260421T145502
CREATED:20190206T115126Z
LAST-MODIFIED:20200219T104428Z
UID:2530-1583744400-1583751600@katholisch-hernals.at
SUMMARY:ANIMA in Dornbach
DESCRIPTION:Start des Seminars: „Entdeckungsreise durch die Geschichte Österreichs“ Referent: Dr. Richard Braun
URL:https://katholisch-hernals.at/event/anima-in-dornbach/
LOCATION:Pfarre Dornbach – Pfarrsaal\, Rupertusplatz 4\, Wien\, 1170\, Österreich
CATEGORIES:Austausch,Erwachsene,Junge Erwachsene,Kreativität,Kultur,Ökumene,Paare mit Kindern,Paare ohne Kinder,Senioren,Singles,Spiritualität,Weiterbildung
ORGANIZER;CN="Pfarre Dornbach":MAILTO:kanzlei@pfarredornbach.at
END:VEVENT
BEGIN:VEVENT
DTSTART;TZID=Europe/Vienna:20200310T173000
DTEND;TZID=Europe/Vienna:20200310T190000
DTSTAMP:20260421T145502
CREATED:20200129T080933Z
LAST-MODIFIED:20200206T071552Z
UID:4526-1583861400-1583866800@katholisch-hernals.at
SUMMARY:Trauer und Trost – Offene Trauergruppe
DESCRIPTION:Zeit und Raum für Trost\, Zuwendung und Tränen \nTrauer ist eine natürliche Reaktion auf den Verlust eines lieben Menschen. Schmerz\, Trauer\, Tränen zuzulassen\, braucht Mut und einen guten Rahmen. Hier können Sie im Gespräch mit anderen Menschen in ähnlicher Situation Trost und Unterstützung erfahren. \nWir begleiten Sie behutsam\, damit Sie Ihre Trauer ausdrücken\, Erinnerungen leben und neue Wege zurück ins Leben ﬁnden können. \nWir laden Sie herzlich ein zu kommen!
URL:https://katholisch-hernals.at/event/trauer-und-trost-offene-trauergruppe-3-2/
LOCATION:Göttlicher Heiland Krankenhaus – Kirche\, Dornbacher Straße 20–30\, Wien\, 1170\, Österreich
CATEGORIES:Erwachsene,Senioren,Trauerbegleitung
ORGANIZER;CN="G%C3%B6ttlicher Heiland Krankenhaus %E2%80%93 Seelsorgeteam":MAILTO:service@khgh.at
END:VEVENT
BEGIN:VEVENT
DTSTART;TZID=Europe/Vienna:20200310T183000
DTEND;TZID=Europe/Vienna:20200310T193000
DTSTAMP:20260421T145502
CREATED:20200220T152204Z
LAST-MODIFIED:20200220T152213Z
UID:4640-1583865000-1583868600@katholisch-hernals.at
SUMMARY:Freude für die Seele in Dornbach
DESCRIPTION:Christliche Spiritualität heute gelebt \nDieses kontemplative Programm richtet sich an alle Interessierten: durch seine Vielfalt ist es ansprechend und durch seinen Inhalt wohltuend für Geist\, Körper und Seele zugleich. Dem stressgeplagten Menschen bringt es Entspannung\, Harmonisierung von Körper und Seele – und Freude\, die den ganzen Menschen erfüllt: Singen\, Tanzen\, Vesper beten\, Schweigen und Hören \nDas ganzheitliche Programm umfasst verschiedene Veranstaltungen an jedem Dienstag im Monat\, die unabhängig voneinander besucht werden können. Man kann also zB in einem Monat am jeweiligen Abend Vesper beten und Taizé-Gebete singen oder nur zum Sakralen Tanzen kommen. \nSakraler Tanz (1. Dienstag im Monat) – Vesper (2. Dienstag im Monat) – Taizé (3. Dienstag im Monat) – Meditation (4. Dienstag im Monat) -in Monaten mit fünf Dienstag\, fällt der letzte Dienstag aus. \nAnschließend gibt es jeweils eine kleine Agape zu einem gemütlichen Ausklang in Gemeinschaft. \n Wann und Wo: jeden Dienstag um 18.30 im Pfarrzentrum Dornbach\, Rupertusplatz 4
URL:https://katholisch-hernals.at/event/neu-freude-fuer-die-seele-in-dornbach-03-2/
LOCATION:Pfarre Dornbach – Pfarrsaal\, Rupertusplatz 4\, Wien\, 1170\, Österreich
CATEGORIES:Austausch,Erwachsene,Gebet,Junge Erwachsene,Kreativität,Kultur,Musik (klassisch),Musik (modern),Paare ohne Kinder,Senioren,Singles,Spiritualität
ATTACH;FMTTYPE=image/png:https://katholisch-hernals.at/wp-content/uploads/2019/05/Freude_fuer_die_Seele.png
ORGANIZER;CN="Pfarre Dornbach":MAILTO:kanzlei@pfarredornbach.at
END:VEVENT
BEGIN:VEVENT
DTSTART;TZID=Europe/Vienna:20200311T193000
DTEND;TZID=Europe/Vienna:20200311T210000
DTSTAMP:20260421T145502
CREATED:20191217T134034Z
LAST-MODIFIED:20191217T134043Z
UID:4315-1583955000-1583960400@katholisch-hernals.at
SUMMARY:Alpha Kurs 2020 Dornbach
DESCRIPTION:Alpha ist eine Reihe von interaktiven Treffen\, an denen gemeinsam die Themen Leben\, Glaube\, Sinn erforscht und vertieft werden können. Alpha ist locker und setzt keine Vorkenntnisse voraus -eine bewährte Möglichkeit\, mehr über den christlichen Glauben zu erfahren. \nFür den Glaubenskurs in Dornbach treffen wir uns immer im Pfarrsaal der Pfarre Dornbach\, Rupertusplatz 4\, Wien 17. Für weitere Informationen klicken Sie bitte hier!
URL:https://katholisch-hernals.at/event/alpha-kurs-dornbach-2020-2-2-2-2/
LOCATION:Pfarre Dornbach – Pfarrsaal\, Rupertusplatz 4\, Wien\, 1170\, Österreich
CATEGORIES:Austausch,Erwachsene,Gruppentreffen,Junge Erwachsene,Paare ohne Kinder,Senioren,Singles,Spiritualität,Weiterbildung
ATTACH;FMTTYPE=image/jpeg:https://katholisch-hernals.at/wp-content/uploads/2019/09/Alpha_Einladung_Okt19.jpg
ORGANIZER;CN="Pfarre Dornbach":MAILTO:kanzlei@pfarredornbach.at
END:VEVENT
BEGIN:VEVENT
DTSTART;TZID=Europe/Vienna:20200312T100000
DTEND;TZID=Europe/Vienna:20200312T110000
DTSTAMP:20260421T145502
CREATED:20200219T103439Z
LAST-MODIFIED:20200311T090057Z
UID:4618-1584007200-1584010800@katholisch-hernals.at
SUMMARY:Wegen der Corona-Präventivmaßnahmen Absage: Hl. Messe Pensionistenwohnhaus Alszeile\, Dornbach
DESCRIPTION:
URL:https://katholisch-hernals.at/event/hl-messe-pensionistenwohnhaus-alszeile-03/
LOCATION:Pfarre Dornbach – Pensionistenwohnhaus Alszeile\, Alszeile 73\, Wien\, Wien\, 1170\, Österreich
CATEGORIES:Erwachsene,Eucharistie,Sakrament,Senioren
ORGANIZER;CN="Pfarre Dornbach":MAILTO:kanzlei@pfarredornbach.at
END:VEVENT
BEGIN:VEVENT
DTSTART;TZID=Europe/Vienna:20200312T153000
DTEND;TZID=Europe/Vienna:20200312T173000
DTSTAMP:20260421T145502
CREATED:20200219T103157Z
LAST-MODIFIED:20200311T105337Z
UID:4612-1584027000-1584034200@katholisch-hernals.at
SUMMARY:Krankenwallfahrt abgesagt! Donnerstag-Club in Dornbach
DESCRIPTION:Wahres Leben ist Begegnung. Wir laden Sie herzlich zu unserem Donnerstag-Club jeden Donnerstag um 15.30 im Pfarrzentrum ein! Es erwartet Sie ein Nachmittag mit Impulsreferaten zu den Themen Lebenshilfe\, Kultur und Spiritualität mit Gesprächen\, Informationen und Getränken. Jeden ersten Donnerstag im Monat ist Spielenachmittag\, jeden dritten Donnerstag im Monat feiern wir mit einem kleinen künstlerischen Programm die Geburtstagskinder des Monats. \nProgramm im März: \n\n05.03. Spielenachmittag\nabgesagt!!!!: 12.03 Krankenwallfahrt zur Lourdesgrotte – Wienerwald\n19.03. Seniorennachmittag mit Geburtstagsfeier\n26.03. Dr. Alfred Racek: „Menschliches Maß und die Grenzen des Wachstums“
URL:https://katholisch-hernals.at/event/donnerstag-club-in-dornbach-03-2/
LOCATION:Pfarre Dornbach – Pfarrsaal\, Rupertusplatz 4\, Wien\, 1170\, Österreich
CATEGORIES:Austausch,Erwachsene,Gruppentreffen,Kreativität,Kultur,Pfarrcafe,Senioren,Singles,Spiel, Sport, Spaß,Spiritualität,Weiterbildung
ORGANIZER;CN="Pfarre Dornbach":MAILTO:kanzlei@pfarredornbach.at
END:VEVENT
BEGIN:VEVENT
DTSTART;TZID=Europe/Vienna:20200314T082000
DTEND;TZID=Europe/Vienna:20200314T163000
DTSTAMP:20260421T145502
CREATED:20200222T193301Z
LAST-MODIFIED:20200222T193301Z
UID:4654-1584174000-1584203400@katholisch-hernals.at
SUMMARY:Pilgerfahrt nach Klosterbruck (Znaim)
DESCRIPTION:200. Todesjahr von Klemens Maria Hofbauer\n \nFestgottesdienst mit Kardinal Christoph Schönborn und dem Bischof von Brünn\, sowie Redemptoristen aus vielen Ländern und Pilgern aus der Erzdiözese Wien. \nAbfahrt: Samstag\, 14. März\, 8:20 Uhr am Clemens Hofbauer-Platz\, 1170 Wien (Schneider-Reisebus). Fahrtzeit ca. 1 ½ Stunden. \n11:00 Uhr: Festgottesdienst in der Stiftskirche von Klosterbruck. Es werden dabei auch gesegnete Klemensweckerl verteilt. \nAnschl.: Fahrt nach Haugsdorf (Mittagsrast) und zurück nach Wien (Ankunft am Nachmittag). \nFahrtkostenbeitrag: € 15\,–. Anmeldung in der Pfarrkanzlei  (persönlich\, oder tel. 01 486 25 94* kanzlei@marienpfarre.at)\, bzw. in der Sakristei. \nBitte einen Personalausweis oder Reisepass mitnehmen. Klosterbruck liegt einige Kilometer nach der österr. Grenze in Tschechien.
URL:https://katholisch-hernals.at/event/pilgerfahrt-nach-klosterbruck-znaim/
CATEGORIES:Auswärts,Wallfahrt
ORGANIZER;CN="Marienpfarre":MAILTO:kanzlei@marienpfarre.at
END:VEVENT
BEGIN:VEVENT
DTSTART;TZID=Europe/Vienna:20200314T140000
DTEND;TZID=Europe/Vienna:20200314T180000
DTSTAMP:20260421T145502
CREATED:20200206T074136Z
LAST-MODIFIED:20200206T080317Z
UID:4569-1584194400-1584208800@katholisch-hernals.at
SUMMARY:Bücher-\, LP-\, CD-\, DVD- und Musikalien-Flohmarkt
DESCRIPTION:Sa. 14. März\, 14 bis 18 Uhr\nSo. 15. März\, 9.30 bis 18 Uhr \nBuch-\, Noten-\, CD-\, DVD- und LP-Spenden bitte in der Pfarrkanzlei abgeben:\nselbe Adresse\, Mo.–Fr. 9–12 Uhr\, Di. 14–17 Uhr
URL:https://katholisch-hernals.at/event/buecher-lp-cd-dvd-und-musikalien-flohmarkt/
LOCATION:Pfarre Hernals\, Sankt-Bartholomäus-Platz 3\, Wien\, 1170\, Österreich
CATEGORIES:Erwachsene,Flohmarkt,Kinder
ORGANIZER;CN="Pfarre Hernals":MAILTO:kanzlei@kalvarienbergkirche.at
END:VEVENT
BEGIN:VEVENT
DTSTART;VALUE=DATE:20200315
DTEND;VALUE=DATE:20200317
DTSTAMP:20260421T145502
CREATED:20200206T074232Z
LAST-MODIFIED:20200206T080425Z
UID:4572-1584234000-1584320399@katholisch-hernals.at
SUMMARY:Bücher-\, LP-\, CD-\, DVD- und Musikalien-Flohmarkt
DESCRIPTION:Sa. 14. März\, 14 bis 18 Uhr\nSo. 15. März\, 9.30 bis 18 Uhr \nBuch-\, Noten-\, CD-\, DVD- und LP-Spenden bitte in der Pfarrkanzlei abgeben:\nselbe Adresse\, Mo.–Fr. 9–12 Uhr\, Di. 14–17 Uhr
URL:https://katholisch-hernals.at/event/buecher-lp-cd-dvd-und-musikalien-flohmarkt-2/
LOCATION:Pfarre Hernals\, Sankt-Bartholomäus-Platz 3\, Wien\, 1170\, Österreich
CATEGORIES:Erwachsene,Flohmarkt,Kinder
ORGANIZER;CN="Pfarre Hernals":MAILTO:kanzlei@kalvarienbergkirche.at
END:VEVENT
BEGIN:VEVENT
DTSTART;TZID=Europe/Vienna:20200315T100000
DTEND;TZID=Europe/Vienna:20200315T110000
DTSTAMP:20260421T145502
CREATED:20190915T054009Z
LAST-MODIFIED:20190915T054009Z
UID:3811-1584266400-1584270000@katholisch-hernals.at
SUMMARY:Kindermesse Sühnekirche
DESCRIPTION:
URL:https://katholisch-hernals.at/event/kindermesse-2-2-3-3-3-2-2/
LOCATION:Sühnekirche\, Dr.-Josef-Resch-Platz 12\, Wien\, 1170\, Österreich
CATEGORIES:Gottesdienst,Kinder,Kinder 10-14,Kindergartenkinder 3-6,Kleinkinder 0-3,Paare mit Kindern,Schulkinder 6-10
ORGANIZER;CN="S%C3%BChnekirche":MAILTO:pfarramt-suehnekirche@chello.at
END:VEVENT
BEGIN:VEVENT
DTSTART;TZID=Europe/Vienna:20200315T110000
DTEND;TZID=Europe/Vienna:20200315T120000
DTSTAMP:20260421T145502
CREATED:20191217T134802Z
LAST-MODIFIED:20200219T102529Z
UID:4329-1584270000-1584273600@katholisch-hernals.at
SUMMARY:Lobpreis mit Kinderkirche in Dornbach
DESCRIPTION:https://katholisch-hernals.at/2019/10/17/lobpreis-in-dornbach/
URL:https://katholisch-hernals.at/event/lobpreis-in-dornbach-01-2-2-2-2/
LOCATION:Pfarre Dornbach – Kirche\, Rupertusplatz\, Wien\, 1170\, Österreich
CATEGORIES:Erwachsene,Fest,Gebet,Jugendliche 14+,Junge Erwachsene,Kinder,Musik (modern),Paare mit Kindern,Paare ohne Kinder,Singles,Spiritualität
ORGANIZER;CN="Pfarre Dornbach":MAILTO:kanzlei@pfarredornbach.at
END:VEVENT
BEGIN:VEVENT
DTSTART;TZID=Europe/Vienna:20200315T170000
DTEND;TZID=Europe/Vienna:20200315T180000
DTSTAMP:20260421T145502
CREATED:20200206T072132Z
LAST-MODIFIED:20200206T073309Z
UID:4559-1584291600-1584295200@katholisch-hernals.at
SUMMARY:Wie der Himmel auf Erden
DESCRIPTION:Obertonkonzert mit Alejandra Barber und musikalischen Gästen \nEintritt frei – Spende erbeten
URL:https://katholisch-hernals.at/event/wie-der-himmel-auf-erden/
LOCATION:Pfarre Hernals – Kirche\, Sankt-Bartholomäus-Platz 3\, Wien\, 1170\, Österreich
CATEGORIES:Erwachsene,Junge Erwachsene,Musik (klassisch),Musik (modern),Senioren
ORGANIZER;CN="Pfarre Hernals":MAILTO:kanzlei@kalvarienbergkirche.at
END:VEVENT
BEGIN:VEVENT
DTSTART;TZID=Europe/Vienna:20200317T081500
DTEND;TZID=Europe/Vienna:20200317T093000
DTSTAMP:20260421T145502
CREATED:20190925T073628Z
LAST-MODIFIED:20200312T165537Z
UID:3861-1584432900-1584437400@katholisch-hernals.at
SUMMARY:Abgesagt: Frauenmesse in Dornbach
DESCRIPTION:Die Frauenmesse wurde vor fast 40 Jahren ins Leben gerufen und erfreut sich immer noch eines ziemlich konstanten Besuchs. Das Besondere an dieser hl. Messe ist\, dass die Messvorbereitung immer eine andere Teilnehmerin macht. Selbstverständlich gibt es nach hl. Messe eine Agape\, wo noch weiterdiskutiert werden kann und persönliche Kontakte gepflegt und vertieft werden können.
URL:https://katholisch-hernals.at/event/frauenmesse-in-dornbach-2019/
LOCATION:Pfarre Dornbach – Pfarrsaal\, Rupertusplatz 4\, Wien\, 1170\, Österreich
CATEGORIES:Austausch,Erwachsene,Eucharistie,Gebet,Gottesdienst,Junge Erwachsene,Paare ohne Kinder,Sakrament,Senioren,Singles,Spiritualität
ORGANIZER;CN="Pfarre Dornbach":MAILTO:kanzlei@pfarredornbach.at
END:VEVENT
BEGIN:VEVENT
DTSTART;TZID=Europe/Vienna:20200317T183000
DTEND;TZID=Europe/Vienna:20200317T193000
DTSTAMP:20260421T145502
CREATED:20200220T152236Z
LAST-MODIFIED:20200312T165501Z
UID:4642-1584469800-1584473400@katholisch-hernals.at
SUMMARY:Abgesagt: Freude für die Seele in Dornbach
DESCRIPTION:Christliche Spiritualität heute gelebt \nDieses kontemplative Programm richtet sich an alle Interessierten: durch seine Vielfalt ist es ansprechend und durch seinen Inhalt wohltuend für Geist\, Körper und Seele zugleich. Dem stressgeplagten Menschen bringt es Entspannung\, Harmonisierung von Körper und Seele – und Freude\, die den ganzen Menschen erfüllt: Singen\, Tanzen\, Vesper beten\, Schweigen und Hören \nDas ganzheitliche Programm umfasst verschiedene Veranstaltungen an jedem Dienstag im Monat\, die unabhängig voneinander besucht werden können. Man kann also zB in einem Monat am jeweiligen Abend Vesper beten und Taizé-Gebete singen oder nur zum Sakralen Tanzen kommen. \nSakraler Tanz (1. Dienstag im Monat) – Vesper (2. Dienstag im Monat) – Taizé (3. Dienstag im Monat) – Meditation (4. Dienstag im Monat) -in Monaten mit fünf Dienstag\, fällt der letzte Dienstag aus. \nAnschließend gibt es jeweils eine kleine Agape zu einem gemütlichen Ausklang in Gemeinschaft. \n Wann und Wo: jeden Dienstag um 18.30 im Pfarrzentrum Dornbach\, Rupertusplatz 4
URL:https://katholisch-hernals.at/event/neu-freude-fuer-die-seele-in-dornbach-03-2-2/
LOCATION:Pfarre Dornbach – Pfarrsaal\, Rupertusplatz 4\, Wien\, 1170\, Österreich
CATEGORIES:Austausch,Erwachsene,Gebet,Junge Erwachsene,Kreativität,Kultur,Musik (klassisch),Musik (modern),Paare ohne Kinder,Senioren,Singles,Spiritualität
ATTACH;FMTTYPE=image/png:https://katholisch-hernals.at/wp-content/uploads/2019/05/Freude_fuer_die_Seele.png
ORGANIZER;CN="Pfarre Dornbach":MAILTO:kanzlei@pfarredornbach.at
END:VEVENT
BEGIN:VEVENT
DTSTART;TZID=Europe/Vienna:20200317T193000
DTEND;TZID=Europe/Vienna:20200317T203000
DTSTAMP:20260421T145502
CREATED:20200206T073658Z
LAST-MODIFIED:20200206T073658Z
UID:4567-1584473400-1584477000@katholisch-hernals.at
SUMMARY:Meditation in Bild und Ton
DESCRIPTION:Die Darstellung der Hauptsünden am Kalvarienberg aus der Nähe betrachtet\, mit Vertonungen auf der Orgel \nMit Andreas Fuchs (Orgel) und Benedikt Eibner (Multimedia) \nEintritt frei – Spende erbeten
URL:https://katholisch-hernals.at/event/meditation-in-bild-und-ton/
LOCATION:Pfarre Hernals – Kirche\, Sankt-Bartholomäus-Platz 3\, Wien\, 1170\, Österreich
CATEGORIES:Erwachsene,Junge Erwachsene,Musik (klassisch),Musik (modern),Senioren
ORGANIZER;CN="Pfarre Hernals":MAILTO:kanzlei@kalvarienbergkirche.at
END:VEVENT
BEGIN:VEVENT
DTSTART;TZID=Europe/Vienna:20200318T180000
DTEND;TZID=Europe/Vienna:20200318T190000
DTSTAMP:20260421T145502
CREATED:20200318T102301Z
LAST-MODIFIED:20200318T102432Z
UID:4808-1584554400-1584558000@katholisch-hernals.at
SUMMARY:Streaming Hl. Messe aus Dornbach
DESCRIPTION:Sie können via Streaming die Hl. Messe mitfeiern: www.facebook.com/gottonline17/
URL:https://katholisch-hernals.at/event/streaming-hl-messe-aus-dornbach/
LOCATION:Streaming
CATEGORIES:Erwachsene,Eucharistie,Gottesdienst,Jugendliche 14+,Kinder,Sakrament,Spiritualität
ORGANIZER;CN="Pfarre Dornbach":MAILTO:kanzlei@pfarredornbach.at
END:VEVENT
BEGIN:VEVENT
DTSTART;TZID=Europe/Vienna:20200318T183000
DTEND;TZID=Europe/Vienna:20200318T183000
DTSTAMP:20260421T145502
CREATED:20200129T070304Z
LAST-MODIFIED:20200206T071536Z
UID:4498-1584556200-1584556200@katholisch-hernals.at
SUMMARY:Demenzfreundlicher Gottesdienst
DESCRIPTION:Gottesdienst mit vergesslichen Menschen und allen anderen\nJeden 3. Mittwoch im Monat um 18.30 Uhr
URL:https://katholisch-hernals.at/event/demenzfreundlicher-gottesdienst-2/
LOCATION:Göttlicher Heiland Krankenhaus – Kirche\, Dornbacher Straße 20–30\, Wien\, 1170\, Österreich
CATEGORIES:Erwachsene,Gottesdienst,Senioren
END:VEVENT
BEGIN:VEVENT
DTSTART;TZID=Europe/Vienna:20200319T080000
DTEND;TZID=Europe/Vienna:20200319T090000
DTSTAMP:20260421T145502
CREATED:20200318T102334Z
LAST-MODIFIED:20200318T102355Z
UID:4811-1584604800-1584608400@katholisch-hernals.at
SUMMARY:Streaming Hl. Messe aus Dornbach
DESCRIPTION:Sie können via Streaming die Hl. Messe mitfeiern: www.facebook.com/gottonline17/
URL:https://katholisch-hernals.at/event/streaming-hl-messe-aus-dornbach-2/
LOCATION:Streaming
CATEGORIES:Erwachsene,Eucharistie,Gottesdienst,Jugendliche 14+,Kinder,Sakrament,Spiritualität
ORGANIZER;CN="Pfarre Dornbach":MAILTO:kanzlei@pfarredornbach.at
END:VEVENT
BEGIN:VEVENT
DTSTART;TZID=Europe/Vienna:20200319T153000
DTEND;TZID=Europe/Vienna:20200319T173000
DTSTAMP:20260421T145502
CREATED:20200219T103215Z
LAST-MODIFIED:20200311T105651Z
UID:4614-1584631800-1584639000@katholisch-hernals.at
SUMMARY:abgesagt: Senioren-Nachmittag in Dornbach
DESCRIPTION:Wahres Leben ist Begegnung. Wir laden Sie herzlich zu unserem Donnerstag-Club jeden Donnerstag um 15.30 im Pfarrzentrum ein! Es erwartet Sie ein Nachmittag mit Impulsreferaten zu den Themen Lebenshilfe\, Kultur und Spiritualität mit Gesprächen\, Informationen und Getränken. Jeden ersten Donnerstag im Monat ist Spielenachmittag\, jeden dritten Donnerstag im Monat feiern wir mit einem kleinen künstlerischen Programm die Geburtstagskinder des Monats. \nProgramm im März: \n\n05.03. Spielenachmittag\nabgesagt!!!: 12.03 Krankenwallfahrt zur Lourdesgrotte – Wienerwald\nabgesagt!!!!: 19.03. Seniorennachmittag mit Geburtstagsfeier\n26.03. Dr. Alfred Racek: „Menschliches Maß und die Grenzen des Wachstums“
URL:https://katholisch-hernals.at/event/donnerstag-club-in-dornbach-03-2-2/
LOCATION:Pfarre Dornbach – Pfarrsaal\, Rupertusplatz 4\, Wien\, 1170\, Österreich
CATEGORIES:Austausch,Erwachsene,Gruppentreffen,Kreativität,Kultur,Pfarrcafe,Senioren,Singles,Spiel, Sport, Spaß,Spiritualität,Weiterbildung
ORGANIZER;CN="Pfarre Dornbach":MAILTO:kanzlei@pfarredornbach.at
END:VEVENT
BEGIN:VEVENT
DTSTART;TZID=Europe/Vienna:20200321T100000
DTEND;TZID=Europe/Vienna:20200321T120000
DTSTAMP:20260421T145502
CREATED:20190905T104135Z
LAST-MODIFIED:20190905T104135Z
UID:3704-1584784800-1584792000@katholisch-hernals.at
SUMMARY:Jugend- und Ministrantentreffen in Dornbach
DESCRIPTION:ALLE KINDER und JUGENDLICHEN sind herzlich eingeladen – ob sie ministrieren oder nicht! Wir treffen einander einmal im Monat an einem Samstag zwischen 10.00 und 12.00 Uhr zum Ministrieren-Üben\, Plaudern\, Glauben erleben und auch Kuchen\, Kakao und Spielen genießen. In den Gottesdiensten ministrieren können alle Kinder ab dem Schulalter und auch Jugendliche! Für die jugendlichen Minis gibt es  (teilweise) ein eigenes Programm! \nInfos und Anmeldung bei Jungschar- u. MinistrantInnen-Leiter Wolfgang Ruckenbauer oder in der Pfarrkanzlei! \n\n← Zurück Vielen Dank für deine Antwort. ✨\n\n\n					\n						\n							\n							\n						\n						\n						\n						\n						\n							\n								\n									\n										\n										\n									\n									\n										\n										\n									\n								\n							\n						\n						\n							\n								\n									\n									\n										\n									\n									\n									\n								\n							\n						\n					\n				\n\n\n\nName(erforderlich)\n\n \n			\n				\n					\n						\n						\n						\n					\n				\n				\n			 \n	\n\n\nE-Mail (erforderlich)\n\n \n			\n				\n					\n						\n						\n						\n					\n				\n				\n			 \n	\n\n\nWebsite\n\n \n			\n				\n					\n						\n						\n						\n					\n				\n				\n			 \n	\n\n\nNachricht\n\n \n			\n				\n					\n						\n						\n						\n					\n				\n				\n			\n	\n	\n\n				\n					\n				\n						Senden		\n		\n		\n	 \nΔ
URL:https://katholisch-hernals.at/event/jugend-und-ministrantentreffen-in-dornbach-2-2-3-2-2/
LOCATION:Pfarre Dornbach\, Rupertusplatz\, Wien\, 1170\, Österreich
CATEGORIES:Austausch,Gebet,Gruppentreffen,Jugendliche 14+,Kinder,Kinder 10-14,Kultur,Schulkinder 6-10,Spiel, Sport, Spaß,Spiritualität,Weiterbildung
ORGANIZER;CN="Pfarre Dornbach":MAILTO:kanzlei@pfarredornbach.at
END:VEVENT
BEGIN:VEVENT
DTSTART;TZID=Europe/Vienna:20200325T180000
DTEND;TZID=Europe/Vienna:20200325T190000
DTSTAMP:20260421T145502
CREATED:20200324T161849Z
LAST-MODIFIED:20200324T162706Z
UID:4900-1585159200-1585162800@katholisch-hernals.at
SUMMARY:HOCHFEST Verkündigung des Herrn
DESCRIPTION:Hochfest Verkündigung des Herrn\, Livestream aus der Pfarre Dornbach
URL:https://katholisch-hernals.at/event/hochfest-verkuendigung-des-herrn/
LOCATION:Livestream – Facebook
CATEGORIES:Erwachsene,Gottesdienst,Jugendliche 14+,Junge Erwachsene,Kinder,Kinder 10-14,Paare ohne Kinder,Senioren,Singles
ORGANIZER;CN="Pfarre Dornbach":MAILTO:kanzlei@pfarredornbach.at
END:VEVENT
BEGIN:VEVENT
DTSTART;TZID=Europe/Vienna:20200329T093000
DTEND;TZID=Europe/Vienna:20200329T103000
DTSTAMP:20260421T145502
CREATED:20200324T162220Z
LAST-MODIFIED:20200325T165734Z
UID:4905-1585474200-1585477800@katholisch-hernals.at
SUMMARY:Livestream Hl. Messe aus der Marienkirche
DESCRIPTION:Livestream der Hl. Messe aus der Marienkirche
URL:https://katholisch-hernals.at/event/livestream-hl-messe-aus-der-marienkirche/
LOCATION:Livestream – YouTube Marienpfarre
CATEGORIES:Erwachsene,Gottesdienst,Jugendliche 14+,Junge Erwachsene,Kinder,Kinder 10-14,Paare mit Kindern,Paare ohne Kinder,Schulkinder 6-10,Senioren,Singles
ORGANIZER;CN="Marienpfarre":MAILTO:kanzlei@marienpfarre.at
END:VEVENT
BEGIN:VEVENT
DTSTART;TZID=Europe/Vienna:20200329T110000
DTEND;TZID=Europe/Vienna:20200329T120000
DTSTAMP:20260421T145502
CREATED:20200324T162035Z
LAST-MODIFIED:20200328T130008Z
UID:4903-1585479600-1585483200@katholisch-hernals.at
SUMMARY:Livestream Lobpreismesse aus Dornbach
DESCRIPTION:Livestream der Lobpreismesse aus der Pfarre Dornbach mit Schaf Emma. Achtung\, um 11:00! \nAb 10:45 beginnt der Lobpreis schon im Livestream.
URL:https://katholisch-hernals.at/event/lobpreismesse-livestream/
LOCATION:Livestream – Facebook
CATEGORIES:Erwachsene,Gottesdienst,Jugendliche 14+,Junge Erwachsene,Kinder,Kinder 10-14,Lobpreis,Paare ohne Kinder,Senioren,Singles
ORGANIZER;CN="Pfarre Dornbach":MAILTO:kanzlei@pfarredornbach.at
END:VEVENT
END:VCALENDAR