BEGIN:VCALENDAR
VERSION:2.0
PRODID:-//Pfarrverband Hernals - ECPv6.15.20//NONSGML v1.0//EN
CALSCALE:GREGORIAN
METHOD:PUBLISH
X-WR-CALNAME:Pfarrverband Hernals
X-ORIGINAL-URL:https://katholisch-hernals.at
X-WR-CALDESC:Veranstaltungen für Pfarrverband Hernals
REFRESH-INTERVAL;VALUE=DURATION:PT1H
X-Robots-Tag:noindex
X-PUBLISHED-TTL:PT1H
BEGIN:VTIMEZONE
TZID:Europe/Vienna
BEGIN:DAYLIGHT
TZOFFSETFROM:+0100
TZOFFSETTO:+0200
TZNAME:CEST
DTSTART:20190331T010000
END:DAYLIGHT
BEGIN:STANDARD
TZOFFSETFROM:+0200
TZOFFSETTO:+0100
TZNAME:CET
DTSTART:20191027T010000
END:STANDARD
BEGIN:DAYLIGHT
TZOFFSETFROM:+0100
TZOFFSETTO:+0200
TZNAME:CEST
DTSTART:20200329T010000
END:DAYLIGHT
BEGIN:STANDARD
TZOFFSETFROM:+0200
TZOFFSETTO:+0100
TZNAME:CET
DTSTART:20201025T010000
END:STANDARD
BEGIN:DAYLIGHT
TZOFFSETFROM:+0100
TZOFFSETTO:+0200
TZNAME:CEST
DTSTART:20210328T010000
END:DAYLIGHT
BEGIN:STANDARD
TZOFFSETFROM:+0200
TZOFFSETTO:+0100
TZNAME:CET
DTSTART:20211031T010000
END:STANDARD
END:VTIMEZONE
BEGIN:VEVENT
DTSTART;VALUE=DATE:20200905
DTEND;VALUE=DATE:20200907
DTSTAMP:20260421T171715
CREATED:20200626T114235Z
LAST-MODIFIED:20200626T114235Z
UID:6046-1599267600-1599353999@katholisch-hernals.at
SUMMARY:Internationale Wallfahrt nach Taßwitz
DESCRIPTION:Internationale Wallfahrt nach Taßwitz zum Klemensjahr 2020 mit Bischof Aichern
URL:https://katholisch-hernals.at/event/internationale-wallfahrt-nach-tasswitz/
CATEGORIES:Auswärts,Erwachsene,Gottesdienst,Jugendliche 14+,Junge Erwachsene,Kinder,Kinder 10-14,Paare mit Kindern,Paare ohne Kinder,Schulkinder 6-10,Senioren,Singles,Wallfahrt
ORGANIZER;CN="Marienpfarre":MAILTO:kanzlei@marienpfarre.at
END:VEVENT
BEGIN:VEVENT
DTSTART;TZID=Europe/Vienna:20200908T180000
DTEND;TZID=Europe/Vienna:20200908T190000
DTSTAMP:20260421T171715
CREATED:20200901T112350Z
LAST-MODIFIED:20200901T112350Z
UID:6362-1599588000-1599591600@katholisch-hernals.at
SUMMARY:Hl. Messe Maria Geburt in Dornbach
DESCRIPTION:
URL:https://katholisch-hernals.at/event/hl-messe-maria-geburt-in-dornbach/
LOCATION:Pfarre Dornbach – Kirche\, Rupertusplatz\, Wien\, 1170\, Österreich
CATEGORIES:Erwachsene,Eucharistie,Gebet,Jugendliche 14+,Kinder,Sakrament,Spiritualität
ORGANIZER;CN="Pfarre Dornbach":MAILTO:kanzlei@pfarredornbach.at
END:VEVENT
BEGIN:VEVENT
DTSTART;TZID=Europe/Vienna:20200908T183000
DTEND;TZID=Europe/Vienna:20200908T193000
DTSTAMP:20260421T171715
CREATED:20200522T141136Z
LAST-MODIFIED:20200901T121821Z
UID:5466-1599589800-1599593400@katholisch-hernals.at
SUMMARY:Freude für die Seele in Dornbach - Vesper
DESCRIPTION:Christliche Spiritualität heute gelebt \nDieses kontemplative Programm richtet sich an alle Interessierten: durch seine Vielfalt ist es ansprechend und durch seinen Inhalt wohltuend für Geist\, Körper und Seele zugleich. Dem stressgeplagten Menschen bringt es Entspannung\, Harmonisierung von Körper und Seele – und Freude\, die den ganzen Menschen erfüllt: Vesper beten\, Taizé-Gebet\, Schweigen und Hören \nWo: Pfarrzentrum Dornbach\, Rupertusplatz 4
URL:https://katholisch-hernals.at/event/neu-freude-fuer-die-seele-in-dornbach-06/
LOCATION:Pfarre Dornbach – Pfarrsaal\, Rupertusplatz 4\, Wien\, 1170\, Österreich
CATEGORIES:Austausch,Erwachsene,Gebet,Junge Erwachsene,Kreativität,Kultur,Musik (klassisch),Musik (modern),Paare ohne Kinder,Senioren,Singles,Spiritualität
ATTACH;FMTTYPE=image/png:https://katholisch-hernals.at/wp-content/uploads/2019/05/Freude_fuer_die_Seele.png
ORGANIZER;CN="Pfarre Dornbach":MAILTO:kanzlei@pfarredornbach.at
END:VEVENT
BEGIN:VEVENT
DTSTART;TZID=Europe/Vienna:20200910T100000
DTEND;TZID=Europe/Vienna:20200910T110000
DTSTAMP:20260421T171715
CREATED:20200901T112621Z
LAST-MODIFIED:20200901T112621Z
UID:6368-1599732000-1599735600@katholisch-hernals.at
SUMMARY:Wortgottesdienst Pensionistenwohnhaus Alszeile\, Dornbach
DESCRIPTION:
URL:https://katholisch-hernals.at/event/hl-messe-pensionistenwohnhaus-alszeile-09/
LOCATION:Pfarre Dornbach – Pensionistenwohnhaus Alszeile\, Alszeile 73\, Wien\, Wien\, 1170\, Österreich
CATEGORIES:Erwachsene,Eucharistie,Sakrament,Senioren
ORGANIZER;CN="Pfarre Dornbach":MAILTO:kanzlei@pfarredornbach.at
END:VEVENT
BEGIN:VEVENT
DTSTART;TZID=Europe/Vienna:20200912T080000
DTEND;TZID=Europe/Vienna:20200912T090000
DTSTAMP:20260421T171715
CREATED:20200901T112424Z
LAST-MODIFIED:20200901T112424Z
UID:6364-1599897600-1599901200@katholisch-hernals.at
SUMMARY:Hl. Messe Maria Namen in Dornbach
DESCRIPTION:
URL:https://katholisch-hernals.at/event/hl-messe-maria-geburt-in-dornbach-2/
LOCATION:Pfarre Dornbach – Kirche\, Rupertusplatz\, Wien\, 1170\, Österreich
CATEGORIES:Erwachsene,Eucharistie,Gebet,Jugendliche 14+,Kinder,Sakrament,Spiritualität
ORGANIZER;CN="Pfarre Dornbach":MAILTO:kanzlei@pfarredornbach.at
END:VEVENT
BEGIN:VEVENT
DTSTART;TZID=Europe/Vienna:20200912T150000
DTEND;TZID=Europe/Vienna:20200912T200000
DTSTAMP:20260421T171715
CREATED:20200621T194716Z
LAST-MODIFIED:20200621T200723Z
UID:5994-1599922800-1599940800@katholisch-hernals.at
SUMMARY:Modul 7 - Firmvorbereitung
DESCRIPTION:Zusätzliches Modul der Firmvorbereitung 2019-20.
URL:https://katholisch-hernals.at/event/modul-7-firmvorbereitung/
CATEGORIES:Firmung,Jugendliche 14+
END:VEVENT
BEGIN:VEVENT
DTSTART;TZID=Europe/Vienna:20200913T093000
DTEND;TZID=Europe/Vienna:20200913T103000
DTSTAMP:20260421T171715
CREATED:20200626T114335Z
LAST-MODIFIED:20200626T114335Z
UID:6048-1599989400-1599993000@katholisch-hernals.at
SUMMARY:„Startgottesdienst“ der Marienpfarre
DESCRIPTION:
URL:https://katholisch-hernals.at/event/startgottesdienst-der-marienpfarre/
LOCATION:Marienpfarre – Kirche\, Clemens Hofbauerplatz\, Wien\, 1170\, Österreich
CATEGORIES:Erwachsene,Gottesdienst,Jugendliche 14+,Junge Erwachsene,Kinder,Kinder 10-14,Kindergartenkinder 3-6,Kleinkinder 0-3,Paare mit Kindern,Paare ohne Kinder,Pfarrcafe,Schulkinder 6-10,Senioren,Singles
ORGANIZER;CN="Marienpfarre":MAILTO:kanzlei@marienpfarre.at
END:VEVENT
BEGIN:VEVENT
DTSTART;TZID=Europe/Vienna:20200913T100000
DTEND;TZID=Europe/Vienna:20200913T110000
DTSTAMP:20260421T171715
CREATED:20200901T122350Z
LAST-MODIFIED:20200901T122350Z
UID:6378-1599991200-1599994800@katholisch-hernals.at
SUMMARY:Dirndlgwandsonntag Hl. Messe in Dornbach
DESCRIPTION:Kommen Sie in Tracht in die Kirche!
URL:https://katholisch-hernals.at/event/dirndlgwandsonntag-hl-messe-in-dornbach/
LOCATION:Pfarre Dornbach – Kirche\, Rupertusplatz\, Wien\, 1170\, Österreich
CATEGORIES:Erwachsene,Eucharistie,Gebet,Gottesdienst,Jugendliche 14+,Kinder,Sakrament,Spiritualität
ORGANIZER;CN="Pfarre Dornbach":MAILTO:kanzlei@pfarredornbach.at
END:VEVENT
BEGIN:VEVENT
DTSTART;TZID=Europe/Vienna:20200915T180000
DTEND;TZID=Europe/Vienna:20200915T200000
DTSTAMP:20260421T171715
CREATED:20200621T201017Z
LAST-MODIFIED:20200621T201857Z
UID:6003-1600192800-1600200000@katholisch-hernals.at
SUMMARY:Beichtgelegenheit der Firmlinge
DESCRIPTION:Nach einer kurzen inhaltlichen Vorbereitung haben die Firmlinge die Möglichkeit zur Beichte zu gehen.
URL:https://katholisch-hernals.at/event/firmbeichte2020/
LOCATION:Kalvarienbergkirche\, Sankt-Bartholomäus-Platz\, Wien\, 1170\, Österreich
CATEGORIES:Beichte,Firmung,Jugendliche 14+
ORGANIZER;CN="Firmteam":MAILTO:firmung@katholisch-hernals.at
END:VEVENT
BEGIN:VEVENT
DTSTART;TZID=Europe/Vienna:20200919T100000
DTEND;TZID=Europe/Vienna:20200919T120000
DTSTAMP:20260421T171716
CREATED:20190905T104154Z
LAST-MODIFIED:20200903T141335Z
UID:3706-1600509600-1600516800@katholisch-hernals.at
SUMMARY:Jugend- und Ministrantentreffen in Dornbach
DESCRIPTION:ALLE KINDER und JUGENDLICHEN sind herzlich eingeladen – ob sie ministrieren oder nicht! Wir treffen einander einmal im Monat an einem Samstag zwischen 10.00 und 12.00 Uhr zum Ministrieren-Üben\, Plaudern\, Glauben erleben und auch Kuchen\, Kakao und Spielen genießen. In den Gottesdiensten ministrieren können alle Kinder ab dem Schulalter und auch Jugendliche! Für die jugendlichen Minis gibt es  (teilweise) ein eigenes Programm! \nInfos und Anmeldung bei Jungschar- u. MinistrantInnen-Leiter Wolfgang Ruckenbauer oder in der Pfarrkanzlei! \n\n← Zurück Vielen Dank für deine Antwort. ✨\n\n\n					\n						\n							\n							\n						\n						\n						\n						\n						\n							\n								\n									\n										\n										\n									\n									\n										\n										\n									\n								\n							\n						\n						\n							\n								\n									\n									\n										\n									\n									\n									\n								\n							\n						\n					\n				\n\n\n\nName(erforderlich)\n\n \n			\n				\n					\n						\n						\n						\n					\n				\n				\n			 \n	\n\n\nE-Mail (erforderlich)\n\n \n			\n				\n					\n						\n						\n						\n					\n				\n				\n			 \n	\n\n\nWebsite\n\n \n			\n				\n					\n						\n						\n						\n					\n				\n				\n			 \n	\n\n\nNachricht\n\n \n			\n				\n					\n						\n						\n						\n					\n				\n				\n			\n	\n	\n\n				\n					\n				\n						Senden		\n		\n		\n	 \nΔ
URL:https://katholisch-hernals.at/event/jugend-und-ministrantentreffen-in-dornbach-09/
LOCATION:Pfarre Dornbach\, Rupertusplatz\, Wien\, 1170\, Österreich
CATEGORIES:Austausch,Gebet,Gruppentreffen,Jugendliche 14+,Kinder,Kinder 10-14,Kultur,Schulkinder 6-10,Spiel, Sport, Spaß,Spiritualität,Weiterbildung
ORGANIZER;CN="Pfarre Dornbach":MAILTO:kanzlei@pfarredornbach.at
END:VEVENT
BEGIN:VEVENT
DTSTART;TZID=Europe/Vienna:20200923T190000
DTEND;TZID=Europe/Vienna:20200923T200000
DTSTAMP:20260421T171716
CREATED:20200917T090015Z
LAST-MODIFIED:20200917T090015Z
UID:6486-1600887600-1600891200@katholisch-hernals.at
SUMMARY:Elternabend Erstkommunion 2020/21
DESCRIPTION:
URL:https://katholisch-hernals.at/event/elternabend-erstkommunion-2020-21/
LOCATION:Pfarre Dornbach – Kirche\, Rupertusplatz\, Wien\, 1170\, Österreich
CATEGORIES:Erstkommunion,Paare mit Kindern
ORGANIZER;CN="Pfarre Dornbach":MAILTO:kanzlei@pfarredornbach.at
END:VEVENT
BEGIN:VEVENT
DTSTART;TZID=Europe/Vienna:20200926T150000
DTEND;TZID=Europe/Vienna:20200926T170000
DTSTAMP:20260421T171716
CREATED:20200626T114521Z
LAST-MODIFIED:20200626T114521Z
UID:6050-1601132400-1601139600@katholisch-hernals.at
SUMMARY:Diakonenweihe von Dr. Peter Bartsch und Dr. Johannes Kirchner
DESCRIPTION:Diakonenweihe von Dr. Peter Bartsch und Dr. Johannes Kirchner im Stephansdom
URL:https://katholisch-hernals.at/event/diakonenweihe-von-dr-peter-bartsch-und-dr-johannes-kirchner/
CATEGORIES:Erwachsene,Gottesdienst,Junge Erwachsene,Paare ohne Kinder,Senioren,Singles
END:VEVENT
BEGIN:VEVENT
DTSTART;TZID=Europe/Vienna:20200929T180000
DTEND;TZID=Europe/Vienna:20200929T190000
DTSTAMP:20260421T171716
CREATED:20200901T112509Z
LAST-MODIFIED:20200901T112509Z
UID:6366-1601402400-1601406000@katholisch-hernals.at
SUMMARY:Hl. Messe Erzengel Michael\, Rafael und Gabriel in Dornbach
DESCRIPTION:
URL:https://katholisch-hernals.at/event/hl-messe-maria-geburt-in-dornbach-2-2/
LOCATION:Pfarre Dornbach – Kirche\, Rupertusplatz\, Wien\, 1170\, Österreich
CATEGORIES:Erwachsene,Eucharistie,Gebet,Jugendliche 14+,Kinder,Sakrament,Spiritualität
ORGANIZER;CN="Pfarre Dornbach":MAILTO:kanzlei@pfarredornbach.at
END:VEVENT
END:VCALENDAR