BEGIN:VCALENDAR
VERSION:2.0
PRODID:-//Pfarrverband Hernals - ECPv6.15.20//NONSGML v1.0//EN
CALSCALE:GREGORIAN
METHOD:PUBLISH
X-ORIGINAL-URL:https://katholisch-hernals.at
X-WR-CALDESC:Veranstaltungen für Pfarrverband Hernals
REFRESH-INTERVAL;VALUE=DURATION:PT1H
X-Robots-Tag:noindex
X-PUBLISHED-TTL:PT1H
BEGIN:VTIMEZONE
TZID:Europe/Vienna
BEGIN:DAYLIGHT
TZOFFSETFROM:+0100
TZOFFSETTO:+0200
TZNAME:CEST
DTSTART:20190331T010000
END:DAYLIGHT
BEGIN:STANDARD
TZOFFSETFROM:+0200
TZOFFSETTO:+0100
TZNAME:CET
DTSTART:20191027T010000
END:STANDARD
BEGIN:DAYLIGHT
TZOFFSETFROM:+0100
TZOFFSETTO:+0200
TZNAME:CEST
DTSTART:20200329T010000
END:DAYLIGHT
BEGIN:STANDARD
TZOFFSETFROM:+0200
TZOFFSETTO:+0100
TZNAME:CET
DTSTART:20201025T010000
END:STANDARD
BEGIN:DAYLIGHT
TZOFFSETFROM:+0100
TZOFFSETTO:+0200
TZNAME:CEST
DTSTART:20210328T010000
END:DAYLIGHT
BEGIN:STANDARD
TZOFFSETFROM:+0200
TZOFFSETTO:+0100
TZNAME:CET
DTSTART:20211031T010000
END:STANDARD
END:VTIMEZONE
BEGIN:VEVENT
DTSTART;TZID=Europe/Vienna:20201214T163000
DTEND;TZID=Europe/Vienna:20201214T173000
DTSTAMP:20260421T130643
CREATED:20201013T121045Z
LAST-MODIFIED:20201013T121705Z
UID:6672-1607963400-1607967000@katholisch-hernals.at
SUMMARY:Montagsforum
DESCRIPTION:Was uns Erstes und Zweites Testament über jüdische und christliche Werte lehren.\nReferentin:Prof. Dr. Regina Polak
URL:https://katholisch-hernals.at/event/montagsforum-2/
LOCATION:Kalvarienbergkirche\, Sankt-Bartholomäus-Platz\, Wien\, 1170\, Österreich
CATEGORIES:Weiterbildung
ORGANIZER;CN="Pfarre Hernals":MAILTO:kanzlei@kalvarienbergkirche.at
END:VEVENT
BEGIN:VEVENT
DTSTART;TZID=Europe/Vienna:20201215T063000
DTEND;TZID=Europe/Vienna:20201215T073000
DTSTAMP:20260421T130643
CREATED:20191105T123612Z
LAST-MODIFIED:20201215T155540Z
UID:4021-1608013800-1608017400@katholisch-hernals.at
SUMMARY:Rorate in Dornbach
DESCRIPTION:beim Mariazeller Altar
URL:https://katholisch-hernals.at/event/rorate-in-dornbach-2-3/
LOCATION:Pfarre Dornbach – Kirche\, Rupertusplatz\, Wien\, 1170\, Österreich
CATEGORIES:Erwachsene,Gebet,Gottesdienst,Jugendliche 14+,Junge Erwachsene,Kinder 10-14,Paare ohne Kinder,Senioren,Singles,Spiritualität
ATTACH;FMTTYPE=image/jpeg:https://katholisch-hernals.at/wp-content/uploads/2017/11/Gobelin_Maria_Ausschnitt_Engel.jpg
ORGANIZER;CN="Pfarre Dornbach":MAILTO:kanzlei@pfarredornbach.at
END:VEVENT
BEGIN:VEVENT
DTSTART;TZID=Europe/Vienna:20201220T100000
DTEND;TZID=Europe/Vienna:20201220T110000
DTSTAMP:20260421T130643
CREATED:20200116T155233Z
LAST-MODIFIED:20201210T093927Z
UID:4458-1608458400-1608462000@katholisch-hernals.at
SUMMARY:Kinderkirche in Dornbach
DESCRIPTION:Kinderkirche für Kinder im Vorschulalter! Wir beginnen um 10.00 mit einem kindgerechten Wortgottesdienst im Pfarrzentrum. Dann gehen wir gemeinsam mit den Kindern zu den anderen in die Messe und feiern dort weiter.
URL:https://katholisch-hernals.at/event/kinderkirche-in-dornbach/
LOCATION:Pfarre Dornbach – Kirche\, Rupertusplatz\, Wien\, 1170\, Österreich
CATEGORIES:Gottesdienst,Kinder,Kindergartenkinder 3-6,Kleinkinder 0-3,Paare mit Kindern,Spiritualität
ORGANIZER;CN="Pfarre Dornbach":MAILTO:kanzlei@pfarredornbach.at
END:VEVENT
BEGIN:VEVENT
DTSTART;TZID=Europe/Vienna:20201222T063000
DTEND;TZID=Europe/Vienna:20201222T073000
DTSTAMP:20260421T130643
CREATED:20201210T094101Z
LAST-MODIFIED:20201210T094101Z
UID:7149-1608618600-1608622200@katholisch-hernals.at
SUMMARY:Rorate in Dornbach
DESCRIPTION:beim Mariazeller Altar
URL:https://katholisch-hernals.at/event/rorate-in-dornbach-2-3-2/
LOCATION:Pfarre Dornbach – Kirche\, Rupertusplatz\, Wien\, 1170\, Österreich
CATEGORIES:Erwachsene,Gebet,Gottesdienst,Jugendliche 14+,Junge Erwachsene,Kinder 10-14,Paare ohne Kinder,Senioren,Singles,Spiritualität
ATTACH;FMTTYPE=image/jpeg:https://katholisch-hernals.at/wp-content/uploads/2017/11/Gobelin_Maria_Ausschnitt_Engel.jpg
ORGANIZER;CN="Pfarre Dornbach":MAILTO:kanzlei@pfarredornbach.at
END:VEVENT
BEGIN:VEVENT
DTSTART;TZID=Europe/Vienna:20201224T153000
DTEND;TZID=Europe/Vienna:20201224T173000
DTSTAMP:20260421T130643
CREATED:20201215T155915Z
LAST-MODIFIED:20201215T155915Z
UID:7185-1608823800-1608831000@katholisch-hernals.at
SUMMARY:Kinderandacht in Dornbach
DESCRIPTION:Herzliche Einladung zur Krippenandacht  \n24.12.2020 zwischen 15:30 und 17:30 Pfarrkirche Dornbach \nAufgrund von Covid19 wird pro Familie ein Zeitfenster eingeplant. Dazu bitten wir um Ihre verbindliche Anmeldung unter: \npetra.huchler@pfarredornbach.at  \n0676 357 54 71 (08:00 – 17:00) \nDie Pfadfinder verteilen das Licht von Bethlehem
URL:https://katholisch-hernals.at/event/kinderandacht-in-dornbach-19-2/
LOCATION:Pfarre Dornbach – Kirche\, Rupertusplatz\, Wien\, 1170\, Österreich
CATEGORIES:Gebet,Gruppentreffen,Kinder,Kinder 10-14,Kindergartenkinder 3-6,Kleinkinder 0-3,Paare mit Kindern,Schulkinder 6-10
ATTACH;FMTTYPE=image/jpeg:https://katholisch-hernals.at/wp-content/uploads/2018/11/Krippe_Dornbach.jpg
ORGANIZER;CN="Pfarre Dornbach":MAILTO:kanzlei@pfarredornbach.at
END:VEVENT
BEGIN:VEVENT
DTSTART;TZID=Europe/Vienna:20201224T230000
DTEND;TZID=Europe/Vienna:20201224T235900
DTSTAMP:20260421T130643
CREATED:20181129T133640Z
LAST-MODIFIED:20201211T094121Z
UID:2080-1608850800-1608854340@katholisch-hernals.at
SUMMARY:Christmette in Dornbach
DESCRIPTION:
URL:https://katholisch-hernals.at/event/christmette-in-dornbach-19/
LOCATION:Pfarre Dornbach – Kirche\, Rupertusplatz\, Wien\, 1170\, Österreich
CATEGORIES:Erwachsene,Gebet,Gottesdienst,Jugendliche 14+,Junge Erwachsene,Kinder 10-14,Paare mit Kindern,Paare ohne Kinder,Sakrament,Senioren,Singles
ATTACH;FMTTYPE=image/jpeg:https://katholisch-hernals.at/wp-content/uploads/2018/11/Gobelin-Maria-Altar-Weihnachten-2012.jpg
ORGANIZER;CN="Pfarre Dornbach":MAILTO:kanzlei@pfarredornbach.at
END:VEVENT
BEGIN:VEVENT
DTSTART;TZID=Europe/Vienna:20201225T190000
DTEND;TZID=Europe/Vienna:20201225T210000
DTSTAMP:20260421T130643
CREATED:20201013T122159Z
LAST-MODIFIED:20201013T122159Z
UID:6681-1608922800-1608930000@katholisch-hernals.at
SUMMARY:Hochamt zum Weihnachtsfest
DESCRIPTION:Camille SAINT-SAËNS\nOratorio de Noël\, op. 12\n(Weihnachtsoratorium) \nAusführende: \nVokalsolistinnen und -solisten\nChor und Orchester\nder Kalvarienbergkirche\nElisabeth Zottele · Leitung
URL:https://katholisch-hernals.at/event/hochamt-zum-weihnachtsfest/
LOCATION:Kalvarienbergkirche\, Sankt-Bartholomäus-Platz\, Wien\, 1170\, Österreich
CATEGORIES:Gottesdienst,Musik (klassisch)
ORGANIZER;CN="Pfarre Hernals":MAILTO:kanzlei@kalvarienbergkirche.at
END:VEVENT
END:VCALENDAR