BEGIN:VCALENDAR
VERSION:2.0
PRODID:-//Pfarrverband Hernals - ECPv6.15.20//NONSGML v1.0//EN
CALSCALE:GREGORIAN
METHOD:PUBLISH
X-ORIGINAL-URL:https://katholisch-hernals.at
X-WR-CALDESC:Veranstaltungen für Pfarrverband Hernals
REFRESH-INTERVAL;VALUE=DURATION:PT1H
X-Robots-Tag:noindex
X-PUBLISHED-TTL:PT1H
BEGIN:VTIMEZONE
TZID:Europe/Vienna
BEGIN:DAYLIGHT
TZOFFSETFROM:+0100
TZOFFSETTO:+0200
TZNAME:CEST
DTSTART:20200329T010000
END:DAYLIGHT
BEGIN:STANDARD
TZOFFSETFROM:+0200
TZOFFSETTO:+0100
TZNAME:CET
DTSTART:20201025T010000
END:STANDARD
BEGIN:DAYLIGHT
TZOFFSETFROM:+0100
TZOFFSETTO:+0200
TZNAME:CEST
DTSTART:20210328T010000
END:DAYLIGHT
BEGIN:STANDARD
TZOFFSETFROM:+0200
TZOFFSETTO:+0100
TZNAME:CET
DTSTART:20211031T010000
END:STANDARD
BEGIN:DAYLIGHT
TZOFFSETFROM:+0100
TZOFFSETTO:+0200
TZNAME:CEST
DTSTART:20220327T010000
END:DAYLIGHT
BEGIN:STANDARD
TZOFFSETFROM:+0200
TZOFFSETTO:+0100
TZNAME:CET
DTSTART:20221030T010000
END:STANDARD
END:VTIMEZONE
BEGIN:VEVENT
DTSTART;TZID=Europe/Vienna:20210215T190000
DTEND;TZID=Europe/Vienna:20210215T193000
DTSTAMP:20260421T104020
CREATED:20210213T122434Z
LAST-MODIFIED:20210213T122940Z
UID:7563-1613415600-1613417400@katholisch-hernals.at
SUMMARY:Beten und lachen geht immer ...
DESCRIPTION:Herzliche Einladung zu einer fröhlich-besinnlichen Online Zeit am Rosenmontag! \nVia Zoom -> https://zoom.us/j/97908053745?pwd=UkF4aitGaEFlejlzLzNqSkRlNE9EUT09 \nMeeting-ID: 979 0805 3745\nKenncode: RD5Yxp
URL:https://katholisch-hernals.at/event/beten-und-lachen-geht-immer/
LOCATION:Online
CATEGORIES:Erwachsene,Gebet,Junge Erwachsene,Paare ohne Kinder,Senioren,Singles,Spiritualität
END:VEVENT
BEGIN:VEVENT
DTSTART;TZID=Europe/Vienna:20210221T100000
DTEND;TZID=Europe/Vienna:20210221T110000
DTSTAMP:20260421T104020
CREATED:20201014T081713Z
LAST-MODIFIED:20210211T064052Z
UID:6698-1613901600-1613905200@katholisch-hernals.at
SUMMARY:Lobpreismesse in Dornbach
DESCRIPTION:Lobpreis in Dornbach
URL:https://katholisch-hernals.at/event/lobpreis-in-dornbach-01-2-2-2-3-2/
LOCATION:Pfarre Dornbach – Kirche\, Rupertusplatz\, Wien\, 1170\, Österreich
CATEGORIES:Erwachsene,Fest,Gebet,Jugendliche 14+,Junge Erwachsene,Kinder,Musik (modern),Paare mit Kindern,Paare ohne Kinder,Singles,Spiritualität
ORGANIZER;CN="Pfarre Dornbach":MAILTO:kanzlei@pfarredornbach.at
END:VEVENT
BEGIN:VEVENT
DTSTART;TZID=Europe/Vienna:20210225T190000
DTEND;TZID=Europe/Vienna:20210225T200000
DTSTAMP:20260421T104020
CREATED:20210212T141128Z
LAST-MODIFIED:20210212T142041Z
UID:7539-1614279600-1614283200@katholisch-hernals.at
SUMMARY:Als die Zeit erfüllt war: Die Krisenzeit bestehen!
DESCRIPTION:Geistlicher Abend / Wort- Gottes-Feier\nmit Pfarrer Karl Engelmann
URL:https://katholisch-hernals.at/event/als-die-zeit-erfuellt-war-die-krisenzeit-bestehen/
LOCATION:Kalvarienbergkirche\, Sankt-Bartholomäus-Platz\, Wien\, 1170\, Österreich
CATEGORIES:Erwachsene,Gottesdienst,Weiterbildung
ORGANIZER;CN="Pfarre Hernals":MAILTO:kanzlei@kalvarienbergkirche.at
END:VEVENT
END:VCALENDAR