BEGIN:VCALENDAR
VERSION:2.0
PRODID:-//Pfarrverband Hernals - ECPv6.15.20//NONSGML v1.0//EN
CALSCALE:GREGORIAN
METHOD:PUBLISH
X-ORIGINAL-URL:https://katholisch-hernals.at
X-WR-CALDESC:Veranstaltungen für Pfarrverband Hernals
REFRESH-INTERVAL;VALUE=DURATION:PT1H
X-Robots-Tag:noindex
X-PUBLISHED-TTL:PT1H
BEGIN:VTIMEZONE
TZID:Europe/Vienna
BEGIN:DAYLIGHT
TZOFFSETFROM:+0100
TZOFFSETTO:+0200
TZNAME:CEST
DTSTART:20200329T010000
END:DAYLIGHT
BEGIN:STANDARD
TZOFFSETFROM:+0200
TZOFFSETTO:+0100
TZNAME:CET
DTSTART:20201025T010000
END:STANDARD
BEGIN:DAYLIGHT
TZOFFSETFROM:+0100
TZOFFSETTO:+0200
TZNAME:CEST
DTSTART:20210328T010000
END:DAYLIGHT
BEGIN:STANDARD
TZOFFSETFROM:+0200
TZOFFSETTO:+0100
TZNAME:CET
DTSTART:20211031T010000
END:STANDARD
BEGIN:DAYLIGHT
TZOFFSETFROM:+0100
TZOFFSETTO:+0200
TZNAME:CEST
DTSTART:20220327T010000
END:DAYLIGHT
BEGIN:STANDARD
TZOFFSETFROM:+0200
TZOFFSETTO:+0100
TZNAME:CET
DTSTART:20221030T010000
END:STANDARD
END:VTIMEZONE
BEGIN:VEVENT
DTSTART;TZID=Europe/Vienna:20211006T190000
DTEND;TZID=Europe/Vienna:20211006T203000
DTSTAMP:20260421T114732
CREATED:20210917T112659Z
LAST-MODIFIED:20210917T114742Z
UID:8582-1633546800-1633552200@katholisch-hernals.at
SUMMARY:Infoabend Firmvorbereitung 2021-22
DESCRIPTION:Infoabend zur gemeinsamen Firmvorbereitung 2021-22 im Pfarrverband Hernals für alle interessierten Jugendlichen\, Eltern\, … \nACHTUNG! Bitte einen „3G-Nachweis“ entsprechend der gültigen Verordnung mitbringen! \nAlle weiteren Infos zur Firmvorbereitung unter https://katholisch-hernals.at/category/firmung/
URL:https://katholisch-hernals.at/event/infoabend-firmvorbereitung-2021-22/
LOCATION:Pfarre Dornbach – Pfarrsaal\, Rupertusplatz 4\, Wien\, 1170\, Österreich
CATEGORIES:Firmung,Jugendliche 14+,Sakrament
ATTACH;FMTTYPE=image/jpeg:https://katholisch-hernals.at/wp-content/uploads/2021/09/RF204662_qu-scaled.jpg
ORGANIZER;CN="Firmteam":MAILTO:firmung@katholisch-hernals.at
END:VEVENT
END:VCALENDAR