BEGIN:VCALENDAR
VERSION:2.0
PRODID:-//Pfarrverband Hernals - ECPv6.15.20//NONSGML v1.0//EN
CALSCALE:GREGORIAN
METHOD:PUBLISH
X-ORIGINAL-URL:https://katholisch-hernals.at
X-WR-CALDESC:Veranstaltungen für Pfarrverband Hernals
REFRESH-INTERVAL;VALUE=DURATION:PT1H
X-Robots-Tag:noindex
X-PUBLISHED-TTL:PT1H
BEGIN:VTIMEZONE
TZID:Europe/Vienna
BEGIN:DAYLIGHT
TZOFFSETFROM:+0100
TZOFFSETTO:+0200
TZNAME:CEST
DTSTART:20230326T010000
END:DAYLIGHT
BEGIN:STANDARD
TZOFFSETFROM:+0200
TZOFFSETTO:+0100
TZNAME:CET
DTSTART:20231029T010000
END:STANDARD
BEGIN:DAYLIGHT
TZOFFSETFROM:+0100
TZOFFSETTO:+0200
TZNAME:CEST
DTSTART:20240331T010000
END:DAYLIGHT
BEGIN:STANDARD
TZOFFSETFROM:+0200
TZOFFSETTO:+0100
TZNAME:CET
DTSTART:20241027T010000
END:STANDARD
BEGIN:DAYLIGHT
TZOFFSETFROM:+0100
TZOFFSETTO:+0200
TZNAME:CEST
DTSTART:20250330T010000
END:DAYLIGHT
BEGIN:STANDARD
TZOFFSETFROM:+0200
TZOFFSETTO:+0100
TZNAME:CET
DTSTART:20251026T010000
END:STANDARD
END:VTIMEZONE
BEGIN:VEVENT
DTSTART;TZID=Europe/Vienna:20241026T074500
DTEND;TZID=Europe/Vienna:20241029T163000
DTSTAMP:20260422T104420
CREATED:20240617T132147Z
LAST-MODIFIED:20240617T132201Z
UID:9519-1729928700-1730219400@katholisch-hernals.at
SUMMARY:Firmvorbereitung 24/25 - Wallfahrt
DESCRIPTION:Firmwallfahrt: Mistelbach – Wien Dornbach \nTreffpunkt: 26.10.2024\, 7:45 S-Bahn-Station Hernals
URL:https://katholisch-hernals.at/event/firmvorbereitung-23-24-wallfahrt-2/
CATEGORIES:Firmung,Wallfahrt
ATTACH;FMTTYPE=image/jpeg:https://katholisch-hernals.at/wp-content/uploads/2020/10/2017_10_26_Firmwallfahrt1_Meischl-Tobias-scaled.jpg
ORGANIZER;CN="Firmteam":MAILTO:firmung@katholisch-hernals.at
END:VEVENT
END:VCALENDAR