BEGIN:VCALENDAR
VERSION:2.0
PRODID:-//Pfarrverband Hernals - ECPv6.15.20//NONSGML v1.0//EN
CALSCALE:GREGORIAN
METHOD:PUBLISH
X-ORIGINAL-URL:https://katholisch-hernals.at
X-WR-CALDESC:Veranstaltungen für Pfarrverband Hernals
REFRESH-INTERVAL;VALUE=DURATION:PT1H
X-Robots-Tag:noindex
X-PUBLISHED-TTL:PT1H
BEGIN:VTIMEZONE
TZID:Europe/Vienna
BEGIN:DAYLIGHT
TZOFFSETFROM:+0100
TZOFFSETTO:+0200
TZNAME:CEST
DTSTART:20190331T010000
END:DAYLIGHT
BEGIN:STANDARD
TZOFFSETFROM:+0200
TZOFFSETTO:+0100
TZNAME:CET
DTSTART:20191027T010000
END:STANDARD
BEGIN:DAYLIGHT
TZOFFSETFROM:+0100
TZOFFSETTO:+0200
TZNAME:CEST
DTSTART:20200329T010000
END:DAYLIGHT
BEGIN:STANDARD
TZOFFSETFROM:+0200
TZOFFSETTO:+0100
TZNAME:CET
DTSTART:20201025T010000
END:STANDARD
BEGIN:DAYLIGHT
TZOFFSETFROM:+0100
TZOFFSETTO:+0200
TZNAME:CEST
DTSTART:20210328T010000
END:DAYLIGHT
BEGIN:STANDARD
TZOFFSETFROM:+0200
TZOFFSETTO:+0100
TZNAME:CET
DTSTART:20211031T010000
END:STANDARD
END:VTIMEZONE
BEGIN:VEVENT
DTSTART;TZID=Europe/Vienna:20201215T063000
DTEND;TZID=Europe/Vienna:20201215T073000
DTSTAMP:20260424T004009
CREATED:20191105T123612Z
LAST-MODIFIED:20201215T155540Z
UID:4021-1608013800-1608017400@katholisch-hernals.at
SUMMARY:Rorate in Dornbach
DESCRIPTION:beim Mariazeller Altar
URL:https://katholisch-hernals.at/event/rorate-in-dornbach-2-3/
LOCATION:Pfarre Dornbach – Kirche\, Rupertusplatz\, Wien\, 1170\, Österreich
CATEGORIES:Erwachsene,Gebet,Gottesdienst,Jugendliche 14+,Junge Erwachsene,Kinder 10-14,Paare ohne Kinder,Senioren,Singles,Spiritualität
ATTACH;FMTTYPE=image/jpeg:https://katholisch-hernals.at/wp-content/uploads/2017/11/Gobelin_Maria_Ausschnitt_Engel.jpg
ORGANIZER;CN="Pfarre Dornbach":MAILTO:kanzlei@pfarredornbach.at
END:VEVENT
BEGIN:VEVENT
DTSTART;TZID=Europe/Vienna:20201222T063000
DTEND;TZID=Europe/Vienna:20201222T073000
DTSTAMP:20260424T004009
CREATED:20201210T094101Z
LAST-MODIFIED:20201210T094101Z
UID:7149-1608618600-1608622200@katholisch-hernals.at
SUMMARY:Rorate in Dornbach
DESCRIPTION:beim Mariazeller Altar
URL:https://katholisch-hernals.at/event/rorate-in-dornbach-2-3-2/
LOCATION:Pfarre Dornbach – Kirche\, Rupertusplatz\, Wien\, 1170\, Österreich
CATEGORIES:Erwachsene,Gebet,Gottesdienst,Jugendliche 14+,Junge Erwachsene,Kinder 10-14,Paare ohne Kinder,Senioren,Singles,Spiritualität
ATTACH;FMTTYPE=image/jpeg:https://katholisch-hernals.at/wp-content/uploads/2017/11/Gobelin_Maria_Ausschnitt_Engel.jpg
ORGANIZER;CN="Pfarre Dornbach":MAILTO:kanzlei@pfarredornbach.at
END:VEVENT
END:VCALENDAR