BEGIN:VCALENDAR
VERSION:2.0
PRODID:-//Pfarrverband Hernals - ECPv6.15.20//NONSGML v1.0//EN
CALSCALE:GREGORIAN
METHOD:PUBLISH
X-ORIGINAL-URL:https://katholisch-hernals.at
X-WR-CALDESC:Veranstaltungen für Pfarrverband Hernals
REFRESH-INTERVAL;VALUE=DURATION:PT1H
X-Robots-Tag:noindex
X-PUBLISHED-TTL:PT1H
BEGIN:VTIMEZONE
TZID:Europe/Vienna
BEGIN:DAYLIGHT
TZOFFSETFROM:+0100
TZOFFSETTO:+0200
TZNAME:CEST
DTSTART:20180325T010000
END:DAYLIGHT
BEGIN:STANDARD
TZOFFSETFROM:+0200
TZOFFSETTO:+0100
TZNAME:CET
DTSTART:20181028T010000
END:STANDARD
BEGIN:DAYLIGHT
TZOFFSETFROM:+0100
TZOFFSETTO:+0200
TZNAME:CEST
DTSTART:20190331T010000
END:DAYLIGHT
BEGIN:STANDARD
TZOFFSETFROM:+0200
TZOFFSETTO:+0100
TZNAME:CET
DTSTART:20191027T010000
END:STANDARD
BEGIN:DAYLIGHT
TZOFFSETFROM:+0100
TZOFFSETTO:+0200
TZNAME:CEST
DTSTART:20200329T010000
END:DAYLIGHT
BEGIN:STANDARD
TZOFFSETFROM:+0200
TZOFFSETTO:+0100
TZNAME:CET
DTSTART:20201025T010000
END:STANDARD
END:VTIMEZONE
BEGIN:VEVENT
DTSTART;TZID=Europe/Vienna:20191231T170000
DTEND;TZID=Europe/Vienna:20191231T180000
DTSTAMP:20260426T033823
CREATED:20191106T095358Z
LAST-MODIFIED:20191113T133631Z
UID:4092-1577811600-1577815200@katholisch-hernals.at
SUMMARY:Jahresschlussgottesdienst
DESCRIPTION:
URL:https://katholisch-hernals.at/event/jahresschlussgottesdienst/
LOCATION:Sühnekirche\, Dr.-Josef-Resch-Platz 12\, Wien\, 1170\, Österreich
CATEGORIES:Erwachsene,Fest,Gottesdienst,Jugendliche 14+,Junge Erwachsene,Kinder 10-14,Paare ohne Kinder,Schulkinder 6-10,Senioren,Singles
ORGANIZER;CN="S%C3%BChnekirche":MAILTO:pfarramt-suehnekirche@chello.at
END:VEVENT
END:VCALENDAR